BEGIN:VCALENDAR
VERSION:2.0
PRODID:-//https://mail.taneycountyrepublicans.org//NONSGML kigkonsult.se iCalcreator 2.41.71//
CALSCALE:GREGORIAN
METHOD:PUBLISH
UID:30313834-3233-4561-a239-363562343535
X-WR-CALNAME:JCal Pro Calendar
X-WR-CALDESC:Your online events calendar
X-WR-TIMEZONE:America/Chicago
BEGIN:VTIMEZONE
TZID:America/Chicago
TZUNTIL:20271107T070000Z
BEGIN:STANDARD
TZNAME:CST
DTSTART:20251102T020000
TZOFFSETFROM:-0500
TZOFFSETTO:-0600
RDATE:20261101T020000
END:STANDARD
BEGIN:DAYLIGHT
TZNAME:CDT
DTSTART:20260308T020000
TZOFFSETFROM:-0600
TZOFFSETTO:-0500
RDATE:20270314T020000
END:DAYLIGHT
END:VTIMEZONE
BEGIN:VEVENT
UID:20251101T000000UTC-0556c57xDh@https://taneycountyrepublicans.org/
DTSTAMP:20260425T151158Z
CATEGORIES:This Day in Missouri
DESCRIPTION:<p><span style='font-family: arial\, helvetica\, sans-serif\; f
 ont-size: 12pt\; color: #000000\;'>On November 1\, the following notable h
 istorical events related to Missouri occurred:</span></p>\n<ul>\n<li><span
  style='font-family: arial\, helvetica\, sans-serif\; font-size: 12pt\; co
 lor: #000000\;'>1806: The Lewis and Clark Expedition\, having returned to 
 St. Louis in late September\, continued to be celebrated on or around Nove
 mber 1\, with local festivities in St. Louis honoring their exploration of
  the Louisiana Purchase\, reinforcing Missouri’s role as a western hub.</s
 pan></li>\n<li><span style='font-family: arial\, helvetica\, sans-serif\; 
 font-size: 12pt\; color: #000000\;'>1856: During the “Bleeding Kansas” con
 flict\, pro-slavery “Border Ruffians” from Missouri were active on or arou
 nd November 1\, crossing into Kansas to disrupt anti-slavery efforts\, esc
 alating violence and highlighting Missouri’s role in the slavery debate.</
 span></li>\n<li><span style='font-family: arial\, helvetica\, sans-serif\;
  font-size: 12pt\; color: #000000\;'>1861: During the Civil War\, Missouri
  remained a battleground. On or around November 1\, Union forces under Gen
 eral John C. Frémont were reorganizing in St. Louis\, while Confederate fo
 rces planned guerrilla operations\, reflecting the state’s ongoing conflic
 t.</span></li>\n<li><span style='font-family: arial\, helvetica\, sans-ser
 if\; font-size: 12pt\; color: #000000\;'>1888: The St. Louis-based Anheuse
 r-Busch brewery expanded its bottling operations around November 1\, enhan
 cing Budweiser’s national distribution and reinforcing Missouri’s prominen
 ce in the brewing industry.</span></li>\n<li><span style='font-family: ari
 al\, helvetica\, sans-serif\; font-size: 12pt\; color: #000000\;'>1933: Th
 e Great Depression impacted Missouri\, and on or around November 1\, New D
 eal-funded Works Progress Administration projects in Kansas City continued
  constructing public infrastructure\, providing jobs and economic relief.<
 /span></li>\n<li><span style='font-family: arial\, helvetica\, sans-serif\
 ; font-size: 12pt\; color: #000000\;'>2004: The St. Louis Cardinals\, havi
 ng lost the World Series to the Boston Red Sox\, held a season-end rally i
 n St. Louis on or around November 1\, with fans honoring Albert Pujols and
  the team’s strong performance\, reinforcing Missouri’s baseball legacy.</
 span></li>\n</ul>
DTSTART;TZID=America/Chicago:20251101T000000
DTEND;TZID=America/Chicago:20251101T235959
RRULE:FREQ=YEARLY;COUNT=3;INTERVAL=1
SUMMARY:November 1st This Day in Missouri
URL:https://mail.taneycountyrepublicans.org/odds-n-ends/this-week-in-missou
 ri/24-this-day-in-missouri/2199-november-1st-this-day-in-missouri.html
X-ALT-DESC;FMTTYPE=TEXT/HTML:<p><span style='font-family: arial\, helvetica
 \, sans-serif\; font-size: 12pt\; color: #000000\;'>On November 1\, the fo
 llowing notable historical events related to Missouri occurred:</span></p>
 \n<ul>\n<li><span style='font-family: arial\, helvetica\, sans-serif\; fon
 t-size: 12pt\; color: #000000\;'>1806: The Lewis and Clark Expedition\, ha
 ving returned to St. Louis in late September\, continued to be celebrated 
 on or around November 1\, with local festivities in St. Louis honoring the
 ir exploration of the Louisiana Purchase\, reinforcing Missouri’s role as 
 a western hub.</span></li>\n<li><span style='font-family: arial\, helvetic
 a\, sans-serif\; font-size: 12pt\; color: #000000\;'>1856: During the “Ble
 eding Kansas” conflict\, pro-slavery “Border Ruffians” from Missouri were 
 active on or around November 1\, crossing into Kansas to disrupt anti-slav
 ery efforts\, escalating violence and highlighting Missouri’s role in the 
 slavery debate.</span></li>\n<li><span style='font-family: arial\, helveti
 ca\, sans-serif\; font-size: 12pt\; color: #000000\;'>1861: During the Civ
 il War\, Missouri remained a battleground. On or around November 1\, Union
  forces under General John C. Frémont were reorganizing in St. Louis\, whi
 le Confederate forces planned guerrilla operations\, reflecting the state’
 s ongoing conflict.</span></li>\n<li><span style='font-family: arial\, hel
 vetica\, sans-serif\; font-size: 12pt\; color: #000000\;'>1888: The St. Lo
 uis-based Anheuser-Busch brewery expanded its bottling operations around N
 ovember 1\, enhancing Budweiser’s national distribution and reinforcing Mi
 ssouri’s prominence in the brewing industry.</span></li>\n<li><span style=
 'font-family: arial\, helvetica\, sans-serif\; font-size: 12pt\; color: #0
 00000\;'>1933: The Great Depression impacted Missouri\, and on or around N
 ovember 1\, New Deal-funded Works Progress Administration projects in Kans
 as City continued constructing public infrastructure\, providing jobs and 
 economic relief.</span></li>\n<li><span style='font-family: arial\, helvet
 ica\, sans-serif\; font-size: 12pt\; color: #000000\;'>2004: The St. Louis
  Cardinals\, having lost the World Series to the Boston Red Sox\, held a s
 eason-end rally in St. Louis on or around November 1\, with fans honoring 
 Albert Pujols and the team’s strong performance\, reinforcing Missouri’s b
 aseball legacy.</span></li>\n</ul>
END:VEVENT
END:VCALENDAR
