BEGIN:VCALENDAR
VERSION:2.0
PRODID:-//https://mail.taneycountyrepublicans.org//NONSGML kigkonsult.se iCalcreator 2.41.71//
CALSCALE:GREGORIAN
METHOD:PUBLISH
UID:66326639-3364-4265-a339-386336636461
X-WR-CALNAME:JCal Pro Calendar
X-WR-CALDESC:Your online events calendar
X-WR-TIMEZONE:America/Chicago
BEGIN:VTIMEZONE
TZID:America/Chicago
TZUNTIL:20271107T070000Z
BEGIN:STANDARD
TZNAME:CST
DTSTART:20251102T020000
TZOFFSETFROM:-0500
TZOFFSETTO:-0600
RDATE:20261101T020000
END:STANDARD
BEGIN:DAYLIGHT
TZNAME:CDT
DTSTART:20260308T020000
TZOFFSETFROM:-0600
TZOFFSETTO:-0500
RDATE:20270314T020000
END:DAYLIGHT
END:VTIMEZONE
BEGIN:VEVENT
UID:20250703T090000UTC-6104CwhGDC@https://taneycountyrepublicans.org/
DTSTAMP:20260425T213452Z
CATEGORIES:This Day in Missouri
DESCRIPTION:<p><span style='font-family: arial\, helvetica\, sans-serif\; f
 ont-size: 12pt\; color: #000000\;'>On July 3\, the following notable histo
 rical events related to Missouri have been recorded:</span></p>\n<ul>\n<li
 ><span style='font-family: arial\, helvetica\, sans-serif\; font-size: 12p
 t\; color: #000000\;'>1804: The Lewis and Clark Expedition\, exploring the
  Louisiana Purchase\, was traveling along the Missouri River. On or around
  July 3\, the expedition noted significant observations of the region’s ge
 ography and Native American tribes near present-day Atchison County\, Miss
 ouri\, contributing to the mapping of the American West.</span></li>\n<li>
 <span style='font-family: arial\, helvetica\, sans-serif\; font-size: 12pt
 \; color: #000000\;'>1861: During the Civil War\, Missouri was embroiled i
 n conflict. On July 3\, Union forces under General Nathaniel Lyon were con
 solidating control in the state\, with minor skirmishes occurring around S
 pringfield and other areas as they countered Confederate militias.</span><
 /li>\n<li><span style='font-family: arial\, helvetica\, sans-serif\; font-
 size: 12pt\; color: #000000\;'>1886: The St. Louis Post-Dispatch\, one of 
 Missouri’s major newspapers\, published a notable investigative piece on o
 r around July 3 exposing local government corruption. This underscored St.
  Louis’s growing influence as a hub for journalism and political reform.</
 span></li>\n</ul>
DTSTART;TZID=America/Chicago:20250703T000000
DTEND;TZID=America/Chicago:20250703T235959
RRULE:FREQ=YEARLY;COUNT=3;INTERVAL=1
SUMMARY:July 3rd This Day in Missouri
URL:https://mail.taneycountyrepublicans.org/odds-n-ends/this-week-in-missou
 ri/24-this-day-in-missouri/1655-july-3rd-this-day-in-missouri.html
X-ALT-DESC;FMTTYPE=TEXT/HTML:<p><span style='font-family: arial\, helvetica
 \, sans-serif\; font-size: 12pt\; color: #000000\;'>On July 3\, the follow
 ing notable historical events related to Missouri have been recorded:</spa
 n></p>\n<ul>\n<li><span style='font-family: arial\, helvetica\, sans-serif
 \; font-size: 12pt\; color: #000000\;'>1804: The Lewis and Clark Expeditio
 n\, exploring the Louisiana Purchase\, was traveling along the Missouri Ri
 ver. On or around July 3\, the expedition noted significant observations o
 f the region’s geography and Native American tribes near present-day Atchi
 son County\, Missouri\, contributing to the mapping of the American West.<
 /span></li>\n<li><span style='font-family: arial\, helvetica\, sans-serif\
 ; font-size: 12pt\; color: #000000\;'>1861: During the Civil War\, Missour
 i was embroiled in conflict. On July 3\, Union forces under General Nathan
 iel Lyon were consolidating control in the state\, with minor skirmishes o
 ccurring around Springfield and other areas as they countered Confederate 
 militias.</span></li>\n<li><span style='font-family: arial\, helvetica\, s
 ans-serif\; font-size: 12pt\; color: #000000\;'>1886: The St. Louis Post-D
 ispatch\, one of Missouri’s major newspapers\, published a notable investi
 gative piece on or around July 3 exposing local government corruption. Thi
 s underscored St. Louis’s growing influence as a hub for journalism and po
 litical reform.</span></li>\n</ul>
END:VEVENT
END:VCALENDAR
