BEGIN:VCALENDAR
VERSION:2.0
PRODID:-//https://mail.taneycountyrepublicans.org//NONSGML kigkonsult.se iCalcreator 2.41.71//
CALSCALE:GREGORIAN
METHOD:PUBLISH
UID:35353163-6536-4133-b762-323064343961
X-WR-CALNAME:JCal Pro Calendar
X-WR-CALDESC:Your online events calendar
X-WR-TIMEZONE:America/Chicago
BEGIN:VTIMEZONE
TZID:America/Chicago
TZUNTIL:20271107T070000Z
BEGIN:STANDARD
TZNAME:CST
DTSTART:20251102T020000
TZOFFSETFROM:-0500
TZOFFSETTO:-0600
RDATE:20261101T020000
END:STANDARD
BEGIN:DAYLIGHT
TZNAME:CDT
DTSTART:20260308T020000
TZOFFSETFROM:-0600
TZOFFSETTO:-0500
RDATE:20270314T020000
END:DAYLIGHT
END:VTIMEZONE
BEGIN:VEVENT
UID:20251123T000000UTC-32468zEJzp@https://taneycountyrepublicans.org/
DTSTAMP:20260420T122048Z
CATEGORIES:This Day in Missouri
DESCRIPTION:<p><span style='font-family: arial\, helvetica\, sans-serif\; f
 ont-size: 12pt\; color: #000000\;'>On November 23\, the following notable 
 historical events related to Missouri occurred:</span></p>\n<ul>\n<li><spa
 n style='font-family: arial\, helvetica\, sans-serif\; font-size: 12pt\; c
 olor: #000000\;'>1806: The Lewis and Clark Expedition\, having returned to
  St. Louis in late September\, continued to be celebrated on or around Nov
 ember 23\, with local festivities in St. Louis honoring their exploration 
 of the Louisiana Purchase\, reinforcing Missouri’s role as a western hub.<
 /span></li>\n<li><span style='font-family: arial\, helvetica\, sans-serif\
 ; font-size: 12pt\; color: #000000\;'>1856: During the “Bleeding Kansas” c
 onflict\, pro-slavery “Border Ruffians” from Missouri were active on or ar
 ound November 23\, crossing into Kansas to intimidate anti-slavery settler
 s\, escalating violence and highlighting Missouri’s role in the slavery de
 bate.</span></li>\n<li><span style='font-family: arial\, helvetica\, sans-
 serif\; font-size: 12pt\; color: #000000\;'>1861: During the Civil War\, M
 issouri was a hotbed of conflict. On or around November 23\, Union forces 
 under General Henry W. Halleck were consolidating control in St. Louis\, w
 hile Confederate guerrilla operations persisted in rural Missouri.</span><
 /li>\n<li><span style='font-family: arial\, helvetica\, sans-serif\; font-
 size: 12pt\; color: #000000\;'>1888: The Missouri Botanical Garden in St. 
 Louis hosted a public exhibition around November 23\, showcasing rare plan
 t species and reinforcing its reputation as a leading botanical research c
 enter.</span></li>\n<li><span style='font-family: arial\, helvetica\, sans
 -serif\; font-size: 12pt\; color: #000000\;'>1929: The Great Depression de
 epened in Missouri. On or around November 23\, businesses in Kansas City f
 aced increasing financial difficulties\, reflecting the state’s growing ec
 onomic crisis.</span></li>\n<li><span style='font-family: arial\, helvetic
 a\, sans-serif\; font-size: 12pt\; color: #000000\;'>1963: In the aftermat
 h of President John F. Kennedy’s assassination\, Missouri held memorial se
 rvices in St. Louis and Kansas City on or around November 23\, reflecting 
 the state’s mourning alongside the nation.</span></li>\n</ul>
DTSTART;TZID=America/Chicago:20251123T000000
DTEND;TZID=America/Chicago:20251123T235959
RRULE:FREQ=YEARLY;COUNT=3;INTERVAL=1
SUMMARY:November 23rd This Day in Missouri
URL:https://mail.taneycountyrepublicans.org/odds-n-ends/this-week-in-missou
 ri/24-this-day-in-missouri/2265-november-23rd-this-day-in-missouri.html
X-ALT-DESC;FMTTYPE=TEXT/HTML:<p><span style='font-family: arial\, helvetica
 \, sans-serif\; font-size: 12pt\; color: #000000\;'>On November 23\, the f
 ollowing notable historical events related to Missouri occurred:</span></p
 >\n<ul>\n<li><span style='font-family: arial\, helvetica\, sans-serif\; fo
 nt-size: 12pt\; color: #000000\;'>1806: The Lewis and Clark Expedition\, h
 aving returned to St. Louis in late September\, continued to be celebrated
  on or around November 23\, with local festivities in St. Louis honoring t
 heir exploration of the Louisiana Purchase\, reinforcing Missouri’s role a
 s a western hub.</span></li>\n<li><span style='font-family: arial\, helvet
 ica\, sans-serif\; font-size: 12pt\; color: #000000\;'>1856: During the “B
 leeding Kansas” conflict\, pro-slavery “Border Ruffians” from Missouri wer
 e active on or around November 23\, crossing into Kansas to intimidate ant
 i-slavery settlers\, escalating violence and highlighting Missouri’s role 
 in the slavery debate.</span></li>\n<li><span style='font-family: arial\, 
 helvetica\, sans-serif\; font-size: 12pt\; color: #000000\;'>1861: During 
 the Civil War\, Missouri was a hotbed of conflict. On or around November 2
 3\, Union forces under General Henry W. Halleck were consolidating control
  in St. Louis\, while Confederate guerrilla operations persisted in rural 
 Missouri.</span></li>\n<li><span style='font-family: arial\, helvetica\, s
 ans-serif\; font-size: 12pt\; color: #000000\;'>1888: The Missouri Botanic
 al Garden in St. Louis hosted a public exhibition around November 23\, sho
 wcasing rare plant species and reinforcing its reputation as a leading bot
 anical research center.</span></li>\n<li><span style='font-family: arial\,
  helvetica\, sans-serif\; font-size: 12pt\; color: #000000\;'>1929: The Gr
 eat Depression deepened in Missouri. On or around November 23\, businesses
  in Kansas City faced increasing financial difficulties\, reflecting the s
 tate’s growing economic crisis.</span></li>\n<li><span style='font-family:
  arial\, helvetica\, sans-serif\; font-size: 12pt\; color: #000000\;'>1963
 : In the aftermath of President John F. Kennedy’s assassination\, Missouri
  held memorial services in St. Louis and Kansas City on or around November
  23\, reflecting the state’s mourning alongside the nation.</span></li>\n<
 /ul>
END:VEVENT
END:VCALENDAR
