BEGIN:VCALENDAR
VERSION:2.0
PRODID:-//https://mail.taneycountyrepublicans.org//NONSGML kigkonsult.se iCalcreator 2.41.71//
CALSCALE:GREGORIAN
METHOD:PUBLISH
UID:34653436-3464-4362-b163-633861303330
X-WR-CALNAME:JCal Pro Calendar
X-WR-CALDESC:Your online events calendar
X-WR-TIMEZONE:America/Chicago
BEGIN:VTIMEZONE
TZID:America/Chicago
TZUNTIL:20271107T070000Z
BEGIN:STANDARD
TZNAME:CST
DTSTART:20251102T020000
TZOFFSETFROM:-0500
TZOFFSETTO:-0600
RDATE:20261101T020000
END:STANDARD
BEGIN:DAYLIGHT
TZNAME:CDT
DTSTART:20260308T020000
TZOFFSETFROM:-0600
TZOFFSETTO:-0500
RDATE:20270314T020000
END:DAYLIGHT
END:VTIMEZONE
BEGIN:VEVENT
UID:20251117T000000UTC-6776kCU3ww@https://taneycountyrepublicans.org/
DTSTAMP:20260420T113856Z
CATEGORIES:This Day in Missouri
DESCRIPTION:<p><span style='font-family: arial\, helvetica\, sans-serif\; f
 ont-size: 12pt\; color: #000000\;'>On November 17\, the following notable 
 historical events related to Missouri occurred:</span></p>\n<ul>\n<li><spa
 n style='font-family: arial\, helvetica\, sans-serif\; font-size: 12pt\; c
 olor: #000000\;'>1806: The Lewis and Clark Expedition\, having returned to
  St. Louis in late September\, continued to be celebrated on or around Nov
 ember 17\, with local festivities in St. Louis honoring their exploration 
 of the Louisiana Purchase\, reinforcing Missouri’s role as a western hub.<
 /span></li>\n<li><span style='font-family: arial\, helvetica\, sans-serif\
 ; font-size: 12pt\; color: #000000\;'>1856: During the “Bleeding Kansas” c
 onflict\, pro-slavery “Border Ruffians” from Missouri were active on or ar
 ound November 17\, crossing into Kansas to disrupt anti-slavery efforts\, 
 escalating violence and highlighting Missouri’s role in the slavery debate
 .</span></li>\n<li><span style='font-family: arial\, helvetica\, sans-seri
 f\; font-size: 12pt\; color: #000000\;'>1861: During the Civil War\, Misso
 uri remained a battleground. On or around November 17\, Union forces under
  General Henry W. Halleck were reorganizing in St. Louis to consolidate Un
 ion control\, while Confederate guerrilla operations continued to challeng
 e stability in the state.</span></li>\n<li><span style='font-family: arial
 \, helvetica\, sans-serif\; font-size: 12pt\; color: #000000\;'>1888: The 
 Missouri Pacific Railroad expanded its network through southeast Missouri 
 around November 17\, connecting Cape Girardeau to other regions and boosti
 ng the state’s economic infrastructure.</span></li>\n<li><span style='font
 -family: arial\, helvetica\, sans-serif\; font-size: 12pt\; color: #000000
 \;'>1929: The Great Depression deepened in Missouri. On or around November
  17\, businesses in Kansas City faced increasing financial difficulties\, 
 reflecting the state’s growing economic crisis.</span></li>\n<li><span sty
 le='font-family: arial\, helvetica\, sans-serif\; font-size: 12pt\; color:
  #000000\;'>2004: The St. Louis Cardinals held a season-end fan appreciati
 on event in St. Louis on or around November 17\, following their World Ser
 ies loss to the Boston Red Sox\, honoring Albert Pujols and the team’s str
 ong performance\, reinforcing Missouri’s baseball legacy.</span></li>\n</u
 l>
DTSTART;TZID=America/Chicago:20251117T000000
DTEND;TZID=America/Chicago:20251117T235959
RRULE:FREQ=YEARLY;COUNT=3;INTERVAL=1
SUMMARY:November 17th This Day in Missouri
URL:https://mail.taneycountyrepublicans.org/odds-n-ends/this-week-in-missou
 ri/24-this-day-in-missouri/2247-november-17th-this-day-in-missouri.html
X-ALT-DESC;FMTTYPE=TEXT/HTML:<p><span style='font-family: arial\, helvetica
 \, sans-serif\; font-size: 12pt\; color: #000000\;'>On November 17\, the f
 ollowing notable historical events related to Missouri occurred:</span></p
 >\n<ul>\n<li><span style='font-family: arial\, helvetica\, sans-serif\; fo
 nt-size: 12pt\; color: #000000\;'>1806: The Lewis and Clark Expedition\, h
 aving returned to St. Louis in late September\, continued to be celebrated
  on or around November 17\, with local festivities in St. Louis honoring t
 heir exploration of the Louisiana Purchase\, reinforcing Missouri’s role a
 s a western hub.</span></li>\n<li><span style='font-family: arial\, helvet
 ica\, sans-serif\; font-size: 12pt\; color: #000000\;'>1856: During the “B
 leeding Kansas” conflict\, pro-slavery “Border Ruffians” from Missouri wer
 e active on or around November 17\, crossing into Kansas to disrupt anti-s
 lavery efforts\, escalating violence and highlighting Missouri’s role in t
 he slavery debate.</span></li>\n<li><span style='font-family: arial\, helv
 etica\, sans-serif\; font-size: 12pt\; color: #000000\;'>1861: During the 
 Civil War\, Missouri remained a battleground. On or around November 17\, U
 nion forces under General Henry W. Halleck were reorganizing in St. Louis 
 to consolidate Union control\, while Confederate guerrilla operations cont
 inued to challenge stability in the state.</span></li>\n<li><span style='f
 ont-family: arial\, helvetica\, sans-serif\; font-size: 12pt\; color: #000
 000\;'>1888: The Missouri Pacific Railroad expanded its network through so
 utheast Missouri around November 17\, connecting Cape Girardeau to other r
 egions and boosting the state’s economic infrastructure.</span></li>\n<li>
 <span style='font-family: arial\, helvetica\, sans-serif\; font-size: 12pt
 \; color: #000000\;'>1929: The Great Depression deepened in Missouri. On o
 r around November 17\, businesses in Kansas City faced increasing financia
 l difficulties\, reflecting the state’s growing economic crisis.</span></l
 i>\n<li><span style='font-family: arial\, helvetica\, sans-serif\; font-si
 ze: 12pt\; color: #000000\;'>2004: The St. Louis Cardinals held a season-e
 nd fan appreciation event in St. Louis on or around November 17\, followin
 g their World Series loss to the Boston Red Sox\, honoring Albert Pujols a
 nd the team’s strong performance\, reinforcing Missouri’s baseball legacy.
 </span></li>\n</ul>
END:VEVENT
END:VCALENDAR
