BEGIN:VCALENDAR
VERSION:2.0
PRODID:-//https://mail.taneycountyrepublicans.org//NONSGML kigkonsult.se iCalcreator 2.41.71//
CALSCALE:GREGORIAN
METHOD:PUBLISH
UID:33623737-6638-4466-b563-656361653336
X-WR-CALNAME:JCal Pro Calendar
X-WR-CALDESC:Your online events calendar
X-WR-TIMEZONE:America/Chicago
BEGIN:VTIMEZONE
TZID:America/Chicago
TZUNTIL:20271107T070000Z
BEGIN:STANDARD
TZNAME:CST
DTSTART:20251102T020000
TZOFFSETFROM:-0500
TZOFFSETTO:-0600
RDATE:20261101T020000
END:STANDARD
BEGIN:DAYLIGHT
TZNAME:CDT
DTSTART:20260308T020000
TZOFFSETFROM:-0600
TZOFFSETTO:-0500
RDATE:20270314T020000
END:DAYLIGHT
END:VTIMEZONE
BEGIN:VEVENT
UID:20251115T000000UTC-07532DRCwd@https://taneycountyrepublicans.org/
DTSTAMP:20260422T143250Z
CATEGORIES:This Day in Missouri
DESCRIPTION:<p><span style='font-family: arial\, helvetica\, sans-serif\; f
 ont-size: 12pt\; color: #000000\;'>On November 15\, the following notable 
 historical events related to Missouri occurred:</span></p>\n<ul>\n<li><spa
 n style='font-family: arial\, helvetica\, sans-serif\; font-size: 12pt\; c
 olor: #000000\;'>1806: The Lewis and Clark Expedition\, having returned to
  St. Louis in late September\, continued to be celebrated on or around Nov
 ember 15\, with local festivities in St. Louis honoring their exploration 
 of the Louisiana Purchase\, reinforcing Missouri’s role as a western hub.<
 /span></li>\n<li><span style='font-family: arial\, helvetica\, sans-serif\
 ; font-size: 12pt\; color: #000000\;'>1856: During the “Bleeding Kansas” c
 onflict\, pro-slavery “Border Ruffians” from Missouri were active on or ar
 ound November 15\, crossing into Kansas to intimidate anti-slavery settler
 s\, escalating violence and highlighting Missouri’s role in the slavery de
 bate.</span></li>\n<li><span style='font-family: arial\, helvetica\, sans-
 serif\; font-size: 12pt\; color: #000000\;'>1861: During the Civil War\, M
 issouri remained a battleground. On or around November 15\, Union forces u
 nder General Henry W. Halleck\, who replaced John C. Frémont\, began reorg
 anizing in St. Louis to strengthen Union control in the state.</span></li>
 \n<li><span style='font-family: arial\, helvetica\, sans-serif\; font-size
 : 12pt\; color: #000000\;'>1888: The Missouri Botanical Garden in St. Loui
 s hosted a public exhibition around November 15\, showcasing rare plant sp
 ecies and reinforcing its reputation as a leading botanical research cente
 r.</span></li>\n<li><span style='font-family: arial\, helvetica\, sans-ser
 if\; font-size: 12pt\; color: #000000\;'>1929: The Great Depression deepen
 ed in Missouri. On or around November 15\, businesses in Kansas City faced
  growing financial difficulties\, reflecting the state’s economic challeng
 es.</span></li>\n<li><span style='font-family: arial\, helvetica\, sans-se
 rif\; font-size: 12pt\; color: #000000\;'>2004: The St. Louis Cardinals he
 ld a season-end fan appreciation event in St. Louis on or around November 
 15\, following their World Series loss to the Boston Red Sox\, honoring Al
 bert Pujols and the team’s strong performance\, reinforcing Missouri’s bas
 eball legacy.</span></li>\n</ul>
DTSTART;TZID=America/Chicago:20251115T000000
DTEND;TZID=America/Chicago:20251115T235959
RRULE:FREQ=YEARLY;COUNT=3;INTERVAL=1
SUMMARY:November 15th This Day in Missouri
URL:https://mail.taneycountyrepublicans.org/odds-n-ends/this-week-in-missou
 ri/24-this-day-in-missouri/2241-november-15th-this-day-in-missouri.html
X-ALT-DESC;FMTTYPE=TEXT/HTML:<p><span style='font-family: arial\, helvetica
 \, sans-serif\; font-size: 12pt\; color: #000000\;'>On November 15\, the f
 ollowing notable historical events related to Missouri occurred:</span></p
 >\n<ul>\n<li><span style='font-family: arial\, helvetica\, sans-serif\; fo
 nt-size: 12pt\; color: #000000\;'>1806: The Lewis and Clark Expedition\, h
 aving returned to St. Louis in late September\, continued to be celebrated
  on or around November 15\, with local festivities in St. Louis honoring t
 heir exploration of the Louisiana Purchase\, reinforcing Missouri’s role a
 s a western hub.</span></li>\n<li><span style='font-family: arial\, helvet
 ica\, sans-serif\; font-size: 12pt\; color: #000000\;'>1856: During the “B
 leeding Kansas” conflict\, pro-slavery “Border Ruffians” from Missouri wer
 e active on or around November 15\, crossing into Kansas to intimidate ant
 i-slavery settlers\, escalating violence and highlighting Missouri’s role 
 in the slavery debate.</span></li>\n<li><span style='font-family: arial\, 
 helvetica\, sans-serif\; font-size: 12pt\; color: #000000\;'>1861: During 
 the Civil War\, Missouri remained a battleground. On or around November 15
 \, Union forces under General Henry W. Halleck\, who replaced John C. Frém
 ont\, began reorganizing in St. Louis to strengthen Union control in the s
 tate.</span></li>\n<li><span style='font-family: arial\, helvetica\, sans-
 serif\; font-size: 12pt\; color: #000000\;'>1888: The Missouri Botanical G
 arden in St. Louis hosted a public exhibition around November 15\, showcas
 ing rare plant species and reinforcing its reputation as a leading botanic
 al research center.</span></li>\n<li><span style='font-family: arial\, hel
 vetica\, sans-serif\; font-size: 12pt\; color: #000000\;'>1929: The Great 
 Depression deepened in Missouri. On or around November 15\, businesses in 
 Kansas City faced growing financial difficulties\, reflecting the state’s 
 economic challenges.</span></li>\n<li><span style='font-family: arial\, he
 lvetica\, sans-serif\; font-size: 12pt\; color: #000000\;'>2004: The St. L
 ouis Cardinals held a season-end fan appreciation event in St. Louis on or
  around November 15\, following their World Series loss to the Boston Red 
 Sox\, honoring Albert Pujols and the team’s strong performance\, reinforci
 ng Missouri’s baseball legacy.</span></li>\n</ul>
END:VEVENT
END:VCALENDAR
