BEGIN:VCALENDAR
VERSION:2.0
PRODID:-//https://mail.taneycountyrepublicans.org//NONSGML kigkonsult.se iCalcreator 2.41.71//
CALSCALE:GREGORIAN
METHOD:PUBLISH
UID:32616439-3339-4234-b566-323663356163
X-WR-CALNAME:JCal Pro Calendar
X-WR-CALDESC:Your online events calendar
X-WR-TIMEZONE:America/Chicago
BEGIN:VTIMEZONE
TZID:America/Chicago
TZUNTIL:20271107T070000Z
BEGIN:STANDARD
TZNAME:CST
DTSTART:20251102T020000
TZOFFSETFROM:-0500
TZOFFSETTO:-0600
RDATE:20261101T020000
END:STANDARD
BEGIN:DAYLIGHT
TZNAME:CDT
DTSTART:20260308T020000
TZOFFSETFROM:-0600
TZOFFSETTO:-0500
RDATE:20270314T020000
END:DAYLIGHT
END:VTIMEZONE
BEGIN:VEVENT
UID:20251102T000000UTC-5315zVuVrU@https://taneycountyrepublicans.org/
DTSTAMP:20260422T143255Z
CATEGORIES:This Day in Missouri
DESCRIPTION:<p><span style='font-family: arial\, helvetica\, sans-serif\; f
 ont-size: 12pt\; color: #000000\;'>On November 2\, the following notable h
 istorical events related to Missouri occurred:</span></p>\n<ul>\n<li><span
  style='font-family: arial\, helvetica\, sans-serif\; font-size: 12pt\; co
 lor: #000000\;'>1806: The Lewis and Clark Expedition\, having returned to 
 St. Louis in late September\, was still celebrated on or around November 2
 \, with ongoing festivities in St. Louis honoring their exploration of the
  Louisiana Purchase\, reinforcing Missouri’s role as a western hub.</span>
 </li>\n<li><span style='font-family: arial\, helvetica\, sans-serif\; font
 -size: 12pt\; color: #000000\;'>1857: During the prelude to the Civil War\
 , tensions over slavery escalated. On or around November 2\, pro-slavery “
 Border Ruffians” from Missouri held rallies in Kansas City to support pro-
 slavery efforts in Kansas\, contributing to the “Bleeding Kansas” conflict
 .</span></li>\n<li><span style='font-family: arial\, helvetica\, sans-seri
 f\; font-size: 12pt\; color: #000000\;'>1861: During the Civil War\, Misso
 uri was a hotbed of conflict. On or around November 2\, Union General John
  C. Frémont issued orders in St. Louis to reorganize forces\, while Confed
 erate guerrilla activities intensified in rural Missouri.</span></li>\n<li
 ><span style='font-family: arial\, helvetica\, sans-serif\; font-size: 12p
 t\; color: #000000\;'>1890: The Missouri Pacific Railroad expanded its net
 work through southeast Missouri around November 2\, connecting Cape Girard
 eau to other regions and boosting the state’s economic infrastructure.</sp
 an></li>\n<li><span style='font-family: arial\, helvetica\, sans-serif\; f
 ont-size: 12pt\; color: #000000\;'>1929: The Great Depression deepened in 
 Missouri following the stock market crash. On or around November 2\, banks
  in St. Louis faced increased withdrawals\, signaling the growing economic
  crisis in the state.</span></li>\n<li><span style='font-family: arial\, h
 elvetica\, sans-serif\; font-size: 12pt\; color: #000000\;'>2011: The St. 
 Louis Cardinals continued celebrations of their World Series victory over 
 the Texas Rangers\, with fan events in St. Louis on or around November 2\,
  honoring David Freese’s MVP performance and reinforcing Missouri’s baseba
 ll legacy.</span></li>\n</ul>
DTSTART;TZID=America/Chicago:20251102T000000
DTEND;TZID=America/Chicago:20251102T235959
RRULE:FREQ=YEARLY;COUNT=3;INTERVAL=1
SUMMARY:November 2nd This Day in Missouri
URL:https://mail.taneycountyrepublicans.org/odds-n-ends/this-week-in-missou
 ri/24-this-day-in-missouri/2202-november-2nd-this-day-in-missouri.html
X-ALT-DESC;FMTTYPE=TEXT/HTML:<p><span style='font-family: arial\, helvetica
 \, sans-serif\; font-size: 12pt\; color: #000000\;'>On November 2\, the fo
 llowing notable historical events related to Missouri occurred:</span></p>
 \n<ul>\n<li><span style='font-family: arial\, helvetica\, sans-serif\; fon
 t-size: 12pt\; color: #000000\;'>1806: The Lewis and Clark Expedition\, ha
 ving returned to St. Louis in late September\, was still celebrated on or 
 around November 2\, with ongoing festivities in St. Louis honoring their e
 xploration of the Louisiana Purchase\, reinforcing Missouri’s role as a we
 stern hub.</span></li>\n<li><span style='font-family: arial\, helvetica\, 
 sans-serif\; font-size: 12pt\; color: #000000\;'>1857: During the prelude 
 to the Civil War\, tensions over slavery escalated. On or around November 
 2\, pro-slavery “Border Ruffians” from Missouri held rallies in Kansas Cit
 y to support pro-slavery efforts in Kansas\, contributing to the “Bleeding
  Kansas” conflict.</span></li>\n<li><span style='font-family: arial\, helv
 etica\, sans-serif\; font-size: 12pt\; color: #000000\;'>1861: During the 
 Civil War\, Missouri was a hotbed of conflict. On or around November 2\, U
 nion General John C. Frémont issued orders in St. Louis to reorganize forc
 es\, while Confederate guerrilla activities intensified in rural Missouri.
 </span></li>\n<li><span style='font-family: arial\, helvetica\, sans-serif
 \; font-size: 12pt\; color: #000000\;'>1890: The Missouri Pacific Railroad
  expanded its network through southeast Missouri around November 2\, conne
 cting Cape Girardeau to other regions and boosting the state’s economic in
 frastructure.</span></li>\n<li><span style='font-family: arial\, helvetica
 \, sans-serif\; font-size: 12pt\; color: #000000\;'>1929: The Great Depres
 sion deepened in Missouri following the stock market crash. On or around N
 ovember 2\, banks in St. Louis faced increased withdrawals\, signaling the
  growing economic crisis in the state.</span></li>\n<li><span style='font-
 family: arial\, helvetica\, sans-serif\; font-size: 12pt\; color: #000000\
 ;'>2011: The St. Louis Cardinals continued celebrations of their World Ser
 ies victory over the Texas Rangers\, with fan events in St. Louis on or ar
 ound November 2\, honoring David Freese’s MVP performance and reinforcing 
 Missouri’s baseball legacy.</span></li>\n</ul>
END:VEVENT
END:VCALENDAR
