BEGIN:VCALENDAR
VERSION:2.0
PRODID:-//https://mail.taneycountyrepublicans.org//NONSGML kigkonsult.se iCalcreator 2.41.71//
CALSCALE:GREGORIAN
METHOD:PUBLISH
UID:37303066-3736-4536-b031-333230373265
X-WR-CALNAME:JCal Pro Calendar
X-WR-CALDESC:Your online events calendar
X-WR-TIMEZONE:America/Chicago
BEGIN:VTIMEZONE
TZID:America/Chicago
TZUNTIL:20271107T070000Z
BEGIN:STANDARD
TZNAME:CST
DTSTART:20251102T020000
TZOFFSETFROM:-0500
TZOFFSETTO:-0600
RDATE:20261101T020000
END:STANDARD
BEGIN:DAYLIGHT
TZNAME:CDT
DTSTART:20260308T020000
TZOFFSETFROM:-0600
TZOFFSETTO:-0500
RDATE:20270314T020000
END:DAYLIGHT
END:VTIMEZONE
BEGIN:VEVENT
UID:20250922T000000UTC-6144vWuVHI@https://taneycountyrepublicans.org/
DTSTAMP:20260422T143235Z
CATEGORIES:This Day in Missouri
DESCRIPTION:<p><span style='font-family: arial\, helvetica\, sans-serif\; f
 ont-size: 12pt\;'>On September 22\, the following notable historical event
 s related to Missouri occurred:</span></p>\n<ul>\n<li><span style='font-fa
 mily: arial\, helvetica\, sans-serif\; font-size: 12pt\;'>1806: The Lewis 
 and Clark Expedition was in the St. Louis area on or around September 22\,
  nearing the end of their exploration of the Louisiana Purchase. They were
  preparing to officially return to St. Louis\, their final destination\, c
 ementing Missouri’s role as a key hub.</span></li>\n<li><span style='font-
 family: arial\, helvetica\, sans-serif\; font-size: 12pt\;'>1856: During t
 he “Bleeding Kansas” conflict\, pro-slavery “Border Ruffians” from Missour
 i were active on or around September 22\, crossing into Kansas to intimida
 te anti-slavery settlers\, escalating regional violence and highlighting M
 issouri’s role in the slavery debate.</span></li>\n<li><span style='font-f
 amily: arial\, helvetica\, sans-serif\; font-size: 12pt\;'>1861: During th
 e Civil War\, the aftermath of the First Battle of Lexington (September 20
 ) continued in Missouri. On September 22\, Confederate forces under Sterli
 ng Price were organizing their control over Lexington\, reinforcing their 
 strategic position in the state.</span></li>\n<li><span style='font-family
 : arial\, helvetica\, sans-serif\; font-size: 12pt\;'>1895: The Missouri B
 otanical Garden in St. Louis hosted a significant public exhibition around
  September 22\, showcasing rare plant species and solidifying its reputati
 on as a leading botanical research center.</span></li>\n<li><span style='f
 ont-family: arial\, helvetica\, sans-serif\; font-size: 12pt\;'>1927: The 
 Missouri State Fair in Sedalia was ongoing around September 22\, featuring
  agricultural innovations and attracting large crowds\, reinforcing Missou
 ri’s rural heritage.</span></li>\n<li><span style='font-family: arial\, he
 lvetica\, sans-serif\; font-size: 12pt\;'>1998: The St. Louis Cardinals pl
 ayed a notable game against the Houston Astros at Busch Stadium on Septemb
 er 22\, with Mark McGwire hitting his 70th home run of the season\, breaki
 ng the single-season record and cementing Missouri’s baseball legacy.</spa
 n></li>\n</ul>
DTSTART;TZID=America/Chicago:20250922T000000
DTEND;TZID=America/Chicago:20250922T235959
RRULE:FREQ=YEARLY;COUNT=3;INTERVAL=1
SUMMARY:September 22nd This Day in Missouri
URL:https://mail.taneycountyrepublicans.org/odds-n-ends/this-week-in-missou
 ri/24-this-day-in-missouri/2068-september-22nd-this-day-in-missouri.html
X-ALT-DESC;FMTTYPE=TEXT/HTML:<p><span style='font-family: arial\, helvetica
 \, sans-serif\; font-size: 12pt\;'>On September 22\, the following notable
  historical events related to Missouri occurred:</span></p>\n<ul>\n<li><sp
 an style='font-family: arial\, helvetica\, sans-serif\; font-size: 12pt\;'
 >1806: The Lewis and Clark Expedition was in the St. Louis area on or arou
 nd September 22\, nearing the end of their exploration of the Louisiana Pu
 rchase. They were preparing to officially return to St. Louis\, their fina
 l destination\, cementing Missouri’s role as a key hub.</span></li>\n<li><
 span style='font-family: arial\, helvetica\, sans-serif\; font-size: 12pt\
 ;'>1856: During the “Bleeding Kansas” conflict\, pro-slavery “Border Ruffi
 ans” from Missouri were active on or around September 22\, crossing into K
 ansas to intimidate anti-slavery settlers\, escalating regional violence a
 nd highlighting Missouri’s role in the slavery debate.</span></li>\n<li><s
 pan style='font-family: arial\, helvetica\, sans-serif\; font-size: 12pt\;
 '>1861: During the Civil War\, the aftermath of the First Battle of Lexing
 ton (September 20) continued in Missouri. On September 22\, Confederate fo
 rces under Sterling Price were organizing their control over Lexington\, r
 einforcing their strategic position in the state.</span></li>\n<li><span s
 tyle='font-family: arial\, helvetica\, sans-serif\; font-size: 12pt\;'>189
 5: The Missouri Botanical Garden in St. Louis hosted a significant public 
 exhibition around September 22\, showcasing rare plant species and solidif
 ying its reputation as a leading botanical research center.</span></li>\n<
 li><span style='font-family: arial\, helvetica\, sans-serif\; font-size: 1
 2pt\;'>1927: The Missouri State Fair in Sedalia was ongoing around Septemb
 er 22\, featuring agricultural innovations and attracting large crowds\, r
 einforcing Missouri’s rural heritage.</span></li>\n<li><span style='font-f
 amily: arial\, helvetica\, sans-serif\; font-size: 12pt\;'>1998: The St. L
 ouis Cardinals played a notable game against the Houston Astros at Busch S
 tadium on September 22\, with Mark McGwire hitting his 70th home run of th
 e season\, breaking the single-season record and cementing Missouri’s base
 ball legacy.</span></li>\n</ul>
END:VEVENT
END:VCALENDAR
