BEGIN:VCALENDAR
VERSION:2.0
PRODID:-//https://mail.taneycountyrepublicans.org//NONSGML kigkonsult.se iCalcreator 2.41.71//
CALSCALE:GREGORIAN
METHOD:PUBLISH
UID:39643562-3439-4562-a262-396138356164
X-WR-CALNAME:JCal Pro Calendar
X-WR-CALDESC:Your online events calendar
X-WR-TIMEZONE:America/Chicago
BEGIN:VTIMEZONE
TZID:America/Chicago
TZUNTIL:20271107T070000Z
BEGIN:STANDARD
TZNAME:CST
DTSTART:20251102T020000
TZOFFSETFROM:-0500
TZOFFSETTO:-0600
RDATE:20261101T020000
END:STANDARD
BEGIN:DAYLIGHT
TZNAME:CDT
DTSTART:20260308T020000
TZOFFSETFROM:-0600
TZOFFSETTO:-0500
RDATE:20270314T020000
END:DAYLIGHT
END:VTIMEZONE
BEGIN:VEVENT
UID:20250908T000000UTC-694035xRb7@https://taneycountyrepublicans.org/
DTSTAMP:20260423T153605Z
CATEGORIES:This Day in Missouri
DESCRIPTION:<p><span style='font-family: arial\, helvetica\, sans-serif\; f
 ont-size: 12pt\; color: #000000\;'>On September 8\, the following notable 
 historical events related to Missouri occurred:</span></p>\n<ul>\n<li><spa
 n style='font-family: arial\, helvetica\, sans-serif\; font-size: 12pt\; c
 olor: #000000\;'>1806: The Lewis and Clark Expedition\, returning from the
 ir journey\, was near present-day St. Charles\, Missouri\, on or around Se
 ptember 8\, nearing the end of their exploration of the Louisiana Purchase
 \, with St. Louis as their final destination.</span></li>\n<li><span style
 ='font-family: arial\, helvetica\, sans-serif\; font-size: 12pt\; color: #
 000000\;'>1846: During the Mexican-American War\, Missouri volunteers\, in
 cluding the First Missouri Mounted Volunteers led by Alexander Doniphan\, 
 were mustering in St. Louis around September 8\, preparing for their campa
 ign in the Southwest.</span></li>\n<li><span style='font-family: arial\, h
 elvetica\, sans-serif\; font-size: 12pt\; color: #000000\;'>1863: During t
 he Civil War\, Confederate guerrilla activity persisted in Missouri. On or
  around September 8\, bushwhackers raided Union outposts in Boone County\,
  contributing to the state’s ongoing conflict.</span></li>\n<li><span styl
 e='font-family: arial\, helvetica\, sans-serif\; font-size: 12pt\; color: 
 #000000\;'>1890: The St. Louis-based Anheuser-Busch brewery achieved a mil
 estone around September 8 by expanding its bottling operations\, strengthe
 ning Missouri’s role in the national brewing industry.</span></li>\n<li><s
 pan style='font-family: arial\, helvetica\, sans-serif\; font-size: 12pt\;
  color: #000000\;'>1925: The Missouri State Fair in Sedalia was in full sw
 ing around September 8\, showcasing agricultural innovations and drawing t
 housands\, reinforcing Missouri’s rural heritage.</span></li>\n<li><span s
 tyle='font-family: arial\, helvetica\, sans-serif\; font-size: 12pt\; colo
 r: #000000\;'>1998: The St. Louis Cardinals played a historic game against
  the Chicago Cubs at Busch Stadium on September 8\, when Mark McGwire hit 
 his 62nd home run\, breaking Roger Maris’s single-season record\, cementin
 g Missouri’s baseball legacy.</span></li>\n</ul>
DTSTART;TZID=America/Chicago:20250908T000000
DTEND;TZID=America/Chicago:20250908T235959
RRULE:FREQ=YEARLY;COUNT=3;INTERVAL=1
SUMMARY:September 8th This Day in Missouri
URL:https://mail.taneycountyrepublicans.org/odds-n-ends/this-week-in-missou
 ri/24-this-day-in-missouri/2017-september-8th-this-day-in-missouri.html
X-ALT-DESC;FMTTYPE=TEXT/HTML:<p><span style='font-family: arial\, helvetica
 \, sans-serif\; font-size: 12pt\; color: #000000\;'>On September 8\, the f
 ollowing notable historical events related to Missouri occurred:</span></p
 >\n<ul>\n<li><span style='font-family: arial\, helvetica\, sans-serif\; fo
 nt-size: 12pt\; color: #000000\;'>1806: The Lewis and Clark Expedition\, r
 eturning from their journey\, was near present-day St. Charles\, Missouri\
 , on or around September 8\, nearing the end of their exploration of the L
 ouisiana Purchase\, with St. Louis as their final destination.</span></li>
 \n<li><span style='font-family: arial\, helvetica\, sans-serif\; font-size
 : 12pt\; color: #000000\;'>1846: During the Mexican-American War\, Missour
 i volunteers\, including the First Missouri Mounted Volunteers led by Alex
 ander Doniphan\, were mustering in St. Louis around September 8\, preparin
 g for their campaign in the Southwest.</span></li>\n<li><span style='font-
 family: arial\, helvetica\, sans-serif\; font-size: 12pt\; color: #000000\
 ;'>1863: During the Civil War\, Confederate guerrilla activity persisted i
 n Missouri. On or around September 8\, bushwhackers raided Union outposts 
 in Boone County\, contributing to the state’s ongoing conflict.</span></li
 >\n<li><span style='font-family: arial\, helvetica\, sans-serif\; font-siz
 e: 12pt\; color: #000000\;'>1890: The St. Louis-based Anheuser-Busch brewe
 ry achieved a milestone around September 8 by expanding its bottling opera
 tions\, strengthening Missouri’s role in the national brewing industry.</s
 pan></li>\n<li><span style='font-family: arial\, helvetica\, sans-serif\; 
 font-size: 12pt\; color: #000000\;'>1925: The Missouri State Fair in Sedal
 ia was in full swing around September 8\, showcasing agricultural innovati
 ons and drawing thousands\, reinforcing Missouri’s rural heritage.</span><
 /li>\n<li><span style='font-family: arial\, helvetica\, sans-serif\; font-
 size: 12pt\; color: #000000\;'>1998: The St. Louis Cardinals played a hist
 oric game against the Chicago Cubs at Busch Stadium on September 8\, when 
 Mark McGwire hit his 62nd home run\, breaking Roger Maris’s single-season 
 record\, cementing Missouri’s baseball legacy.</span></li>\n</ul>
END:VEVENT
END:VCALENDAR
