BEGIN:VCALENDAR
VERSION:2.0
PRODID:-//https://mail.taneycountyrepublicans.org//NONSGML kigkonsult.se iCalcreator 2.41.71//
CALSCALE:GREGORIAN
METHOD:PUBLISH
UID:66303437-3865-4462-b665-626438616538
X-WR-CALNAME:JCal Pro Calendar
X-WR-CALDESC:Your online events calendar
X-WR-TIMEZONE:America/Chicago
BEGIN:VTIMEZONE
TZID:America/Chicago
TZUNTIL:20271107T070000Z
BEGIN:STANDARD
TZNAME:CST
DTSTART:20251102T020000
TZOFFSETFROM:-0500
TZOFFSETTO:-0600
RDATE:20261101T020000
END:STANDARD
BEGIN:DAYLIGHT
TZNAME:CDT
DTSTART:20260308T020000
TZOFFSETFROM:-0600
TZOFFSETTO:-0500
RDATE:20270314T020000
END:DAYLIGHT
END:VTIMEZONE
BEGIN:VEVENT
UID:20250830T000000UTC-7163SrLsDd@https://taneycountyrepublicans.org/
DTSTAMP:20260420T121927Z
CATEGORIES:This Day in Missouri
DESCRIPTION:<p><span style='font-family: arial\, helvetica\, sans-serif\; f
 ont-size: 12pt\; color: #000000\;'>On August 30\, the following notable hi
 storical events related to Missouri have been recorded:</span></p>\n<ul>\n
 <li><span style='font-family: arial\, helvetica\, sans-serif\; font-size: 
 12pt\; color: #000000\;'>1804: The Lewis and Clark Expedition was near pre
 sent-day Sioux City\, Iowa\, across from Missouri’s Atchison County\, on o
 r around August 30. They continued documenting the region’s resources and 
 interactions with Native American tribes\, advancing their exploration of 
 the Louisiana Purchase.</span></li>\n<li><span style='font-family: arial\,
  helvetica\, sans-serif\; font-size: 12pt\; color: #000000\;'>1838: During
  the Mormon War in Missouri\, tensions escalated. On or around August 30\,
  non-Mormon vigilantes in Daviess and Carroll Counties intensified their c
 ampaign against Mormon settlers\, with skirmishes contributing to the conf
 lict that led to the Mormon expulsion order later in 1838.</span></li>\n<l
 i><span style='font-family: arial\, helvetica\, sans-serif\; font-size: 12
 pt\; color: #000000\;'>1861: During the Civil War\, the aftermath of the B
 attle of Wilson’s Creek (August 10) continued in Missouri. On August 30\, 
 Union forces were regrouping after their retreat from Springfield\, while 
 Confederate forces strengthened their control in southwest Missouri\, high
 lighting Missouri’s pivotal role in the conflict.</span></li>\n<li><span s
 tyle='font-family: arial\, helvetica\, sans-serif\; font-size: 12pt\; colo
 r: #000000\;'>1870: The Kansas City Stockyards expanded operations around 
 August 30\, reinforcing Kansas City’s position as a major livestock tradin
 g hub and boosting Missouri’s agricultural economy.</span></li>\n<li><span
  style='font-family: arial\, helvetica\, sans-serif\; font-size: 12pt\; co
 lor: #000000\;'>1904: The St. Louis World’s Fair\, or Louisiana Purchase E
 xposition\, was ongoing\, with August 30 featuring international cultural 
 exhibits and early Olympic events\, showcasing Missouri’s global prominenc
 e.</span></li>\n<li><span style='font-family: arial\, helvetica\, sans-ser
 if\; font-size: 12pt\; color: #000000\;'>1964: The St. Louis Cardinals pla
 yed a notable game against the Pittsburgh Pirates at Busch Stadium on Augu
 st 30\, with Lou Brock stealing two bases and contributing to a Cardinals 
 victory\, reinforcing Missouri’s baseball legacy during their World Series
 -winning season.</span></li>\n</ul>
DTSTART;TZID=America/Chicago:20250830T000000
DTEND;TZID=America/Chicago:20250830T235959
RRULE:FREQ=YEARLY;COUNT=3;INTERVAL=1
SUMMARY:August 30th This Day in Missouri
URL:https://mail.taneycountyrepublicans.org/odds-n-ends/this-week-in-missou
 ri/24-this-day-in-missouri/1931-august-30th-this-day-in-missouri.html
X-ALT-DESC;FMTTYPE=TEXT/HTML:<p><span style='font-family: arial\, helvetica
 \, sans-serif\; font-size: 12pt\; color: #000000\;'>On August 30\, the fol
 lowing notable historical events related to Missouri have been recorded:</
 span></p>\n<ul>\n<li><span style='font-family: arial\, helvetica\, sans-se
 rif\; font-size: 12pt\; color: #000000\;'>1804: The Lewis and Clark Expedi
 tion was near present-day Sioux City\, Iowa\, across from Missouri’s Atchi
 son County\, on or around August 30. They continued documenting the region
 ’s resources and interactions with Native American tribes\, advancing thei
 r exploration of the Louisiana Purchase.</span></li>\n<li><span style='fon
 t-family: arial\, helvetica\, sans-serif\; font-size: 12pt\; color: #00000
 0\;'>1838: During the Mormon War in Missouri\, tensions escalated. On or a
 round August 30\, non-Mormon vigilantes in Daviess and Carroll Counties in
 tensified their campaign against Mormon settlers\, with skirmishes contrib
 uting to the conflict that led to the Mormon expulsion order later in 1838
 .</span></li>\n<li><span style='font-family: arial\, helvetica\, sans-seri
 f\; font-size: 12pt\; color: #000000\;'>1861: During the Civil War\, the a
 ftermath of the Battle of Wilson’s Creek (August 10) continued in Missouri
 . On August 30\, Union forces were regrouping after their retreat from Spr
 ingfield\, while Confederate forces strengthened their control in southwes
 t Missouri\, highlighting Missouri’s pivotal role in the conflict.</span><
 /li>\n<li><span style='font-family: arial\, helvetica\, sans-serif\; font-
 size: 12pt\; color: #000000\;'>1870: The Kansas City Stockyards expanded o
 perations around August 30\, reinforcing Kansas City’s position as a major
  livestock trading hub and boosting Missouri’s agricultural economy.</span
 ></li>\n<li><span style='font-family: arial\, helvetica\, sans-serif\; fon
 t-size: 12pt\; color: #000000\;'>1904: The St. Louis World’s Fair\, or Lou
 isiana Purchase Exposition\, was ongoing\, with August 30 featuring intern
 ational cultural exhibits and early Olympic events\, showcasing Missouri’s
  global prominence.</span></li>\n<li><span style='font-family: arial\, hel
 vetica\, sans-serif\; font-size: 12pt\; color: #000000\;'>1964: The St. Lo
 uis Cardinals played a notable game against the Pittsburgh Pirates at Busc
 h Stadium on August 30\, with Lou Brock stealing two bases and contributin
 g to a Cardinals victory\, reinforcing Missouri’s baseball legacy during t
 heir World Series-winning season.</span></li>\n</ul>
END:VEVENT
END:VCALENDAR
