BEGIN:VCALENDAR
VERSION:2.0
PRODID:-//https://mail.taneycountyrepublicans.org//NONSGML kigkonsult.se iCalcreator 2.41.71//
CALSCALE:GREGORIAN
METHOD:PUBLISH
UID:33313133-6536-4733-b765-653734353138
X-WR-CALNAME:JCal Pro Calendar
X-WR-CALDESC:Your online events calendar
X-WR-TIMEZONE:America/Chicago
BEGIN:VTIMEZONE
TZID:America/Chicago
TZUNTIL:20271107T070000Z
BEGIN:STANDARD
TZNAME:CST
DTSTART:20251102T020000
TZOFFSETFROM:-0500
TZOFFSETTO:-0600
RDATE:20261101T020000
END:STANDARD
BEGIN:DAYLIGHT
TZNAME:CDT
DTSTART:20260308T020000
TZOFFSETFROM:-0600
TZOFFSETTO:-0500
RDATE:20270314T020000
END:DAYLIGHT
END:VTIMEZONE
BEGIN:VEVENT
UID:20250730T110000UTC-3168u6WNIh@https://taneycountyrepublicans.org/
DTSTAMP:20260422T155654Z
CATEGORIES:This Day in Missouri
DESCRIPTION:<p><span style='font-family: arial\, helvetica\, sans-serif\; f
 ont-size: 12pt\; color: #000000\;'>On July 30\, the following notable hist
 orical events related to Missouri have been recorded:</span></p>\n<ul>\n<l
 i><span style='font-family: arial\, helvetica\, sans-serif\; font-size: 12
 pt\; color: #000000\;'>1804: The Lewis and Clark Expedition\, navigating t
 he Missouri River\, was near present-day Blair\, Nebraska\, across from Mi
 ssouri’s Atchison County\, on or around July 30. They held a significant c
 ouncil with Otoe and Missouri tribes\, exchanging gifts and discussing tra
 de\, advancing their exploration of the Louisiana Purchase.</span></li>\n<
 li><span style='font-family: arial\, helvetica\, sans-serif\; font-size: 1
 2pt\; color: #000000\;'>1838: During the Mormon War in Missouri\, tensions
  continued to escalate. On or around July 30\, non-Mormon vigilantes in Ca
 rroll and Daviess Counties intensified attacks on Mormon settlers\, with s
 kirmishes escalating the conflict that led to the Mormon expulsion order l
 ater in 1838.</span></li>\n<li><span style='font-family: arial\, helvetica
 \, sans-serif\; font-size: 12pt\; color: #000000\;'>1861: During the Civil
  War\, Missouri saw ongoing military activity. On July 30\, Union forces u
 nder General Nathaniel Lyon were maneuvering in southwest Missouri\, engag
 ing in minor skirmishes near Springfield as they prepared for the Battle o
 f Wilson’s Creek.</span></li>\n<li><span style='font-family: arial\, helve
 tica\, sans-serif\; font-size: 12pt\; color: #000000\;'>1875: The Missouri
  Pacific Railroad expanded its network through western Missouri around Jul
 y 30\, completing a key line connecting Kansas City to other regions\, boo
 sting the state’s economic and transportation infrastructure.</span></li>
 \n<li><span style='font-family: arial\, helvetica\, sans-serif\; font-size
 : 12pt\; color: #000000\;'>1904: The St. Louis World’s Fair\, or Louisiana
  Purchase Exposition\, was ongoing\, with July 30 featuring international 
 agricultural exhibits and early Olympic events\, highlighting Missouri’s g
 lobal cultural and economic prominence.</span></li>\n<li><span style='font
 -family: arial\, helvetica\, sans-serif\; font-size: 12pt\; color: #000000
 \;'>1965: The Gateway Arch in St. Louis saw significant construction progr
 ess around July 30\, with the final sections of the structure nearing comp
 letion\, marking a milestone in Missouri’s iconic architectural history.</
 span></li>\n</ul>
DTSTART;TZID=America/Chicago:20250730T000000
DTEND;TZID=America/Chicago:20250730T235959
RRULE:FREQ=YEARLY;COUNT=3;INTERVAL=1
SUMMARY:July 30th This Day in Missouri
URL:https://mail.taneycountyrepublicans.org/odds-n-ends/this-week-in-missou
 ri/24-this-day-in-missouri/1747-july-30th-this-day-in-missouri.html
X-ALT-DESC;FMTTYPE=TEXT/HTML:<p><span style='font-family: arial\, helvetica
 \, sans-serif\; font-size: 12pt\; color: #000000\;'>On July 30\, the follo
 wing notable historical events related to Missouri have been recorded:</sp
 an></p>\n<ul>\n<li><span style='font-family: arial\, helvetica\, sans-seri
 f\; font-size: 12pt\; color: #000000\;'>1804: The Lewis and Clark Expediti
 on\, navigating the Missouri River\, was near present-day Blair\, Nebraska
 \, across from Missouri’s Atchison County\, on or around July 30. They hel
 d a significant council with Otoe and Missouri tribes\, exchanging gifts a
 nd discussing trade\, advancing their exploration of the Louisiana Purchas
 e.</span></li>\n<li><span style='font-family: arial\, helvetica\, sans-ser
 if\; font-size: 12pt\; color: #000000\;'>1838: During the Mormon War in Mi
 ssouri\, tensions continued to escalate. On or around July 30\, non-Mormon
  vigilantes in Carroll and Daviess Counties intensified attacks on Mormon 
 settlers\, with skirmishes escalating the conflict that led to the Mormon 
 expulsion order later in 1838.</span></li>\n<li><span style='font-family: 
 arial\, helvetica\, sans-serif\; font-size: 12pt\; color: #000000\;'>1861:
  During the Civil War\, Missouri saw ongoing military activity. On July 30
 \, Union forces under General Nathaniel Lyon were maneuvering in southwest
  Missouri\, engaging in minor skirmishes near Springfield as they prepared
  for the Battle of Wilson’s Creek.</span></li>\n<li><span style='font-fami
 ly: arial\, helvetica\, sans-serif\; font-size: 12pt\; color: #000000\;'>1
 875: The Missouri Pacific Railroad expanded its network through western Mi
 ssouri around July 30\, completing a key line connecting Kansas City to ot
 her regions\, boosting the state’s economic and transportation infrastruct
 ure.</span></li>\n<li><span style='font-family: arial\, helvetica\, sans-s
 erif\; font-size: 12pt\; color: #000000\;'>1904: The St. Louis World’s Fai
 r\, or Louisiana Purchase Exposition\, was ongoing\, with July 30 featurin
 g international agricultural exhibits and early Olympic events\, highlight
 ing Missouri’s global cultural and economic prominence.</span></li>\n<li><
 span style='font-family: arial\, helvetica\, sans-serif\; font-size: 12pt\
 ; color: #000000\;'>1965: The Gateway Arch in St. Louis saw significant co
 nstruction progress around July 30\, with the final sections of the struct
 ure nearing completion\, marking a milestone in Missouri’s iconic architec
 tural history.</span></li>\n</ul>
END:VEVENT
END:VCALENDAR
