BEGIN:VCALENDAR
VERSION:2.0
PRODID:-//https://mail.taneycountyrepublicans.org//NONSGML kigkonsult.se iCalcreator 2.41.71//
CALSCALE:GREGORIAN
METHOD:PUBLISH
UID:65376531-3233-4438-b237-616237326164
X-WR-CALNAME:JCal Pro Calendar
X-WR-CALDESC:Your online events calendar
X-WR-TIMEZONE:America/Chicago
BEGIN:VTIMEZONE
TZID:America/Chicago
TZUNTIL:20271107T070000Z
BEGIN:STANDARD
TZNAME:CST
DTSTART:20251102T020000
TZOFFSETFROM:-0500
TZOFFSETTO:-0600
RDATE:20261101T020000
END:STANDARD
BEGIN:DAYLIGHT
TZNAME:CDT
DTSTART:20260308T020000
TZOFFSETFROM:-0600
TZOFFSETTO:-0500
RDATE:20270314T020000
END:DAYLIGHT
END:VTIMEZONE
BEGIN:VEVENT
UID:20250728T110000UTC-7628r3Ugv6@https://taneycountyrepublicans.org/
DTSTAMP:20260420T160120Z
CATEGORIES:This Day in Missouri
DESCRIPTION:<p><span style='font-family: arial\, helvetica\, sans-serif\; f
 ont-size: 12pt\; color: #000000\;'>On July 28\, the following notable hist
 orical events related to Missouri have been recorded:</span></p>\n<ul>\n<l
 i><span style='font-family: arial\, helvetica\, sans-serif\; font-size: 12
 pt\; color: #000000\;'>1804: The Lewis and Clark Expedition\, navigating t
 he Missouri River\, was near present-day Otoe County\, Nebraska\, across f
 rom Missouri’s Atchison County\, on or around July 28. They continued thei
 r council with Otoe and Missouri tribes\, documenting the region’s geograp
 hy and cultural interactions\, advancing their exploration of the Louisian
 a Purchase.</span></li>\n<li><span style='font-family: arial\, helvetica\,
  sans-serif\; font-size: 12pt\; color: #000000\;'>1838: During the Mormon 
 War in Missouri\, conflicts escalated. On or around July 28\, non-Mormon r
 esidents in Carroll and Daviess Counties intensified attacks on Mormon set
 tlers\, with increasing violence contributing to the state’s expulsion ord
 er against Mormons later in 1838.</span></li>\n<li><span style='font-famil
 y: arial\, helvetica\, sans-serif\; font-size: 12pt\; color: #000000\;'>18
 61: During the Civil War\, Missouri saw ongoing military activity. On July
  28\, Union forces under General Nathaniel Lyon were engaged in minor skir
 mishes in southwest Missouri near Springfield\, as they prepared for the B
 attle of Wilson’s Creek.</span></li>\n<li><span style='font-family: arial\
 , helvetica\, sans-serif\; font-size: 12pt\; color: #000000\;'>1879: The S
 t. Louis-based Missouri Botanical Garden hosted a significant public event
  around July 28\, showcasing new plant species and horticultural innovatio
 ns\, reinforcing its status as a leading botanical research center.</span>
 </li>\n<li><span style='font-family: arial\, helvetica\, sans-serif\; font
 -size: 12pt\; color: #000000\;'>1904: The St. Louis World’s Fair\, or Loui
 siana Purchase Exposition\, was ongoing\, with July 28 featuring internati
 onal scientific exhibits and early Olympic events\, highlighting Missouri’
 s global cultural and economic prominence.</span></li>\n<li><span style='f
 ont-family: arial\, helvetica\, sans-serif\; font-size: 12pt\; color: #000
 000\;'>1930: The Kansas City Star published a major investigative report o
 n or around July 28\, exposing corruption in the city’s political machine 
 under Tom Pendergast\, reflecting Missouri’s complex political history dur
 ing the Great Depression.</span></li>\n</ul>
DTSTART;TZID=America/Chicago:20250728T000000
DTEND;TZID=America/Chicago:20250728T235959
RRULE:FREQ=YEARLY;COUNT=3;INTERVAL=1
SUMMARY:July 28th This Day in Missouri
URL:https://mail.taneycountyrepublicans.org/odds-n-ends/this-week-in-missou
 ri/24-this-day-in-missouri/1741-july-28th-this-day-in-missouri.html
X-ALT-DESC;FMTTYPE=TEXT/HTML:<p><span style='font-family: arial\, helvetica
 \, sans-serif\; font-size: 12pt\; color: #000000\;'>On July 28\, the follo
 wing notable historical events related to Missouri have been recorded:</sp
 an></p>\n<ul>\n<li><span style='font-family: arial\, helvetica\, sans-seri
 f\; font-size: 12pt\; color: #000000\;'>1804: The Lewis and Clark Expediti
 on\, navigating the Missouri River\, was near present-day Otoe County\, Ne
 braska\, across from Missouri’s Atchison County\, on or around July 28. Th
 ey continued their council with Otoe and Missouri tribes\, documenting the
  region’s geography and cultural interactions\, advancing their exploratio
 n of the Louisiana Purchase.</span></li>\n<li><span style='font-family: ar
 ial\, helvetica\, sans-serif\; font-size: 12pt\; color: #000000\;'>1838: D
 uring the Mormon War in Missouri\, conflicts escalated. On or around July 
 28\, non-Mormon residents in Carroll and Daviess Counties intensified atta
 cks on Mormon settlers\, with increasing violence contributing to the stat
 e’s expulsion order against Mormons later in 1838.</span></li>\n<li><span 
 style='font-family: arial\, helvetica\, sans-serif\; font-size: 12pt\; col
 or: #000000\;'>1861: During the Civil War\, Missouri saw ongoing military 
 activity. On July 28\, Union forces under General Nathaniel Lyon were enga
 ged in minor skirmishes in southwest Missouri near Springfield\, as they p
 repared for the Battle of Wilson’s Creek.</span></li>\n<li><span style='fo
 nt-family: arial\, helvetica\, sans-serif\; font-size: 12pt\; color: #0000
 00\;'>1879: The St. Louis-based Missouri Botanical Garden hosted a signifi
 cant public event around July 28\, showcasing new plant species and hortic
 ultural innovations\, reinforcing its status as a leading botanical resear
 ch center.</span></li>\n<li><span style='font-family: arial\, helvetica\, 
 sans-serif\; font-size: 12pt\; color: #000000\;'>1904: The St. Louis World
 ’s Fair\, or Louisiana Purchase Exposition\, was ongoing\, with July 28 fe
 aturing international scientific exhibits and early Olympic events\, highl
 ighting Missouri’s global cultural and economic prominence.</span></li>\n<
 li><span style='font-family: arial\, helvetica\, sans-serif\; font-size: 1
 2pt\; color: #000000\;'>1930: The Kansas City Star published a major inves
 tigative report on or around July 28\, exposing corruption in the city’s p
 olitical machine under Tom Pendergast\, reflecting Missouri’s complex poli
 tical history during the Great Depression.</span></li>\n</ul>
END:VEVENT
END:VCALENDAR
