BEGIN:VCALENDAR
VERSION:2.0
PRODID:-//https://mail.taneycountyrepublicans.org//NONSGML kigkonsult.se iCalcreator 2.41.71//
CALSCALE:GREGORIAN
METHOD:PUBLISH
UID:32346336-3165-4338-a635-366464316437
X-WR-CALNAME:JCal Pro Calendar
X-WR-CALDESC:Your online events calendar
X-WR-TIMEZONE:America/Chicago
BEGIN:VTIMEZONE
TZID:America/Chicago
TZUNTIL:20271107T070000Z
BEGIN:STANDARD
TZNAME:CST
DTSTART:20251102T020000
TZOFFSETFROM:-0500
TZOFFSETTO:-0600
RDATE:20261101T020000
END:STANDARD
BEGIN:DAYLIGHT
TZNAME:CDT
DTSTART:20260308T020000
TZOFFSETFROM:-0600
TZOFFSETTO:-0500
RDATE:20270314T020000
END:DAYLIGHT
END:VTIMEZONE
BEGIN:VEVENT
UID:20250722T110000UTC-8824k1VvAX@https://taneycountyrepublicans.org/
DTSTAMP:20260420T160111Z
CATEGORIES:This Day in Missouri
DESCRIPTION:<p><span style='font-family: arial\, helvetica\, sans-serif\; f
 ont-size: 12pt\; color: #000000\;'>On July 22\, the following notable hist
 orical events related to Missouri have been recorded:</span></p>\n<ul>\n<l
 i><span style='font-family: arial\, helvetica\, sans-serif\; font-size: 12
 pt\; color: #000000\;'>1804: The Lewis and Clark Expedition\, navigating t
 he Missouri River\, was near present-day Otoe County\, Nebraska\, across f
 rom Missouri’s Atchison County\, on or around July 22. They documented the
  region’s geography and continued their council with Otoe and Missouri tri
 bes\, contributing to their exploration of the Louisiana Purchase.</span><
 /li>\n<li><span style='font-family: arial\, helvetica\, sans-serif\; font-
 size: 12pt\; color: #000000\;'>1838: During the Mormon War in Missouri\, c
 onflicts intensified. On or around July 22\, non-Mormon vigilantes in Carr
 oll County increased attacks on Mormon settlers\, escalating the violence 
 that led to the state’s expulsion order against Mormons later in 1838.</sp
 an></li>\n<li><span style='font-family: arial\, helvetica\, sans-serif\; f
 ont-size: 12pt\; color: #000000\;'>1861: During the Civil War\, Missouri s
 aw ongoing military activity. On July 22\, Union forces under General Nath
 aniel Lyon were maneuvering in southwest Missouri\, with minor skirmishes 
 near Springfield as they prepared for the Battle of Wilson’s Creek.</span>
 </li>\n<li><span style='font-family: arial\, helvetica\, sans-serif\; font
 -size: 12pt\; color: #000000\;'>1870: The Missouri\, Kansas\, and Texas Ra
 ilway (Katy Railroad) completed a key section through central Missouri aro
 und July 22\, connecting Sedalia to other regions and boosting economic de
 velopment in the state.</span></li>\n<li><span style='font-family: arial\,
  helvetica\, sans-serif\; font-size: 12pt\; color: #000000\;'>1904: The St
 . Louis World’s Fair\, or Louisiana Purchase Exposition\, was ongoing\, wi
 th July 22 featuring international art exhibitions and early Olympic event
 s\, showcasing Missouri’s global cultural prominence.</span></li>\n<li><sp
 an style='font-family: arial\, helvetica\, sans-serif\; font-size: 12pt\; 
 color: #000000\;'>1933: The Kansas City Star published a major exposé on o
 r around July 22\, detailing political corruption in the city’s Pendergast
  machine\, highlighting Missouri’s complex political landscape during the 
 Great Depression.</span></li>\n</ul>
DTSTART;TZID=America/Chicago:20250722T000000
DTEND;TZID=America/Chicago:20250722T235959
RRULE:FREQ=YEARLY;COUNT=3;INTERVAL=1
SUMMARY:July 22nd This Day in Missouri
URL:https://mail.taneycountyrepublicans.org/odds-n-ends/this-week-in-missou
 ri/24-this-day-in-missouri/1723-july-22nd-this-day-in-missouri.html
X-ALT-DESC;FMTTYPE=TEXT/HTML:<p><span style='font-family: arial\, helvetica
 \, sans-serif\; font-size: 12pt\; color: #000000\;'>On July 22\, the follo
 wing notable historical events related to Missouri have been recorded:</sp
 an></p>\n<ul>\n<li><span style='font-family: arial\, helvetica\, sans-seri
 f\; font-size: 12pt\; color: #000000\;'>1804: The Lewis and Clark Expediti
 on\, navigating the Missouri River\, was near present-day Otoe County\, Ne
 braska\, across from Missouri’s Atchison County\, on or around July 22. Th
 ey documented the region’s geography and continued their council with Otoe
  and Missouri tribes\, contributing to their exploration of the Louisiana 
 Purchase.</span></li>\n<li><span style='font-family: arial\, helvetica\, s
 ans-serif\; font-size: 12pt\; color: #000000\;'>1838: During the Mormon Wa
 r in Missouri\, conflicts intensified. On or around July 22\, non-Mormon v
 igilantes in Carroll County increased attacks on Mormon settlers\, escalat
 ing the violence that led to the state’s expulsion order against Mormons l
 ater in 1838.</span></li>\n<li><span style='font-family: arial\, helvetica
 \, sans-serif\; font-size: 12pt\; color: #000000\;'>1861: During the Civil
  War\, Missouri saw ongoing military activity. On July 22\, Union forces u
 nder General Nathaniel Lyon were maneuvering in southwest Missouri\, with 
 minor skirmishes near Springfield as they prepared for the Battle of Wilso
 n’s Creek.</span></li>\n<li><span style='font-family: arial\, helvetica\, 
 sans-serif\; font-size: 12pt\; color: #000000\;'>1870: The Missouri\, Kans
 as\, and Texas Railway (Katy Railroad) completed a key section through cen
 tral Missouri around July 22\, connecting Sedalia to other regions and boo
 sting economic development in the state.</span></li>\n<li><span style='fon
 t-family: arial\, helvetica\, sans-serif\; font-size: 12pt\; color: #00000
 0\;'>1904: The St. Louis World’s Fair\, or Louisiana Purchase Exposition\,
  was ongoing\, with July 22 featuring international art exhibitions and ea
 rly Olympic events\, showcasing Missouri’s global cultural prominence.</sp
 an></li>\n<li><span style='font-family: arial\, helvetica\, sans-serif\; f
 ont-size: 12pt\; color: #000000\;'>1933: The Kansas City Star published a 
 major exposé on or around July 22\, detailing political corruption in the 
 city’s Pendergast machine\, highlighting Missouri’s complex political land
 scape during the Great Depression.</span></li>\n</ul>
END:VEVENT
END:VCALENDAR
