BEGIN:VCALENDAR
VERSION:2.0
PRODID:-//https://mail.taneycountyrepublicans.org//NONSGML kigkonsult.se iCalcreator 2.41.71//
CALSCALE:GREGORIAN
METHOD:PUBLISH
UID:32326633-3237-4566-b365-343233386162
X-WR-CALNAME:JCal Pro Calendar
X-WR-CALDESC:Your online events calendar
X-WR-TIMEZONE:America/Chicago
BEGIN:VTIMEZONE
TZID:America/Chicago
TZUNTIL:20271107T070000Z
BEGIN:STANDARD
TZNAME:CST
DTSTART:20251102T020000
TZOFFSETFROM:-0500
TZOFFSETTO:-0600
RDATE:20261101T020000
END:STANDARD
BEGIN:DAYLIGHT
TZNAME:CDT
DTSTART:20260308T020000
TZOFFSETFROM:-0600
TZOFFSETTO:-0500
RDATE:20270314T020000
END:DAYLIGHT
END:VTIMEZONE
BEGIN:VEVENT
UID:20250611T120000UTC-5212xor5u7@https://taneycountyrepublicans.org/
DTSTAMP:20260422T143305Z
CATEGORIES:This Day in Missouri
DESCRIPTION:<p><span style='font-family: arial\, helvetica\, sans-serif\; f
 ont-size: 12pt\; color: #000000\;'>On June 11\, the following notable hist
 orical events related to Missouri have been recorded:</span></p>\n<ul>\n<l
 i><span style='font-family: arial\, helvetica\, sans-serif\; font-size: 12
 pt\; color: #000000\;'>1804: The Lewis and Clark Expedition was in the St.
  Louis area on or around June 11\, finalizing preparations for their journ
 ey up the Missouri River to explore the Louisiana Purchase. They were comp
 leting logistical arrangements and gathering final supplies\, reinforcing 
 Missouri’s role as the launch point for western exploration.</span></li>\n
 <li><span style='font-family: arial\, helvetica\, sans-serif\; font-size: 
 12pt\; color: #000000\;'>1820: Missouri’s constitutional convention\, conv
 ened in St. Louis\, continued drafting the state’s first constitution arou
 nd June 11. This was a crucial step toward Missouri’s admission as a state
  in 1821\, amid national debates over slavery tied to the Missouri Comprom
 ise.</span></li>\n<li><span style='font-family: arial\, helvetica\, sans-s
 erif\; font-size: 12pt\; color: #000000\;'>1861: During the Civil War\, Mi
 ssouri was a hotbed of tension. On June 11\, the St. Louis Conference took
  place\, where Union General Nathaniel Lyon met with Confederate-aligned G
 overnor Claiborne Jackson and militia leader Sterling Price. The talks fai
 led\, escalating tensions that led to Lyon’s capture of Jefferson City day
 s later.</span></li>\n<li><span style='font-family: arial\, helvetica\, sa
 ns-serif\; font-size: 12pt\; color: #000000\;'>1876: The St. Louis-based M
 issouri Botanical Garden\, founded by Henry Shaw\, hosted a significant pu
 blic exhibition around June 11\, showcasing new plant species and horticul
 tural innovations\, reinforcing its status as a leading botanical research
  center.</span></li>\n<li><span style='font-family: arial\, helvetica\, sa
 ns-serif\; font-size: 12pt\; color: #000000\;'>1904: The St. Louis World’s
  Fair\, or Louisiana Purchase Exposition\, was underway\, with June 11 fea
 turing early international scientific exhibits and cultural performances\,
  highlighting Missouri’s prominence as a global hub.</span></li>\n<li><spa
 n style='font-family: arial\, helvetica\, sans-serif\; font-size: 12pt\; c
 olor: #000000\;'>1964</span></li>\n</ul>
DTSTART;TZID=America/Chicago:20250611T000000
DTEND;TZID=America/Chicago:20250611T235959
RRULE:FREQ=YEARLY;COUNT=3;INTERVAL=1
SUMMARY:June 11th This Day in Missouri
URL:https://mail.taneycountyrepublicans.org/odds-n-ends/this-week-in-missou
 ri/24-this-day-in-missouri/1789-june-11th-this-day-in-missouri.html
X-ALT-DESC;FMTTYPE=TEXT/HTML:<p><span style='font-family: arial\, helvetica
 \, sans-serif\; font-size: 12pt\; color: #000000\;'>On June 11\, the follo
 wing notable historical events related to Missouri have been recorded:</sp
 an></p>\n<ul>\n<li><span style='font-family: arial\, helvetica\, sans-seri
 f\; font-size: 12pt\; color: #000000\;'>1804: The Lewis and Clark Expediti
 on was in the St. Louis area on or around June 11\, finalizing preparation
 s for their journey up the Missouri River to explore the Louisiana Purchas
 e. They were completing logistical arrangements and gathering final suppli
 es\, reinforcing Missouri’s role as the launch point for western explorati
 on.</span></li>\n<li><span style='font-family: arial\, helvetica\, sans-se
 rif\; font-size: 12pt\; color: #000000\;'>1820: Missouri’s constitutional 
 convention\, convened in St. Louis\, continued drafting the state’s first 
 constitution around June 11. This was a crucial step toward Missouri’s adm
 ission as a state in 1821\, amid national debates over slavery tied to the
  Missouri Compromise.</span></li>\n<li><span style='font-family: arial\, h
 elvetica\, sans-serif\; font-size: 12pt\; color: #000000\;'>1861: During t
 he Civil War\, Missouri was a hotbed of tension. On June 11\, the St. Loui
 s Conference took place\, where Union General Nathaniel Lyon met with Conf
 ederate-aligned Governor Claiborne Jackson and militia leader Sterling Pri
 ce. The talks failed\, escalating tensions that led to Lyon’s capture of J
 efferson City days later.</span></li>\n<li><span style='font-family: arial
 \, helvetica\, sans-serif\; font-size: 12pt\; color: #000000\;'>1876: The 
 St. Louis-based Missouri Botanical Garden\, founded by Henry Shaw\, hosted
  a significant public exhibition around June 11\, showcasing new plant spe
 cies and horticultural innovations\, reinforcing its status as a leading b
 otanical research center.</span></li>\n<li><span style='font-family: arial
 \, helvetica\, sans-serif\; font-size: 12pt\; color: #000000\;'>1904: The 
 St. Louis World’s Fair\, or Louisiana Purchase Exposition\, was underway\,
  with June 11 featuring early international scientific exhibits and cultur
 al performances\, highlighting Missouri’s prominence as a global hub.</spa
 n></li>\n<li><span style='font-family: arial\, helvetica\, sans-serif\; fo
 nt-size: 12pt\; color: #000000\;'>1964</span></li>\n</ul>
END:VEVENT
END:VCALENDAR
