BEGIN:VCALENDAR
VERSION:2.0
PRODID:-//https://mail.taneycountyrepublicans.org//NONSGML kigkonsult.se iCalcreator 2.41.71//
CALSCALE:GREGORIAN
METHOD:PUBLISH
UID:66323631-6562-4663-b766-643935323335
X-WR-CALNAME:JCal Pro Calendar
X-WR-CALDESC:Your online events calendar
X-WR-TIMEZONE:America/Chicago
BEGIN:VTIMEZONE
TZID:America/Chicago
TZUNTIL:20271107T070000Z
BEGIN:STANDARD
TZNAME:CST
DTSTART:20251102T020000
TZOFFSETFROM:-0500
TZOFFSETTO:-0600
RDATE:20261101T020000
END:STANDARD
BEGIN:DAYLIGHT
TZNAME:CDT
DTSTART:20260308T020000
TZOFFSETFROM:-0600
TZOFFSETTO:-0500
RDATE:20270314T020000
END:DAYLIGHT
END:VTIMEZONE
BEGIN:VEVENT
UID:20250604T110000UTC-6861pGlRjr@https://taneycountyrepublicans.org/
DTSTAMP:20260420T155553Z
CATEGORIES:This Day in Missouri
DESCRIPTION:<p><span style='font-family: arial\, helvetica\, sans-serif\; f
 ont-size: 12pt\; color: #000000\;'>On June 4\, the following notable histo
 rical events related to Missouri have been recorded:</span></p>\n<ul>\n<li
 ><span style='font-family: arial\, helvetica\, sans-serif\; font-size: 12p
 t\; color: #000000\;'>1804: The Lewis and Clark Expedition was in the St. 
 Louis area on or around June 4\, finalizing preparations for their journey
  up the Missouri River to explore the Louisiana Purchase. They were gather
 ing supplies and coordinating with local officials\, solidifying Missouri’
 s role as the gateway to western exploration.</span></li>\n<li><span style
 ='font-family: arial\, helvetica\, sans-serif\; font-size: 12pt\; color: #
 000000\;'>1820: Missouri’s constitutional convention\, held in St. Louis\,
  was actively drafting the state’s first constitution around June 4. This 
 was a crucial step toward Missouri’s admission as a state in 1821\, amid n
 ational debates over slavery tied to the Missouri Compromise.</span></li>
 \n<li><span style='font-family: arial\, helvetica\, sans-serif\; font-size
 : 12pt\; color: #000000\;'>1861: During the Civil War\, Missouri was a foc
 al point of conflict. On or around June 4\, Union forces under General Nat
 haniel Lyon were reinforcing their control over St. Louis\, securing key l
 ocations like the arsenal to prevent Confederate sympathizers from gaining
  ground.</span></li>\n<li><span style='font-family: arial\, helvetica\, sa
 ns-serif\; font-size: 12pt\; color: #000000\;'>1876: The St. Louis-based M
 issouri Botanical Garden\, founded by Henry Shaw\, hosted a significant pu
 blic exhibition around June 4\, showcasing rare plant species and advancin
 g its reputation as a leading botanical research center.</span></li>\n<li>
 <span style='font-family: arial\, helvetica\, sans-serif\; font-size: 12pt
 \; color: #000000\;'>1904: The St. Louis World’s Fair\, or Louisiana Purch
 ase Exposition\, was underway\, with June 4 featuring early international 
 exhibits and technological displays\, highlighting Missouri’s prominence a
 s a global cultural and economic hub.</span></li>\n<li><span style='font-f
 amily: arial\, helvetica\, sans-serif\; font-size: 12pt\; color: #000000\;
 '>1942: During World War II\, the Weldon Spring Ordnance Works in St. Char
 les County\, Missouri\, was in full operation around June 4\, producing ex
 plosives for the war effort\, underscoring Missouri’s contribution to the 
 national defense industry.</span></li>\n</ul>
DTSTART;TZID=America/Chicago:20250604T000000
DTEND;TZID=America/Chicago:20250604T235959
RRULE:FREQ=YEARLY;COUNT=3;INTERVAL=1
SUMMARY:June 4th This Day in Missouri
URL:https://mail.taneycountyrepublicans.org/odds-n-ends/this-week-in-missou
 ri/24-this-day-in-missouri/1768-june-4th-this-day-in-missouri.html
X-ALT-DESC;FMTTYPE=TEXT/HTML:<p><span style='font-family: arial\, helvetica
 \, sans-serif\; font-size: 12pt\; color: #000000\;'>On June 4\, the follow
 ing notable historical events related to Missouri have been recorded:</spa
 n></p>\n<ul>\n<li><span style='font-family: arial\, helvetica\, sans-serif
 \; font-size: 12pt\; color: #000000\;'>1804: The Lewis and Clark Expeditio
 n was in the St. Louis area on or around June 4\, finalizing preparations 
 for their journey up the Missouri River to explore the Louisiana Purchase.
  They were gathering supplies and coordinating with local officials\, soli
 difying Missouri’s role as the gateway to western exploration.</span></li>
 \n<li><span style='font-family: arial\, helvetica\, sans-serif\; font-size
 : 12pt\; color: #000000\;'>1820: Missouri’s constitutional convention\, he
 ld in St. Louis\, was actively drafting the state’s first constitution aro
 und June 4. This was a crucial step toward Missouri’s admission as a state
  in 1821\, amid national debates over slavery tied to the Missouri Comprom
 ise.</span></li>\n<li><span style='font-family: arial\, helvetica\, sans-s
 erif\; font-size: 12pt\; color: #000000\;'>1861: During the Civil War\, Mi
 ssouri was a focal point of conflict. On or around June 4\, Union forces u
 nder General Nathaniel Lyon were reinforcing their control over St. Louis\
 , securing key locations like the arsenal to prevent Confederate sympathiz
 ers from gaining ground.</span></li>\n<li><span style='font-family: arial\
 , helvetica\, sans-serif\; font-size: 12pt\; color: #000000\;'>1876: The S
 t. Louis-based Missouri Botanical Garden\, founded by Henry Shaw\, hosted 
 a significant public exhibition around June 4\, showcasing rare plant spec
 ies and advancing its reputation as a leading botanical research center.</
 span></li>\n<li><span style='font-family: arial\, helvetica\, sans-serif\;
  font-size: 12pt\; color: #000000\;'>1904: The St. Louis World’s Fair\, or
  Louisiana Purchase Exposition\, was underway\, with June 4 featuring earl
 y international exhibits and technological displays\, highlighting Missour
 i’s prominence as a global cultural and economic hub.</span></li>\n<li><sp
 an style='font-family: arial\, helvetica\, sans-serif\; font-size: 12pt\; 
 color: #000000\;'>1942: During World War II\, the Weldon Spring Ordnance W
 orks in St. Charles County\, Missouri\, was in full operation around June 
 4\, producing explosives for the war effort\, underscoring Missouri’s cont
 ribution to the national defense industry.</span></li>\n</ul>
END:VEVENT
END:VCALENDAR
