BEGIN:VCALENDAR
VERSION:2.0
PRODID:-//https://mail.taneycountyrepublicans.org//NONSGML kigkonsult.se iCalcreator 2.41.71//
CALSCALE:GREGORIAN
METHOD:PUBLISH
UID:36373936-6562-4464-b737-336331366563
X-WR-CALNAME:JCal Pro Calendar
X-WR-CALDESC:Your online events calendar
X-WR-TIMEZONE:America/Chicago
BEGIN:VTIMEZONE
TZID:America/Chicago
TZUNTIL:20271107T070000Z
BEGIN:STANDARD
TZNAME:CST
DTSTART:20251102T020000
TZOFFSETFROM:-0500
TZOFFSETTO:-0600
RDATE:20261101T020000
END:STANDARD
BEGIN:DAYLIGHT
TZNAME:CDT
DTSTART:20260308T020000
TZOFFSETFROM:-0600
TZOFFSETTO:-0500
RDATE:20270314T020000
END:DAYLIGHT
END:VTIMEZONE
BEGIN:VEVENT
UID:20250311T000000UTC-4033hV2gnw@https://taneycountyrepublicans.org/
DTSTAMP:20260423T050701Z
CATEGORIES:This Day in Missouri
DESCRIPTION:<p><span style='font-family: arial\, helvetica\, sans-serif\; f
 ont-size: 12pt\; color: #000000\;'>On March 11\, the following notable his
 torical events related to Missouri occurred:</span></p>\n<ul>\n<li><span s
 tyle='font-family: arial\, helvetica\, sans-serif\; font-size: 12pt\; colo
 r: #000000\;'>1806: St. Louis traders prepared for spring fur trade expedi
 tions\, a key Missouri economic driver\, though no specific event is noted
  for this date.</span></li>\n<li><span style='font-family: arial\, helveti
 ca\, sans-serif\; font-size: 12pt\; color: #000000\;'>1856: Missouri’s pro
 -slavery “Border Ruffians” intensified raids into Kansas during “Bleeding 
 Kansas\,” clashing with anti-slavery settlers to control the territory’s s
 lavery future.</span></li>\n<li><span style='font-family: arial\, helvetic
 a\, sans-serif\; font-size: 12pt\; color: #000000\;'>1861: Union General H
 enry W. Halleck\, based in St. Louis\, reinforced federal control\, while 
 rural Confederate guerrillas planned spring raids\, escalating Missouri’s 
 Civil War tensions.</span></li>\n<li><span style='font-family: arial\, hel
 vetica\, sans-serif\; font-size: 12pt\; color: #000000\;'>1864: Confederat
 e General Sterling Price’s Missouri units in Arkansas focused on spring ca
 mpaign planning\, with Missouri under Union control and minimal Confederat
 e activity.</span></li>\n<li><span style='font-family: arial\, helvetica\,
  sans-serif\; font-size: 12pt\; color: #000000\;'>1888: The Missouri Pacif
 ic Railroad’s southeast Missouri network\, linking Cape Girardeau to natio
 nal markets\, boosted trade\, with mid-March freight operations thriving.<
 /span></li>\n<li><span style='font-family: arial\, helvetica\, sans-serif\
 ; font-size: 12pt\; color: #000000\;'>1929: The Great Depression deepened 
 Missouri’s economic crisis\, with Kansas City and St. Louis facing job los
 ses\, while spring relief efforts aimed to provide food and shelter.</span
 ></li>\n<li><span style='font-family: arial\, helvetica\, sans-serif\; fon
 t-size: 12pt\; color: #000000\;'>1941: Missouri’s St. Louis and Kansas Cit
 y\, post-Pearl Harbor\, ramped up World War II production\, with factories
  expanding military output and enlistment drives growing.</span></li>\n</u
 l>
DTSTART;TZID=America/Chicago:20250311T000000
DTEND;TZID=America/Chicago:20250311T235959
RRULE:FREQ=YEARLY;COUNT=3;INTERVAL=1
SUMMARY:March 11th This Day in Missouri
URL:https://mail.taneycountyrepublicans.org/odds-n-ends/this-week-in-missou
 ri/24-this-day-in-missouri/2599-march-11th-this-day-in-missouri.html
X-ALT-DESC;FMTTYPE=TEXT/HTML:<p><span style='font-family: arial\, helvetica
 \, sans-serif\; font-size: 12pt\; color: #000000\;'>On March 11\, the foll
 owing notable historical events related to Missouri occurred:</span></p>\n
 <ul>\n<li><span style='font-family: arial\, helvetica\, sans-serif\; font-
 size: 12pt\; color: #000000\;'>1806: St. Louis traders prepared for spring
  fur trade expeditions\, a key Missouri economic driver\, though no specif
 ic event is noted for this date.</span></li>\n<li><span style='font-family
 : arial\, helvetica\, sans-serif\; font-size: 12pt\; color: #000000\;'>185
 6: Missouri’s pro-slavery “Border Ruffians” intensified raids into Kansas 
 during “Bleeding Kansas\,” clashing with anti-slavery settlers to control 
 the territory’s slavery future.</span></li>\n<li><span style='font-family:
  arial\, helvetica\, sans-serif\; font-size: 12pt\; color: #000000\;'>1861
 : Union General Henry W. Halleck\, based in St. Louis\, reinforced federal
  control\, while rural Confederate guerrillas planned spring raids\, escal
 ating Missouri’s Civil War tensions.</span></li>\n<li><span style='font-fa
 mily: arial\, helvetica\, sans-serif\; font-size: 12pt\; color: #000000\;'
 >1864: Confederate General Sterling Price’s Missouri units in Arkansas foc
 used on spring campaign planning\, with Missouri under Union control and m
 inimal Confederate activity.</span></li>\n<li><span style='font-family: ar
 ial\, helvetica\, sans-serif\; font-size: 12pt\; color: #000000\;'>1888: T
 he Missouri Pacific Railroad’s southeast Missouri network\, linking Cape G
 irardeau to national markets\, boosted trade\, with mid-March freight oper
 ations thriving.</span></li>\n<li><span style='font-family: arial\, helvet
 ica\, sans-serif\; font-size: 12pt\; color: #000000\;'>1929: The Great Dep
 ression deepened Missouri’s economic crisis\, with Kansas City and St. Lou
 is facing job losses\, while spring relief efforts aimed to provide food a
 nd shelter.</span></li>\n<li><span style='font-family: arial\, helvetica\,
  sans-serif\; font-size: 12pt\; color: #000000\;'>1941: Missouri’s St. Lou
 is and Kansas City\, post-Pearl Harbor\, ramped up World War II production
 \, with factories expanding military output and enlistment drives growing.
 </span></li>\n</ul>
END:VEVENT
END:VCALENDAR
