BEGIN:VCALENDAR
VERSION:2.0
PRODID:-//https://mail.taneycountyrepublicans.org//NONSGML kigkonsult.se iCalcreator 2.41.71//
CALSCALE:GREGORIAN
METHOD:PUBLISH
UID:61333664-6331-4236-a166-373636336135
X-WR-CALNAME:JCal Pro Calendar
X-WR-CALDESC:Your online events calendar
X-WR-TIMEZONE:America/Chicago
BEGIN:VTIMEZONE
TZID:America/Chicago
TZUNTIL:20271107T070000Z
BEGIN:STANDARD
TZNAME:CST
DTSTART:20251102T020000
TZOFFSETFROM:-0500
TZOFFSETTO:-0600
RDATE:20261101T020000
END:STANDARD
BEGIN:DAYLIGHT
TZNAME:CDT
DTSTART:20260308T020000
TZOFFSETFROM:-0600
TZOFFSETTO:-0500
RDATE:20270314T020000
END:DAYLIGHT
END:VTIMEZONE
BEGIN:VEVENT
UID:20250102T000000UTC-3390lcTWiU@https://taneycountyrepublicans.org/
DTSTAMP:20260421T140825Z
CATEGORIES:This Day in Missouri
DESCRIPTION:<p><span style='font-family: arial\, helvetica\, sans-serif\; f
 ont-size: 12pt\; color: #000000\;'>On January 2\, the following notable hi
 storical events related to Missouri occurred:</span></p>\n<ul>\n<li><span 
 style='font-family: arial\, helvetica\, sans-serif\; font-size: 12pt\; col
 or: #000000\;'>1806: Zebulon Pike’s expedition\, launched from St. Louis t
 o explore the southern Louisiana Purchase\, continued mapping the Arkansas
  River region\, though no specific Missouri event is documented for this d
 ate\, likely due to post-New Year’s slowdowns.</span></li>\n<li><span styl
 e='font-family: arial\, helvetica\, sans-serif\; font-size: 12pt\; color: 
 #000000\;'>1856: In the “Bleeding Kansas” crisis\, pro-slavery “Border Ruf
 fians” from Missouri resumed raiding Kansas anti-slavery settlements after
  New Year’s\, escalating violent clashes over the territory’s slavery stat
 us.</span></li>\n<li><span style='font-family: arial\, helvetica\, sans-se
 rif\; font-size: 12pt\; color: #000000\;'>1861: During the Civil War\, Uni
 on General Henry W. Halleck\, commanding from St. Louis\, reinforced feder
 al control\, while Confederate guerrilla raids in rural Missouri likely re
 sumed post-New Year’s\, intensifying the state’s internal divisions.</span
 ></li>\n<li><span style='font-family: arial\, helvetica\, sans-serif\; fon
 t-size: 12pt\; color: #000000\;'>1864: After Confederate General Sterling 
 Price’s failed Missouri campaign\, his forces\, including Missouri units\,
  were regrouping in Arkansas following October defeats\, with minimal acti
 vity likely immediately after New Year’s.</span></li>\n<li><span style='fo
 nt-family: arial\, helvetica\, sans-serif\; font-size: 12pt\; color: #0000
 00\;'>1888: The Missouri Pacific Railroad advanced its southeast Missouri 
 network\, connecting towns like Cape Girardeau to national markets\, foste
 ring economic growth\, though operations likely restarted slowly after New
  Year’s.</span></li>\n<li><span style='font-family: arial\, helvetica\, sa
 ns-serif\; font-size: 12pt\; color: #000000\;'>1929: The Great Depression 
 devastated Missouri\, with Kansas City and St. Louis facing mass unemploym
 ent and business failures\, while post-New Year’s relief efforts sought to
  address ongoing economic hardship.</span></li>\n<li><span style='font-fam
 ily: arial\, helvetica\, sans-serif\; font-size: 12pt\; color: #000000\;'>
 1941: Missouri communities\, including St. Louis and Kansas City\, escalat
 ed World War II mobilization post-Pearl Harbor\, with local industries res
 uming war production and recruitment drives intensifying after New Year’s 
 celebrations.</span></li>\n</ul>
DTSTART;TZID=America/Chicago:20250102T000000
DTEND;TZID=America/Chicago:20250102T235959
RRULE:FREQ=YEARLY;COUNT=3;INTERVAL=1
SUMMARY:January 2nd This Day in Missouri
URL:https://mail.taneycountyrepublicans.org/odds-n-ends/this-week-in-missou
 ri/24-this-day-in-missouri/2387-january-2nd-this-day-in-missouri.html
X-ALT-DESC;FMTTYPE=TEXT/HTML:<p><span style='font-family: arial\, helvetica
 \, sans-serif\; font-size: 12pt\; color: #000000\;'>On January 2\, the fol
 lowing notable historical events related to Missouri occurred:</span></p>
 \n<ul>\n<li><span style='font-family: arial\, helvetica\, sans-serif\; fon
 t-size: 12pt\; color: #000000\;'>1806: Zebulon Pike’s expedition\, launche
 d from St. Louis to explore the southern Louisiana Purchase\, continued ma
 pping the Arkansas River region\, though no specific Missouri event is doc
 umented for this date\, likely due to post-New Year’s slowdowns.</span></l
 i>\n<li><span style='font-family: arial\, helvetica\, sans-serif\; font-si
 ze: 12pt\; color: #000000\;'>1856: In the “Bleeding Kansas” crisis\, pro-s
 lavery “Border Ruffians” from Missouri resumed raiding Kansas anti-slavery
  settlements after New Year’s\, escalating violent clashes over the territ
 ory’s slavery status.</span></li>\n<li><span style='font-family: arial\, h
 elvetica\, sans-serif\; font-size: 12pt\; color: #000000\;'>1861: During t
 he Civil War\, Union General Henry W. Halleck\, commanding from St. Louis\
 , reinforced federal control\, while Confederate guerrilla raids in rural 
 Missouri likely resumed post-New Year’s\, intensifying the state’s interna
 l divisions.</span></li>\n<li><span style='font-family: arial\, helvetica\
 , sans-serif\; font-size: 12pt\; color: #000000\;'>1864: After Confederate
  General Sterling Price’s failed Missouri campaign\, his forces\, includin
 g Missouri units\, were regrouping in Arkansas following October defeats\,
  with minimal activity likely immediately after New Year’s.</span></li>\n<
 li><span style='font-family: arial\, helvetica\, sans-serif\; font-size: 1
 2pt\; color: #000000\;'>1888: The Missouri Pacific Railroad advanced its s
 outheast Missouri network\, connecting towns like Cape Girardeau to nation
 al markets\, fostering economic growth\, though operations likely restarte
 d slowly after New Year’s.</span></li>\n<li><span style='font-family: aria
 l\, helvetica\, sans-serif\; font-size: 12pt\; color: #000000\;'>1929: The
  Great Depression devastated Missouri\, with Kansas City and St. Louis fac
 ing mass unemployment and business failures\, while post-New Year’s relief
  efforts sought to address ongoing economic hardship.</span></li>\n<li><sp
 an style='font-family: arial\, helvetica\, sans-serif\; font-size: 12pt\; 
 color: #000000\;'>1941: Missouri communities\, including St. Louis and Kan
 sas City\, escalated World War II mobilization post-Pearl Harbor\, with lo
 cal industries resuming war production and recruitment drives intensifying
  after New Year’s celebrations.</span></li>\n</ul>
END:VEVENT
END:VCALENDAR
