BEGIN:VCALENDAR
VERSION:2.0
PRODID:-//https://mail.taneycountyrepublicans.org//NONSGML kigkonsult.se iCalcreator 2.41.71//
CALSCALE:GREGORIAN
METHOD:PUBLISH
UID:65643363-3934-4138-b565-373032623865
X-WR-CALNAME:JCal Pro Calendar
X-WR-CALDESC:Your online events calendar
X-WR-TIMEZONE:America/Chicago
BEGIN:VTIMEZONE
TZID:America/Chicago
TZUNTIL:20271107T070000Z
BEGIN:STANDARD
TZNAME:CST
DTSTART:20251102T020000
TZOFFSETFROM:-0500
TZOFFSETTO:-0600
RDATE:20261101T020000
END:STANDARD
BEGIN:DAYLIGHT
TZNAME:CDT
DTSTART:20260308T020000
TZOFFSETFROM:-0600
TZOFFSETTO:-0500
RDATE:20270314T020000
END:DAYLIGHT
END:VTIMEZONE
BEGIN:VEVENT
UID:20251225T000000UTC-5473BZCzxO@https://taneycountyrepublicans.org/
DTSTAMP:20260420T162928Z
CATEGORIES:This Day in Missouri
DESCRIPTION:<p><span style='font-family: arial\, helvetica\, sans-serif\; f
 ont-size: 12pt\; color: #000000\;'>On December 25\, the following notable 
 historical events related to Missouri occurred:</span></p>\n<ul>\n<li><spa
 n style='font-family: arial\, helvetica\, sans-serif\; font-size: 12pt\; c
 olor: #000000\;'>1806: Zebulon Pike’s expedition\, sent from St. Louis to 
 explore the southern Louisiana Purchase\, continued mapping the Arkansas R
 iver region\, though no specific Missouri event is documented for this dat
 e\, likely due to Christmas observances.</span></li>\n<li><span style='fon
 t-family: arial\, helvetica\, sans-serif\; font-size: 12pt\; color: #00000
 0\;'>1856: In the “Bleeding Kansas” crisis\, pro-slavery “Border Ruffians”
  from Missouri persisted in raiding Kansas anti-slavery settlements\, thou
 gh activity may have been reduced on Christmas Day\, with tensions still f
 ueling violent clashes over the territory’s slavery status.</span></li>\n<
 li><span style='font-family: arial\, helvetica\, sans-serif\; font-size: 1
 2pt\; color: #000000\;'>1861: During the Civil War\, Union General Henry W
 . Halleck\, commanding from St. Louis\, maintained federal control\, while
  Confederate guerrilla raids likely slowed in rural Missouri due to Christ
 mas\, though the state’s divisions remained deep.</span></li>\n<li><span s
 tyle='font-family: arial\, helvetica\, sans-serif\; font-size: 12pt\; colo
 r: #000000\;'>1864: After Confederate General Sterling Price’s failed Miss
 ouri campaign\, his forces\, including Missouri units\, were regrouping in
  Arkansas following October defeats\, with minimal activity likely on Chri
 stmas Day.</span></li>\n<li><span style='font-family: arial\, helvetica\, 
 sans-serif\; font-size: 12pt\; color: #000000\;'>1888: The Missouri Pacifi
 c Railroad continued expanding its southeast Missouri network\, connecting
  towns like Cape Girardeau to national markets\, though Christmas likely p
 aused major operations while supporting regional economic growth.</span></
 li>\n<li><span style='font-family: arial\, helvetica\, sans-serif\; font-s
 ize: 12pt\; color: #000000\;'>1929: The Great Depression devastated Missou
 ri\, with Kansas City and St. Louis facing mass unemployment and business 
 failures\, though Christmas Day likely saw temporary relief efforts and co
 mmunity gatherings amid economic hardship.</span></li>\n<li><span style='f
 ont-family: arial\, helvetica\, sans-serif\; font-size: 12pt\; color: #000
 000\;'>1941: Missouri communities\, including St. Louis and Kansas City\, 
 marked a somber Christmas amid World War II mobilization post-Pearl Harbor
 \, with local factories and recruitment drives continuing to support the w
 ar effort.</span></li>\n</ul>
DTSTART;TZID=America/Chicago:20251225T000000
DTEND;TZID=America/Chicago:20251225T235959
RRULE:FREQ=YEARLY;COUNT=3;INTERVAL=1
SUMMARY:December 25th This Day in Missouri
URL:https://mail.taneycountyrepublicans.org/odds-n-ends/this-week-in-missou
 ri/24-this-day-in-missouri/2361-december-25th-this-day-in-missouri.html
X-ALT-DESC;FMTTYPE=TEXT/HTML:<p><span style='font-family: arial\, helvetica
 \, sans-serif\; font-size: 12pt\; color: #000000\;'>On December 25\, the f
 ollowing notable historical events related to Missouri occurred:</span></p
 >\n<ul>\n<li><span style='font-family: arial\, helvetica\, sans-serif\; fo
 nt-size: 12pt\; color: #000000\;'>1806: Zebulon Pike’s expedition\, sent f
 rom St. Louis to explore the southern Louisiana Purchase\, continued mappi
 ng the Arkansas River region\, though no specific Missouri event is docume
 nted for this date\, likely due to Christmas observances.</span></li>\n<li
 ><span style='font-family: arial\, helvetica\, sans-serif\; font-size: 12p
 t\; color: #000000\;'>1856: In the “Bleeding Kansas” crisis\, pro-slavery 
 “Border Ruffians” from Missouri persisted in raiding Kansas anti-slavery s
 ettlements\, though activity may have been reduced on Christmas Day\, with
  tensions still fueling violent clashes over the territory’s slavery statu
 s.</span></li>\n<li><span style='font-family: arial\, helvetica\, sans-ser
 if\; font-size: 12pt\; color: #000000\;'>1861: During the Civil War\, Unio
 n General Henry W. Halleck\, commanding from St. Louis\, maintained federa
 l control\, while Confederate guerrilla raids likely slowed in rural Misso
 uri due to Christmas\, though the state’s divisions remained deep.</span><
 /li>\n<li><span style='font-family: arial\, helvetica\, sans-serif\; font-
 size: 12pt\; color: #000000\;'>1864: After Confederate General Sterling Pr
 ice’s failed Missouri campaign\, his forces\, including Missouri units\, w
 ere regrouping in Arkansas following October defeats\, with minimal activi
 ty likely on Christmas Day.</span></li>\n<li><span style='font-family: ari
 al\, helvetica\, sans-serif\; font-size: 12pt\; color: #000000\;'>1888: Th
 e Missouri Pacific Railroad continued expanding its southeast Missouri net
 work\, connecting towns like Cape Girardeau to national markets\, though C
 hristmas likely paused major operations while supporting regional economic
  growth.</span></li>\n<li><span style='font-family: arial\, helvetica\, sa
 ns-serif\; font-size: 12pt\; color: #000000\;'>1929: The Great Depression 
 devastated Missouri\, with Kansas City and St. Louis facing mass unemploym
 ent and business failures\, though Christmas Day likely saw temporary reli
 ef efforts and community gatherings amid economic hardship.</span></li>\n<
 li><span style='font-family: arial\, helvetica\, sans-serif\; font-size: 1
 2pt\; color: #000000\;'>1941: Missouri communities\, including St. Louis a
 nd Kansas City\, marked a somber Christmas amid World War II mobilization 
 post-Pearl Harbor\, with local factories and recruitment drives continuing
  to support the war effort.</span></li>\n</ul>
END:VEVENT
END:VCALENDAR
