BEGIN:VCALENDAR
VERSION:2.0
PRODID:-//https://mail.taneycountyrepublicans.org//NONSGML kigkonsult.se iCalcreator 2.41.71//
CALSCALE:GREGORIAN
METHOD:PUBLISH
UID:63653166-3933-4333-b230-303865336333
X-WR-CALNAME:JCal Pro Calendar
X-WR-CALDESC:Your online events calendar
X-WR-TIMEZONE:America/Chicago
BEGIN:VTIMEZONE
TZID:America/Chicago
TZUNTIL:20271107T070000Z
BEGIN:STANDARD
TZNAME:CST
DTSTART:20251102T020000
TZOFFSETFROM:-0500
TZOFFSETTO:-0600
RDATE:20261101T020000
END:STANDARD
BEGIN:DAYLIGHT
TZNAME:CDT
DTSTART:20260308T020000
TZOFFSETFROM:-0600
TZOFFSETTO:-0500
RDATE:20270314T020000
END:DAYLIGHT
END:VTIMEZONE
BEGIN:VEVENT
UID:20251208T000000UTC-99270ApP8L@https://taneycountyrepublicans.org/
DTSTAMP:20260420T162733Z
CATEGORIES:This Day in Missouri
DESCRIPTION:<p><span style='font-family: arial\, helvetica\, sans-serif\; f
 ont-size: 12pt\; color: #000000\;'>On December 8\, the following notable h
 istorical events related to Missouri occurred:</span></p>\n<ul>\n<li><span
  style='font-family: arial\, helvetica\, sans-serif\; font-size: 12pt\; co
 lor: #000000\;'>1806: Zebulon Pike’s expedition\, launched from St. Louis 
 to explore the southern Louisiana Purchase\, continued its journey along t
 he Arkansas River\, though no specific Missouri activity is recorded for t
 his date.</span></li>\n<li><span style='font-family: arial\, helvetica\, s
 ans-serif\; font-size: 12pt\; color: #000000\;'>1856: During the “Bleeding
  Kansas” conflict\, pro-slavery “Border Ruffians” from Missouri raided Kan
 sas anti-slavery settlements\, escalating violence over the territory’s sl
 avery status.</span></li>\n<li><span style='font-family: arial\, helvetica
 \, sans-serif\; font-size: 12pt\; color: #000000\;'>1861: In the Civil War
 \, Union General Henry W. Halleck\, based in St. Louis\, strengthened fede
 ral defenses\, while Confederate guerrillas conducted raids in rural Misso
 uri\, deepening the state’s internal conflict.</span></li>\n<li><span styl
 e='font-family: arial\, helvetica\, sans-serif\; font-size: 12pt\; color: 
 #000000\;'>1864: Following Confederate General Sterling Price’s failed Mis
 souri campaign\, his forces\, including Missouri troops\, were regrouping 
 in Arkansas after October defeats\, with logistical efforts likely around 
 this date.</span></li>\n<li><span style='font-family: arial\, helvetica\, 
 sans-serif\; font-size: 12pt\; color: #000000\;'>1888: The Missouri Pacifi
 c Railroad extended its southeast Missouri lines\, connecting towns like C
 ape Girardeau to national markets\, fostering economic and agricultural gr
 owth.</span></li>\n<li><span style='font-family: arial\, helvetica\, sans-
 serif\; font-size: 12pt\; color: #000000\;'>1929: The Great Depression dev
 astated Missouri\, with Kansas City and St. Louis facing mass unemployment
 \, widespread business closures\, and bank failures\, crippling the state’
 s economy.</span></li>\n<li><span style='font-family: arial\, helvetica\, 
 sans-serif\; font-size: 12pt\; color: #000000\;'>1941: In response to the 
 Pearl Harbor attack the previous day\, Missouri communities\, including St
 . Louis and Kansas City\, intensified World War II mobilization efforts\, 
 with local leaders organizing defense and recruitment drives.</span></li>
 \n</ul>
DTSTART;TZID=America/Chicago:20251208T000000
DTEND;TZID=America/Chicago:20251208T235959
RRULE:FREQ=YEARLY;COUNT=3;INTERVAL=1
SUMMARY:December 8th This Day in Missouri
URL:https://mail.taneycountyrepublicans.org/odds-n-ends/this-week-in-missou
 ri/24-this-day-in-missouri/2310-december-8th-this-day-in-missouri.html
X-ALT-DESC;FMTTYPE=TEXT/HTML:<p><span style='font-family: arial\, helvetica
 \, sans-serif\; font-size: 12pt\; color: #000000\;'>On December 8\, the fo
 llowing notable historical events related to Missouri occurred:</span></p>
 \n<ul>\n<li><span style='font-family: arial\, helvetica\, sans-serif\; fon
 t-size: 12pt\; color: #000000\;'>1806: Zebulon Pike’s expedition\, launche
 d from St. Louis to explore the southern Louisiana Purchase\, continued it
 s journey along the Arkansas River\, though no specific Missouri activity 
 is recorded for this date.</span></li>\n<li><span style='font-family: aria
 l\, helvetica\, sans-serif\; font-size: 12pt\; color: #000000\;'>1856: Dur
 ing the “Bleeding Kansas” conflict\, pro-slavery “Border Ruffians” from Mi
 ssouri raided Kansas anti-slavery settlements\, escalating violence over t
 he territory’s slavery status.</span></li>\n<li><span style='font-family: 
 arial\, helvetica\, sans-serif\; font-size: 12pt\; color: #000000\;'>1861:
  In the Civil War\, Union General Henry W. Halleck\, based in St. Louis\, 
 strengthened federal defenses\, while Confederate guerrillas conducted rai
 ds in rural Missouri\, deepening the state’s internal conflict.</span></li
 >\n<li><span style='font-family: arial\, helvetica\, sans-serif\; font-siz
 e: 12pt\; color: #000000\;'>1864: Following Confederate General Sterling P
 rice’s failed Missouri campaign\, his forces\, including Missouri troops\,
  were regrouping in Arkansas after October defeats\, with logistical effor
 ts likely around this date.</span></li>\n<li><span style='font-family: ari
 al\, helvetica\, sans-serif\; font-size: 12pt\; color: #000000\;'>1888: Th
 e Missouri Pacific Railroad extended its southeast Missouri lines\, connec
 ting towns like Cape Girardeau to national markets\, fostering economic an
 d agricultural growth.</span></li>\n<li><span style='font-family: arial\, 
 helvetica\, sans-serif\; font-size: 12pt\; color: #000000\;'>1929: The Gre
 at Depression devastated Missouri\, with Kansas City and St. Louis facing 
 mass unemployment\, widespread business closures\, and bank failures\, cri
 ppling the state’s economy.</span></li>\n<li><span style='font-family: ari
 al\, helvetica\, sans-serif\; font-size: 12pt\; color: #000000\;'>1941: In
  response to the Pearl Harbor attack the previous day\, Missouri communiti
 es\, including St. Louis and Kansas City\, intensified World War II mobili
 zation efforts\, with local leaders organizing defense and recruitment dri
 ves.</span></li>\n</ul>
END:VEVENT
END:VCALENDAR
