BEGIN:VCALENDAR
VERSION:2.0
PRODID:-//https://mail.taneycountyrepublicans.org//NONSGML kigkonsult.se iCalcreator 2.41.71//
CALSCALE:GREGORIAN
METHOD:PUBLISH
UID:63613936-6262-4330-b031-333436393966
X-WR-CALNAME:JCal Pro Calendar
X-WR-CALDESC:Your online events calendar
X-WR-TIMEZONE:America/Chicago
BEGIN:VTIMEZONE
TZID:America/Chicago
TZUNTIL:20271107T070000Z
BEGIN:STANDARD
TZNAME:CST
DTSTART:20251102T020000
TZOFFSETFROM:-0500
TZOFFSETTO:-0600
RDATE:20261101T020000
END:STANDARD
BEGIN:DAYLIGHT
TZNAME:CDT
DTSTART:20260308T020000
TZOFFSETFROM:-0600
TZOFFSETTO:-0500
RDATE:20270314T020000
END:DAYLIGHT
END:VTIMEZONE
BEGIN:VEVENT
UID:20251205T000000UTC-96793UAGhb@https://taneycountyrepublicans.org/
DTSTAMP:20260420T084902Z
CATEGORIES:This Day in Missouri
DESCRIPTION:<p><span style='font-family: arial\, helvetica\, sans-serif\; f
 ont-size: 12pt\; color: #000000\;'>On December 5\, the following notable h
 istorical events related to Missouri occurred:</span></p>\n<ul>\n<li><span
  style='font-family: arial\, helvetica\, sans-serif\; font-size: 12pt\; co
 lor: #000000\;'>1806: Zebulon Pike’s expedition\, sent from St. Louis to e
 xplore the southern Louisiana Purchase\, continued mapping the Arkansas Ri
 ver region\, though no specific Missouri event is documented for this date
 .</span></li>\n<li><span style='font-family: arial\, helvetica\, sans-seri
 f\; font-size: 12pt\; color: #000000\;'>1856: In the “Bleeding Kansas” cri
 sis\, pro-slavery “Border Ruffians” from Missouri persisted in raiding Kan
 sas anti-slavery settlements\, fueling violent clashes over the territory’
 s slavery status.</span></li>\n<li><span style='font-family: arial\, helve
 tica\, sans-serif\; font-size: 12pt\; color: #000000\;'>1861: During the C
 ivil War\, Union General Henry W. Halleck\, commanding from St. Louis\, st
 rengthened federal defenses\, while Confederate guerrilla raids disrupted 
 rural Missouri\, intensifying state divisions.</span></li>\n<li><span styl
 e='font-family: arial\, helvetica\, sans-serif\; font-size: 12pt\; color: 
 #000000\;'>1864: After Confederate General Sterling Price’s failed Missour
 i campaign\, his forces\, including Missouri units\, were reorganizing in 
 Arkansas following October defeats\, with some activity likely around this
  date.</span></li>\n<li><span style='font-family: arial\, helvetica\, sans
 -serif\; font-size: 12pt\; color: #000000\;'>1888: The Missouri Pacific Ra
 ilroad advanced its southeast Missouri network\, linking Cape Girardeau to
  broader trade routes\, spurring regional economic and agricultural develo
 pment.</span></li>\n<li><span style='font-family: arial\, helvetica\, sans
 -serif\; font-size: 12pt\; color: #000000\;'>1929: The Great Depression de
 epened in Missouri\, with Kansas City and St. Louis grappling with soaring
  unemployment\, widespread business failures\, and failing banks\, devasta
 ting local economies.</span></li>\n<li><span style='font-family: arial\, h
 elvetica\, sans-serif\; font-size: 12pt\; color: #000000\;'>1963: Missouri
  communities in St. Louis\, Kansas City\, and beyond held ongoing memorial
  services for President John F. Kennedy\, assassinated thirteen days earli
 er\, joining the nation in mourning.</span></li>\n</ul>
DTSTART;TZID=America/Chicago:20251205T000000
DTEND;TZID=America/Chicago:20251205T235959
RRULE:FREQ=YEARLY;COUNT=3;INTERVAL=1
SUMMARY:December 5th This Day in Missouri
URL:https://mail.taneycountyrepublicans.org/odds-n-ends/this-week-in-missou
 ri/24-this-day-in-missouri/2301-december-5th-this-day-in-missouri.html
X-ALT-DESC;FMTTYPE=TEXT/HTML:<p><span style='font-family: arial\, helvetica
 \, sans-serif\; font-size: 12pt\; color: #000000\;'>On December 5\, the fo
 llowing notable historical events related to Missouri occurred:</span></p>
 \n<ul>\n<li><span style='font-family: arial\, helvetica\, sans-serif\; fon
 t-size: 12pt\; color: #000000\;'>1806: Zebulon Pike’s expedition\, sent fr
 om St. Louis to explore the southern Louisiana Purchase\, continued mappin
 g the Arkansas River region\, though no specific Missouri event is documen
 ted for this date.</span></li>\n<li><span style='font-family: arial\, helv
 etica\, sans-serif\; font-size: 12pt\; color: #000000\;'>1856: In the “Ble
 eding Kansas” crisis\, pro-slavery “Border Ruffians” from Missouri persist
 ed in raiding Kansas anti-slavery settlements\, fueling violent clashes ov
 er the territory’s slavery status.</span></li>\n<li><span style='font-fami
 ly: arial\, helvetica\, sans-serif\; font-size: 12pt\; color: #000000\;'>1
 861: During the Civil War\, Union General Henry W. Halleck\, commanding fr
 om St. Louis\, strengthened federal defenses\, while Confederate guerrilla
  raids disrupted rural Missouri\, intensifying state divisions.</span></li
 >\n<li><span style='font-family: arial\, helvetica\, sans-serif\; font-siz
 e: 12pt\; color: #000000\;'>1864: After Confederate General Sterling Price
 ’s failed Missouri campaign\, his forces\, including Missouri units\, were
  reorganizing in Arkansas following October defeats\, with some activity l
 ikely around this date.</span></li>\n<li><span style='font-family: arial\,
  helvetica\, sans-serif\; font-size: 12pt\; color: #000000\;'>1888: The Mi
 ssouri Pacific Railroad advanced its southeast Missouri network\, linking 
 Cape Girardeau to broader trade routes\, spurring regional economic and ag
 ricultural development.</span></li>\n<li><span style='font-family: arial\,
  helvetica\, sans-serif\; font-size: 12pt\; color: #000000\;'>1929: The Gr
 eat Depression deepened in Missouri\, with Kansas City and St. Louis grapp
 ling with soaring unemployment\, widespread business failures\, and failin
 g banks\, devastating local economies.</span></li>\n<li><span style='font-
 family: arial\, helvetica\, sans-serif\; font-size: 12pt\; color: #000000\
 ;'>1963: Missouri communities in St. Louis\, Kansas City\, and beyond held
  ongoing memorial services for President John F. Kennedy\, assassinated th
 irteen days earlier\, joining the nation in mourning.</span></li>\n</ul>
END:VEVENT
END:VCALENDAR
