BEGIN:VCALENDAR
VERSION:2.0
PRODID:-//https://mail.taneycountyrepublicans.org//NONSGML kigkonsult.se iCalcreator 2.41.71//
CALSCALE:GREGORIAN
METHOD:PUBLISH
UID:63313864-3263-4462-b738-656561383861
X-WR-CALNAME:JCal Pro Calendar
X-WR-CALDESC:Your online events calendar
X-WR-TIMEZONE:America/Chicago
BEGIN:VTIMEZONE
TZID:America/Chicago
TZUNTIL:20271107T070000Z
BEGIN:STANDARD
TZNAME:CST
DTSTART:20251102T020000
TZOFFSETFROM:-0500
TZOFFSETTO:-0600
RDATE:20261101T020000
END:STANDARD
BEGIN:DAYLIGHT
TZNAME:CDT
DTSTART:20260308T020000
TZOFFSETFROM:-0600
TZOFFSETTO:-0500
RDATE:20270314T020000
END:DAYLIGHT
END:VTIMEZONE
BEGIN:VEVENT
UID:20251031T000000UTC-2937lO4hFS@https://taneycountyrepublicans.org/
DTSTAMP:20260420T084907Z
CATEGORIES:This Day in Missouri
DESCRIPTION:<p><span style='font-family: arial\, helvetica\, sans-serif\; f
 ont-size: 12pt\; color: #000000\;'>On October 31\, the following notable h
 istorical events related to Missouri occurred:</span></p>\n<ul>\n<li><span
  style='font-family: arial\, helvetica\, sans-serif\; font-size: 12pt\; co
 lor: #000000\;'>1806: The Lewis and Clark Expedition\, having returned to 
 St. Louis in late September\, was still celebrated on or around October 31
 \, with local festivities in St. Louis honoring their exploration of the L
 ouisiana Purchase\, reinforcing Missouri’s role as a western hub.</span></
 li>\n<li><span style='font-family: arial\, helvetica\, sans-serif\; font-s
 ize: 12pt\; color: #000000\;'>1857: During the prelude to the Civil War\, 
 tensions over slavery were high. On or around October 31\, pro-slavery “Bo
 rder Ruffians” from Missouri held meetings in Westport to support pro-slav
 ery efforts in Kansas\, escalating the “Bleeding Kansas” conflict.</span><
 /li>\n<li><span style='font-family: arial\, helvetica\, sans-serif\; font-
 size: 12pt\; color: #000000\;'>1864: During the Civil War\, the aftermath 
 of Price’s Raid was wrapping up. On or around October 31\, Confederate for
 ces under General Sterling Price\, having retreated from Missouri after de
 feats at Westport and Mine Creek\, were fully withdrawn into Arkansas\, co
 ncluding their campaign in the state.</span></li>\n<li><span style='font-f
 amily: arial\, helvetica\, sans-serif\; font-size: 12pt\; color: #000000\;
 '>1890: The Missouri Botanical Garden in St. Louis hosted a public exhibit
 ion around October 31\, showcasing rare plant species and reinforcing its 
 reputation as a leading botanical research center.</span></li>\n<li><span 
 style='font-family: arial\, helvetica\, sans-serif\; font-size: 12pt\; col
 or: #000000\;'>1929: The Great Depression\, following the stock market cra
 sh\, hit Missouri hard. On or around October 31\, businesses in St. Louis 
 faced increasing financial difficulties\, marking the deepening economic c
 risis in the state.</span></li>\n<li><span style='font-family: arial\, hel
 vetica\, sans-serif\; font-size: 12pt\; color: #000000\;'>2011: The St. Lo
 uis Cardinals continued celebrations of their World Series victory over th
 e Texas Rangers\, with community events in St. Louis on or around October 
 31\, honoring David Freese’s MVP performance and reinforcing Missouri’s ba
 seball legacy.</span></li>\n</ul>
DTSTART;TZID=America/Chicago:20251031T000000
DTEND;TZID=America/Chicago:20251031T235959
RRULE:FREQ=YEARLY;COUNT=3;INTERVAL=1
SUMMARY:October 31st This Day in Missouri
URL:https://mail.taneycountyrepublicans.org/odds-n-ends/this-week-in-missou
 ri/24-this-day-in-missouri/2192-october-31st-this-day-in-missouri.html
X-ALT-DESC;FMTTYPE=TEXT/HTML:<p><span style='font-family: arial\, helvetica
 \, sans-serif\; font-size: 12pt\; color: #000000\;'>On October 31\, the fo
 llowing notable historical events related to Missouri occurred:</span></p>
 \n<ul>\n<li><span style='font-family: arial\, helvetica\, sans-serif\; fon
 t-size: 12pt\; color: #000000\;'>1806: The Lewis and Clark Expedition\, ha
 ving returned to St. Louis in late September\, was still celebrated on or 
 around October 31\, with local festivities in St. Louis honoring their exp
 loration of the Louisiana Purchase\, reinforcing Missouri’s role as a west
 ern hub.</span></li>\n<li><span style='font-family: arial\, helvetica\, sa
 ns-serif\; font-size: 12pt\; color: #000000\;'>1857: During the prelude to
  the Civil War\, tensions over slavery were high. On or around October 31\
 , pro-slavery “Border Ruffians” from Missouri held meetings in Westport to
  support pro-slavery efforts in Kansas\, escalating the “Bleeding Kansas” 
 conflict.</span></li>\n<li><span style='font-family: arial\, helvetica\, s
 ans-serif\; font-size: 12pt\; color: #000000\;'>1864: During the Civil War
 \, the aftermath of Price’s Raid was wrapping up. On or around October 31\
 , Confederate forces under General Sterling Price\, having retreated from 
 Missouri after defeats at Westport and Mine Creek\, were fully withdrawn i
 nto Arkansas\, concluding their campaign in the state.</span></li>\n<li><s
 pan style='font-family: arial\, helvetica\, sans-serif\; font-size: 12pt\;
  color: #000000\;'>1890: The Missouri Botanical Garden in St. Louis hosted
  a public exhibition around October 31\, showcasing rare plant species and
  reinforcing its reputation as a leading botanical research center.</span>
 </li>\n<li><span style='font-family: arial\, helvetica\, sans-serif\; font
 -size: 12pt\; color: #000000\;'>1929: The Great Depression\, following the
  stock market crash\, hit Missouri hard. On or around October 31\, busines
 ses in St. Louis faced increasing financial difficulties\, marking the dee
 pening economic crisis in the state.</span></li>\n<li><span style='font-fa
 mily: arial\, helvetica\, sans-serif\; font-size: 12pt\; color: #000000\;'
 >2011: The St. Louis Cardinals continued celebrations of their World Serie
 s victory over the Texas Rangers\, with community events in St. Louis on o
 r around October 31\, honoring David Freese’s MVP performance and reinforc
 ing Missouri’s baseball legacy.</span></li>\n</ul>
END:VEVENT
END:VCALENDAR
