BEGIN:VCALENDAR
VERSION:2.0
PRODID:-//https://mail.taneycountyrepublicans.org//NONSGML kigkonsult.se iCalcreator 2.41.71//
CALSCALE:GREGORIAN
METHOD:PUBLISH
UID:64643830-3964-4661-b837-633832346531
X-WR-CALNAME:JCal Pro Calendar
X-WR-CALDESC:Your online events calendar
X-WR-TIMEZONE:America/Chicago
BEGIN:VTIMEZONE
TZID:America/Chicago
TZUNTIL:20271107T070000Z
BEGIN:STANDARD
TZNAME:CST
DTSTART:20251102T020000
TZOFFSETFROM:-0500
TZOFFSETTO:-0600
RDATE:20261101T020000
END:STANDARD
BEGIN:DAYLIGHT
TZNAME:CDT
DTSTART:20260308T020000
TZOFFSETFROM:-0600
TZOFFSETTO:-0500
RDATE:20270314T020000
END:DAYLIGHT
END:VTIMEZONE
BEGIN:VEVENT
UID:20251027T000000UTC-3308uFX8ex@https://taneycountyrepublicans.org/
DTSTAMP:20260420T084937Z
CATEGORIES:This Day in Missouri
DESCRIPTION:<p><span style='font-family: arial\, helvetica\, sans-serif\; f
 ont-size: 12pt\; color: #000000\;'>On October 27\, the following notable h
 istorical events related to Missouri occurred:</span></p>\n<ul>\n<li><span
  style='font-family: arial\, helvetica\, sans-serif\; font-size: 12pt\; co
 lor: #000000\;'>1806: The Lewis and Clark Expedition\, having returned to 
 St. Louis in late September\, was still celebrated on or around October 27
 \, with ongoing festivities in St. Louis honoring their exploration of the
  Louisiana Purchase\, reinforcing Missouri’s role as a western hub.</span>
 </li>\n<li><span style='font-family: arial\, helvetica\, sans-serif\; font
 -size: 12pt\; color: #000000\;'>1857: During the prelude to the Civil War\
 , tensions over slavery escalated. On or around October 27\, pro-slavery “
 Border Ruffians” from Missouri held rallies in Westport to support pro-sla
 very efforts in Kansas\, contributing to the “Bleeding Kansas” conflict.</
 span></li>\n<li><span style='font-family: arial\, helvetica\, sans-serif\;
  font-size: 12pt\; color: #000000\;'>1864: During the Civil War\, the afte
 rmath of Price’s Raid continued in Missouri. On or around October 27\, Con
 federate forces under General Sterling Price\, retreating after defeats at
  Westport and Mine Creek\, were pursued by Union forces through southern M
 issouri\, nearing the end of their campaign.</span></li>\n<li><span style=
 'font-family: arial\, helvetica\, sans-serif\; font-size: 12pt\; color: #0
 00000\;'>1890: The Missouri Botanical Garden in St. Louis hosted a signifi
 cant public exhibition around October 27\, showcasing rare plant species a
 nd reinforcing its reputation as a leading botanical research center.</spa
 n></li>\n<li><span style='font-family: arial\, helvetica\, sans-serif\; fo
 nt-size: 12pt\; color: #000000\;'>1927: The Kansas City Stockyards process
 ed a record number of livestock around October 27\, underscoring Kansas Ci
 ty’s role as a major agricultural hub and boosting Missouri’s economy.</sp
 an></li>\n<li><span style='font-family: arial\, helvetica\, sans-serif\; f
 ont-size: 12pt\; color: #000000\;'>2004: The St. Louis Cardinals played th
 eir final World Series game against the Boston Red Sox on October 27 at Bu
 sch Stadium\, with the Red Sox sweeping the series. Despite the loss\, Alb
 ert Pujols’ contributions highlighted Missouri’s baseball legacy.</span></
 li>\n</ul>
DTSTART;TZID=America/Chicago:20251027T000000
DTEND;TZID=America/Chicago:20251027T235959
RRULE:FREQ=YEARLY;COUNT=3;INTERVAL=1
SUMMARY:October 27th This Day in Missouri
URL:https://mail.taneycountyrepublicans.org/odds-n-ends/this-week-in-missou
 ri/24-this-day-in-missouri/2180-october-27th-this-day-in-missouri.html
X-ALT-DESC;FMTTYPE=TEXT/HTML:<p><span style='font-family: arial\, helvetica
 \, sans-serif\; font-size: 12pt\; color: #000000\;'>On October 27\, the fo
 llowing notable historical events related to Missouri occurred:</span></p>
 \n<ul>\n<li><span style='font-family: arial\, helvetica\, sans-serif\; fon
 t-size: 12pt\; color: #000000\;'>1806: The Lewis and Clark Expedition\, ha
 ving returned to St. Louis in late September\, was still celebrated on or 
 around October 27\, with ongoing festivities in St. Louis honoring their e
 xploration of the Louisiana Purchase\, reinforcing Missouri’s role as a we
 stern hub.</span></li>\n<li><span style='font-family: arial\, helvetica\, 
 sans-serif\; font-size: 12pt\; color: #000000\;'>1857: During the prelude 
 to the Civil War\, tensions over slavery escalated. On or around October 2
 7\, pro-slavery “Border Ruffians” from Missouri held rallies in Westport t
 o support pro-slavery efforts in Kansas\, contributing to the “Bleeding Ka
 nsas” conflict.</span></li>\n<li><span style='font-family: arial\, helveti
 ca\, sans-serif\; font-size: 12pt\; color: #000000\;'>1864: During the Civ
 il War\, the aftermath of Price’s Raid continued in Missouri. On or around
  October 27\, Confederate forces under General Sterling Price\, retreating
  after defeats at Westport and Mine Creek\, were pursued by Union forces t
 hrough southern Missouri\, nearing the end of their campaign.</span></li>
 \n<li><span style='font-family: arial\, helvetica\, sans-serif\; font-size
 : 12pt\; color: #000000\;'>1890: The Missouri Botanical Garden in St. Loui
 s hosted a significant public exhibition around October 27\, showcasing ra
 re plant species and reinforcing its reputation as a leading botanical res
 earch center.</span></li>\n<li><span style='font-family: arial\, helvetica
 \, sans-serif\; font-size: 12pt\; color: #000000\;'>1927: The Kansas City 
 Stockyards processed a record number of livestock around October 27\, unde
 rscoring Kansas City’s role as a major agricultural hub and boosting Misso
 uri’s economy.</span></li>\n<li><span style='font-family: arial\, helvetic
 a\, sans-serif\; font-size: 12pt\; color: #000000\;'>2004: The St. Louis C
 ardinals played their final World Series game against the Boston Red Sox o
 n October 27 at Busch Stadium\, with the Red Sox sweeping the series. Desp
 ite the loss\, Albert Pujols’ contributions highlighted Missouri’s basebal
 l legacy.</span></li>\n</ul>
END:VEVENT
END:VCALENDAR
