BEGIN:VCALENDAR
VERSION:2.0
PRODID:-//https://mail.taneycountyrepublicans.org//NONSGML kigkonsult.se iCalcreator 2.41.71//
CALSCALE:GREGORIAN
METHOD:PUBLISH
UID:37333436-3362-4133-b962-396635333739
X-WR-CALNAME:JCal Pro Calendar
X-WR-CALDESC:Your online events calendar
X-WR-TIMEZONE:America/Chicago
BEGIN:VTIMEZONE
TZID:America/Chicago
TZUNTIL:20271107T070000Z
BEGIN:STANDARD
TZNAME:CST
DTSTART:20251102T020000
TZOFFSETFROM:-0500
TZOFFSETTO:-0600
RDATE:20261101T020000
END:STANDARD
BEGIN:DAYLIGHT
TZNAME:CDT
DTSTART:20260308T020000
TZOFFSETFROM:-0600
TZOFFSETTO:-0500
RDATE:20270314T020000
END:DAYLIGHT
END:VTIMEZONE
BEGIN:VEVENT
UID:20251023T000000UTC-5069JcGM6e@https://taneycountyrepublicans.org/
DTSTAMP:20260420T084941Z
CATEGORIES:This Day in Missouri
DESCRIPTION:<p><span style='font-family: arial\, helvetica\, sans-serif\; f
 ont-size: 12pt\; color: #000000\;'>On October 23\, the following notable h
 istorical events related to Missouri occurred:</span></p>\n<ul>\n<li><span
  style='font-family: arial\, helvetica\, sans-serif\; font-size: 12pt\; co
 lor: #000000\;'>1806: The Lewis and Clark Expedition\, having returned to 
 St. Louis in late September\, was still celebrated on or around October 23
 \, with ongoing festivities in St. Louis honoring their exploration of the
  Louisiana Purchase\, reinforcing Missouri’s role as a western hub.</span>
 </li>\n<li><span style='font-family: arial\, helvetica\, sans-serif\; font
 -size: 12pt\; color: #000000\;'>1857: During the prelude to the Civil War\
 , tensions over slavery escalated. On or around October 23\, pro-slavery “
 Border Ruffians” from Missouri held rallies in Westport to support pro-sla
 very efforts in Kansas\, contributing to the “Bleeding Kansas” conflict.</
 span></li>\n<li><span style='font-family: arial\, helvetica\, sans-serif\;
  font-size: 12pt\; color: #000000\;'>1864: During the Civil War\, Confeder
 ate forces under General Sterling Price were engaged in Price’s Raid in Mi
 ssouri. On October 23\, they fought the Battle of Westport near Kansas Cit
 y\, a decisive Union victory that marked a turning point in Price’s campai
 gn.</span></li>\n<li><span style='font-family: arial\, helvetica\, sans-se
 rif\; font-size: 12pt\; color: #000000\;'>1890: The Missouri Pacific Railr
 oad expanded its network through southeast Missouri around October 23\, co
 nnecting Cape Girardeau to other regions and boosting the state’s economic
  infrastructure.</span></li>\n<li><span style='font-family: arial\, helvet
 ica\, sans-serif\; font-size: 12pt\; color: #000000\;'>1927: The Kansas Ci
 ty Stockyards processed a record number of livestock around October 23\, u
 nderscoring Kansas City’s role as a major agricultural hub and boosting Mi
 ssouri’s economy.</span></li>\n<li><span style='font-family: arial\, helve
 tica\, sans-serif\; font-size: 12pt\; color: #000000\;'>2004: The St. Loui
 s Cardinals played a significant World Series game against the Boston Red 
 Sox on October 23 at Fenway Park\, with Albert Pujols contributing key hit
 s\, though the Cardinals fell short\, reinforcing Missouri’s baseball lega
 cy.</span></li>\n</ul>
DTSTART;TZID=America/Chicago:20251023T000000
DTEND;TZID=America/Chicago:20251023T235959
RRULE:FREQ=YEARLY;COUNT=3;INTERVAL=1
SUMMARY:October 23rd This Day in Missouri
URL:https://mail.taneycountyrepublicans.org/odds-n-ends/this-week-in-missou
 ri/24-this-day-in-missouri/2168-october-23rd-this-day-in-missouri.html
X-ALT-DESC;FMTTYPE=TEXT/HTML:<p><span style='font-family: arial\, helvetica
 \, sans-serif\; font-size: 12pt\; color: #000000\;'>On October 23\, the fo
 llowing notable historical events related to Missouri occurred:</span></p>
 \n<ul>\n<li><span style='font-family: arial\, helvetica\, sans-serif\; fon
 t-size: 12pt\; color: #000000\;'>1806: The Lewis and Clark Expedition\, ha
 ving returned to St. Louis in late September\, was still celebrated on or 
 around October 23\, with ongoing festivities in St. Louis honoring their e
 xploration of the Louisiana Purchase\, reinforcing Missouri’s role as a we
 stern hub.</span></li>\n<li><span style='font-family: arial\, helvetica\, 
 sans-serif\; font-size: 12pt\; color: #000000\;'>1857: During the prelude 
 to the Civil War\, tensions over slavery escalated. On or around October 2
 3\, pro-slavery “Border Ruffians” from Missouri held rallies in Westport t
 o support pro-slavery efforts in Kansas\, contributing to the “Bleeding Ka
 nsas” conflict.</span></li>\n<li><span style='font-family: arial\, helveti
 ca\, sans-serif\; font-size: 12pt\; color: #000000\;'>1864: During the Civ
 il War\, Confederate forces under General Sterling Price were engaged in P
 rice’s Raid in Missouri. On October 23\, they fought the Battle of Westpor
 t near Kansas City\, a decisive Union victory that marked a turning point 
 in Price’s campaign.</span></li>\n<li><span style='font-family: arial\, he
 lvetica\, sans-serif\; font-size: 12pt\; color: #000000\;'>1890: The Misso
 uri Pacific Railroad expanded its network through southeast Missouri aroun
 d October 23\, connecting Cape Girardeau to other regions and boosting the
  state’s economic infrastructure.</span></li>\n<li><span style='font-famil
 y: arial\, helvetica\, sans-serif\; font-size: 12pt\; color: #000000\;'>19
 27: The Kansas City Stockyards processed a record number of livestock arou
 nd October 23\, underscoring Kansas City’s role as a major agricultural hu
 b and boosting Missouri’s economy.</span></li>\n<li><span style='font-fami
 ly: arial\, helvetica\, sans-serif\; font-size: 12pt\; color: #000000\;'>2
 004: The St. Louis Cardinals played a significant World Series game agains
 t the Boston Red Sox on October 23 at Fenway Park\, with Albert Pujols con
 tributing key hits\, though the Cardinals fell short\, reinforcing Missour
 i’s baseball legacy.</span></li>\n</ul>
END:VEVENT
END:VCALENDAR
