BEGIN:VCALENDAR
VERSION:2.0
PRODID:-//https://mail.taneycountyrepublicans.org//NONSGML kigkonsult.se iCalcreator 2.41.71//
CALSCALE:GREGORIAN
METHOD:PUBLISH
UID:61633630-3636-4231-b738-336666613134
X-WR-CALNAME:JCal Pro Calendar
X-WR-CALDESC:Your online events calendar
X-WR-TIMEZONE:America/Chicago
BEGIN:VTIMEZONE
TZID:America/Chicago
TZUNTIL:20271107T070000Z
BEGIN:STANDARD
TZNAME:CST
DTSTART:20251102T020000
TZOFFSETFROM:-0500
TZOFFSETTO:-0600
RDATE:20261101T020000
END:STANDARD
BEGIN:DAYLIGHT
TZNAME:CDT
DTSTART:20260308T020000
TZOFFSETFROM:-0600
TZOFFSETTO:-0500
RDATE:20270314T020000
END:DAYLIGHT
END:VTIMEZONE
BEGIN:VEVENT
UID:20251009T000000UTC-1655Sjn1vA@https://taneycountyrepublicans.org/
DTSTAMP:20260420T135232Z
CATEGORIES:This Day in Missouri
DESCRIPTION:<p><span style='font-family: arial\, helvetica\, sans-serif\; f
 ont-size: 12pt\; color: #000000\;'>On October 9\, the following notable hi
 storical events related to Missouri occurred:</span></p>\n<ul>\n<li><span 
 style='font-family: arial\, helvetica\, sans-serif\; font-size: 12pt\; col
 or: #000000\;'>1806: The Lewis and Clark Expedition\, having returned to S
 t. Louis in late September\, was still celebrated on or around October 9\,
  with ongoing festivities in St. Louis honoring their exploration of the L
 ouisiana Purchase\, reinforcing Missouri’s role as a western hub.</span></
 li>\n<li><span style='font-family: arial\, helvetica\, sans-serif\; font-s
 ize: 12pt\; color: #000000\;'>1857: During the prelude to the Civil War\, 
 tensions over slavery were high. On or around October 9\, pro-slavery “Bor
 der Ruffians” from Missouri held meetings in Kansas City to support pro-sl
 avery efforts in Kansas\, escalating the “Bleeding Kansas” conflict.</span
 ></li>\n<li><span style='font-family: arial\, helvetica\, sans-serif\; fon
 t-size: 12pt\; color: #000000\;'>1864: During the Civil War\, Confederate 
 forces under General Sterling Price were active in Missouri during Price’s
  Raid. On or around October 9\, they engaged in skirmishes with Union forc
 es near Boonville\, intensifying the state’s conflict.</span></li>\n<li><s
 pan style='font-family: arial\, helvetica\, sans-serif\; font-size: 12pt\;
  color: #000000\;'>1890: The St. Louis-based Anheuser-Busch brewery expand
 ed its refrigerated shipping operations around October 9\, enabling broade
 r distribution of Budweiser and reinforcing Missouri’s prominence in the b
 rewing industry.</span></li>\n<li><span style='font-family: arial\, helvet
 ica\, sans-serif\; font-size: 12pt\; color: #000000\;'>1927: The Missouri 
 State Fair in Sedalia had recently concluded\, and on or around October 9\
 , its organizers began planning for the next year\, reinforcing Missouri’s
  agricultural heritage.</span></li>\n<li><span style='font-family: arial\,
  helvetica\, sans-serif\; font-size: 12pt\; color: #000000\;'>2004: The St
 . Louis Cardinals played a significant playoff game against the Los Angele
 s Dodgers on October 9\, with Albert Pujols hitting a key home run\, advan
 cing their postseason run and reinforcing Missouri’s baseball legacy.</spa
 n></li>\n</ul>
DTSTART;TZID=America/Chicago:20251009T000000
DTEND;TZID=America/Chicago:20251009T235959
RRULE:FREQ=YEARLY;COUNT=3;INTERVAL=1
SUMMARY:October 9th This Day in Missouri
URL:https://mail.taneycountyrepublicans.org/odds-n-ends/this-week-in-missou
 ri/24-this-day-in-missouri/2126-october-9th-this-day-in-missouri.html
X-ALT-DESC;FMTTYPE=TEXT/HTML:<p><span style='font-family: arial\, helvetica
 \, sans-serif\; font-size: 12pt\; color: #000000\;'>On October 9\, the fol
 lowing notable historical events related to Missouri occurred:</span></p>
 \n<ul>\n<li><span style='font-family: arial\, helvetica\, sans-serif\; fon
 t-size: 12pt\; color: #000000\;'>1806: The Lewis and Clark Expedition\, ha
 ving returned to St. Louis in late September\, was still celebrated on or 
 around October 9\, with ongoing festivities in St. Louis honoring their ex
 ploration of the Louisiana Purchase\, reinforcing Missouri’s role as a wes
 tern hub.</span></li>\n<li><span style='font-family: arial\, helvetica\, s
 ans-serif\; font-size: 12pt\; color: #000000\;'>1857: During the prelude t
 o the Civil War\, tensions over slavery were high. On or around October 9\
 , pro-slavery “Border Ruffians” from Missouri held meetings in Kansas City
  to support pro-slavery efforts in Kansas\, escalating the “Bleeding Kansa
 s” conflict.</span></li>\n<li><span style='font-family: arial\, helvetica\
 , sans-serif\; font-size: 12pt\; color: #000000\;'>1864: During the Civil 
 War\, Confederate forces under General Sterling Price were active in Misso
 uri during Price’s Raid. On or around October 9\, they engaged in skirmish
 es with Union forces near Boonville\, intensifying the state’s conflict.</
 span></li>\n<li><span style='font-family: arial\, helvetica\, sans-serif\;
  font-size: 12pt\; color: #000000\;'>1890: The St. Louis-based Anheuser-Bu
 sch brewery expanded its refrigerated shipping operations around October 9
 \, enabling broader distribution of Budweiser and reinforcing Missouri’s p
 rominence in the brewing industry.</span></li>\n<li><span style='font-fami
 ly: arial\, helvetica\, sans-serif\; font-size: 12pt\; color: #000000\;'>1
 927: The Missouri State Fair in Sedalia had recently concluded\, and on or
  around October 9\, its organizers began planning for the next year\, rein
 forcing Missouri’s agricultural heritage.</span></li>\n<li><span style='fo
 nt-family: arial\, helvetica\, sans-serif\; font-size: 12pt\; color: #0000
 00\;'>2004: The St. Louis Cardinals played a significant playoff game agai
 nst the Los Angeles Dodgers on October 9\, with Albert Pujols hitting a ke
 y home run\, advancing their postseason run and reinforcing Missouri’s bas
 eball legacy.</span></li>\n</ul>
END:VEVENT
END:VCALENDAR
