BEGIN:VCALENDAR
VERSION:2.0
PRODID:-//https://mail.taneycountyrepublicans.org//NONSGML kigkonsult.se iCalcreator 2.41.71//
CALSCALE:GREGORIAN
METHOD:PUBLISH
UID:36623337-6635-4434-a633-363839386566
X-WR-CALNAME:JCal Pro Calendar
X-WR-CALDESC:Your online events calendar
X-WR-TIMEZONE:America/Chicago
BEGIN:VTIMEZONE
TZID:America/Chicago
TZUNTIL:20271107T070000Z
BEGIN:STANDARD
TZNAME:CST
DTSTART:20251102T020000
TZOFFSETFROM:-0500
TZOFFSETTO:-0600
RDATE:20261101T020000
END:STANDARD
BEGIN:DAYLIGHT
TZNAME:CDT
DTSTART:20260308T020000
TZOFFSETFROM:-0600
TZOFFSETTO:-0500
RDATE:20270314T020000
END:DAYLIGHT
END:VTIMEZONE
BEGIN:VEVENT
UID:20251003T000000UTC-8121RvcDu9@https://taneycountyrepublicans.org/
DTSTAMP:20260420T135221Z
CATEGORIES:This Day in Missouri
DESCRIPTION:<p><span style='font-family: arial\, helvetica\, sans-serif\; f
 ont-size: 12pt\; color: #000000\;'>On October 3\, the following notable hi
 storical events related to Missouri occurred:</span></p>\n<ul>\n<li><span 
 style='font-family: arial\, helvetica\, sans-serif\; font-size: 12pt\; col
 or: #000000\;'>1806: The Lewis and Clark Expedition\, having returned to S
 t. Louis in late September\, was still celebrated on or around October 3\,
  with ongoing festivities in St. Louis honoring their exploration of the L
 ouisiana Purchase\, reinforcing Missouri’s role as a western hub.</span></
 li>\n<li><span style='font-family: arial\, helvetica\, sans-serif\; font-s
 ize: 12pt\; color: #000000\;'>1856: During the “Bleeding Kansas” conflict\
 , pro-slavery “Border Ruffians” from Missouri were active on or around Oct
 ober 3\, crossing into Kansas to intimidate anti-slavery settlers\, escala
 ting regional violence and highlighting Missouri’s role in the slavery deb
 ate.</span></li>\n<li><span style='font-family: arial\, helvetica\, sans-s
 erif\; font-size: 12pt\; color: #000000\;'>1861: During the Civil War\, Mi
 ssouri remained a battleground. On or around October 3\, Union forces were
  reorganizing after the Confederate victory at Lexington\, while Confedera
 te forces under Sterling Price were consolidating their position in the st
 ate.</span></li>\n<li><span style='font-family: arial\, helvetica\, sans-s
 erif\; font-size: 12pt\; color: #000000\;'>1890: The St. Louis-based Anheu
 ser-Busch brewery expanded its bottling operations around October 3\, enha
 ncing Budweiser’s national distribution and reinforcing Missouri’s promine
 nce in the brewing industry.</span></li>\n<li><span style='font-family: ar
 ial\, helvetica\, sans-serif\; font-size: 12pt\; color: #000000\;'>1930: T
 he Great Depression affected Missouri\, and on or around October 3\, New D
 eal-funded projects in St. Louis began constructing public works\, providi
 ng jobs and economic relief.</span></li>\n<li><span style='font-family: ar
 ial\, helvetica\, sans-serif\; font-size: 12pt\; color: #000000\;'>1967: T
 he St. Louis Cardinals played a significant game against the Boston Red So
 x in the World Series on October 3 at Fenway Park\, with Bob Gibson pitchi
 ng a complete game to lead the Cardinals to a victory\, reinforcing Missou
 ri’s baseball legacy.</span></li>\n</ul>
DTSTART;TZID=America/Chicago:20251003T000000
DTEND;TZID=America/Chicago:20251003T235959
RRULE:FREQ=YEARLY;COUNT=3;INTERVAL=1
SUMMARY:October 3rd This Day in Missouri
URL:https://mail.taneycountyrepublicans.org/odds-n-ends/this-week-in-missou
 ri/24-this-day-in-missouri/2106-october-3rd-this-day-in-missouri.html
X-ALT-DESC;FMTTYPE=TEXT/HTML:<p><span style='font-family: arial\, helvetica
 \, sans-serif\; font-size: 12pt\; color: #000000\;'>On October 3\, the fol
 lowing notable historical events related to Missouri occurred:</span></p>
 \n<ul>\n<li><span style='font-family: arial\, helvetica\, sans-serif\; fon
 t-size: 12pt\; color: #000000\;'>1806: The Lewis and Clark Expedition\, ha
 ving returned to St. Louis in late September\, was still celebrated on or 
 around October 3\, with ongoing festivities in St. Louis honoring their ex
 ploration of the Louisiana Purchase\, reinforcing Missouri’s role as a wes
 tern hub.</span></li>\n<li><span style='font-family: arial\, helvetica\, s
 ans-serif\; font-size: 12pt\; color: #000000\;'>1856: During the “Bleeding
  Kansas” conflict\, pro-slavery “Border Ruffians” from Missouri were activ
 e on or around October 3\, crossing into Kansas to intimidate anti-slavery
  settlers\, escalating regional violence and highlighting Missouri’s role 
 in the slavery debate.</span></li>\n<li><span style='font-family: arial\, 
 helvetica\, sans-serif\; font-size: 12pt\; color: #000000\;'>1861: During 
 the Civil War\, Missouri remained a battleground. On or around October 3\,
  Union forces were reorganizing after the Confederate victory at Lexington
 \, while Confederate forces under Sterling Price were consolidating their 
 position in the state.</span></li>\n<li><span style='font-family: arial\, 
 helvetica\, sans-serif\; font-size: 12pt\; color: #000000\;'>1890: The St.
  Louis-based Anheuser-Busch brewery expanded its bottling operations aroun
 d October 3\, enhancing Budweiser’s national distribution and reinforcing 
 Missouri’s prominence in the brewing industry.</span></li>\n<li><span styl
 e='font-family: arial\, helvetica\, sans-serif\; font-size: 12pt\; color: 
 #000000\;'>1930: The Great Depression affected Missouri\, and on or around
  October 3\, New Deal-funded projects in St. Louis began constructing publ
 ic works\, providing jobs and economic relief.</span></li>\n<li><span styl
 e='font-family: arial\, helvetica\, sans-serif\; font-size: 12pt\; color: 
 #000000\;'>1967: The St. Louis Cardinals played a significant game against
  the Boston Red Sox in the World Series on October 3 at Fenway Park\, with
  Bob Gibson pitching a complete game to lead the Cardinals to a victory\, 
 reinforcing Missouri’s baseball legacy.</span></li>\n</ul>
END:VEVENT
END:VCALENDAR
