BEGIN:VCALENDAR
VERSION:2.0
PRODID:-//https://mail.taneycountyrepublicans.org//NONSGML kigkonsult.se iCalcreator 2.41.71//
CALSCALE:GREGORIAN
METHOD:PUBLISH
UID:36363863-6136-4239-b764-346639316536
X-WR-CALNAME:JCal Pro Calendar
X-WR-CALDESC:Your online events calendar
X-WR-TIMEZONE:America/Chicago
BEGIN:VTIMEZONE
TZID:America/Chicago
TZUNTIL:20271107T070000Z
BEGIN:STANDARD
TZNAME:CST
DTSTART:20251102T020000
TZOFFSETFROM:-0500
TZOFFSETTO:-0600
RDATE:20261101T020000
END:STANDARD
BEGIN:DAYLIGHT
TZNAME:CDT
DTSTART:20260308T020000
TZOFFSETFROM:-0600
TZOFFSETTO:-0500
RDATE:20270314T020000
END:DAYLIGHT
END:VTIMEZONE
BEGIN:VEVENT
UID:20250906T140000UTC-1458pJUCn5@https://taneycountyrepublicans.org/
DTSTAMP:20260420T125838Z
CATEGORIES:This Day in Missouri
DESCRIPTION:<p><span style='font-family: arial\, helvetica\, sans-serif\; f
 ont-size: 12pt\; color: #000000\;'>On September 6\, the following notable 
 historical events related to Missouri have been recorded.</span></p>\n<ul>
 \n<li><span style='font-family: arial\, helvetica\, sans-serif\; font-size
 : 12pt\; color: #000000\;'>1826: On or around September 6\, the town of Je
 fferson City was officially designated as Missouri’s state capital\, repla
 cing St. Charles. This decision solidified Jefferson City’s role in Missou
 ri’s political history.</span></li>\n<li><span style='font-family: arial\,
  helvetica\, sans-serif\; font-size: 12pt\; color: #000000\;'>1848: The st
 eamboat Missouri sank near St. Louis on or around September 6 due to a boi
 ler explosion\, killing several passengers and highlighting the dangers of
  river travel\, a key mode of transportation in Missouri at the time.</spa
 n></li>\n<li><span style='font-family: arial\, helvetica\, sans-serif\; fo
 nt-size: 12pt\; color: #000000\;'>1863: During the Civil War\, Confederate
  guerrilla leader William Quantrill was active in Missouri. On or around S
 eptember 6\, his band conducted raids in western Missouri\, targeting Unio
 n supporters and contributing to the state’s ongoing turmoil.</span></li>
 \n<li><span style='font-family: arial\, helvetica\, sans-serif\; font-size
 : 12pt\; color: #000000\;'>1899: The St. Louis Streetcar Strike reached a 
 peak around September 6\, with workers clashing with authorities over wage
 s and conditions. The strike disrupted transportation in St. Louis and und
 erscored Missouri’s early labor movement struggles.</span></li>\n<li><span
  style='font-family: arial\, helvetica\, sans-serif\; font-size: 12pt\; co
 lor: #000000\;'>1927: The Missouri State Highway Department began construc
 tion on Route 66 around September 6\, with segments in Missouri connecting
  St. Louis to Joplin. This iconic road later became a symbol of American c
 ulture and boosted Missouri’s tourism.</span></li>\n<li><span style='font-
 family: arial\, helvetica\, sans-serif\; font-size: 12pt\; color: #000000\
 ;'>1985: On September 6\, the Kansas City Royals played a significant game
  against the Milwaukee Brewers at Royals Stadium\, with George Brett hitti
 ng a key home run\, contributing to their World Series-winning season and 
 reinforcing Missouri’s baseball legacy.</span></li>\n</ul>
DTSTART;TZID=America/Chicago:20250906T000000
DTEND;TZID=America/Chicago:20250906T235959
RRULE:FREQ=YEARLY;COUNT=3;INTERVAL=1
SUMMARY:September 6th This Day in Missouri
URL:https://mail.taneycountyrepublicans.org/odds-n-ends/this-week-in-missou
 ri/24-this-day-in-missouri/2009-september-6th-this-day-in-missouri.html
X-ALT-DESC;FMTTYPE=TEXT/HTML:<p><span style='font-family: arial\, helvetica
 \, sans-serif\; font-size: 12pt\; color: #000000\;'>On September 6\, the f
 ollowing notable historical events related to Missouri have been recorded.
 </span></p>\n<ul>\n<li><span style='font-family: arial\, helvetica\, sans-
 serif\; font-size: 12pt\; color: #000000\;'>1826: On or around September 6
 \, the town of Jefferson City was officially designated as Missouri’s stat
 e capital\, replacing St. Charles. This decision solidified Jefferson City
 ’s role in Missouri’s political history.</span></li>\n<li><span style='fon
 t-family: arial\, helvetica\, sans-serif\; font-size: 12pt\; color: #00000
 0\;'>1848: The steamboat Missouri sank near St. Louis on or around Septemb
 er 6 due to a boiler explosion\, killing several passengers and highlighti
 ng the dangers of river travel\, a key mode of transportation in Missouri 
 at the time.</span></li>\n<li><span style='font-family: arial\, helvetica\
 , sans-serif\; font-size: 12pt\; color: #000000\;'>1863: During the Civil 
 War\, Confederate guerrilla leader William Quantrill was active in Missour
 i. On or around September 6\, his band conducted raids in western Missouri
 \, targeting Union supporters and contributing to the state’s ongoing turm
 oil.</span></li>\n<li><span style='font-family: arial\, helvetica\, sans-s
 erif\; font-size: 12pt\; color: #000000\;'>1899: The St. Louis Streetcar S
 trike reached a peak around September 6\, with workers clashing with autho
 rities over wages and conditions. The strike disrupted transportation in S
 t. Louis and underscored Missouri’s early labor movement struggles.</span>
 </li>\n<li><span style='font-family: arial\, helvetica\, sans-serif\; font
 -size: 12pt\; color: #000000\;'>1927: The Missouri State Highway Departmen
 t began construction on Route 66 around September 6\, with segments in Mis
 souri connecting St. Louis to Joplin. This iconic road later became a symb
 ol of American culture and boosted Missouri’s tourism.</span></li>\n<li><s
 pan style='font-family: arial\, helvetica\, sans-serif\; font-size: 12pt\;
  color: #000000\;'>1985: On September 6\, the Kansas City Royals played a 
 significant game against the Milwaukee Brewers at Royals Stadium\, with Ge
 orge Brett hitting a key home run\, contributing to their World Series-win
 ning season and reinforcing Missouri’s baseball legacy.</span></li>\n</ul>
END:VEVENT
END:VCALENDAR
