BEGIN:VCALENDAR
VERSION:2.0
PRODID:-//https://mail.taneycountyrepublicans.org//NONSGML kigkonsult.se iCalcreator 2.41.71//
CALSCALE:GREGORIAN
METHOD:PUBLISH
UID:32633063-3263-4463-b330-373831663266
X-WR-CALNAME:JCal Pro Calendar
X-WR-CALDESC:Your online events calendar
X-WR-TIMEZONE:America/Chicago
BEGIN:VTIMEZONE
TZID:America/Chicago
TZUNTIL:20271107T070000Z
BEGIN:STANDARD
TZNAME:CST
DTSTART:20251102T020000
TZOFFSETFROM:-0500
TZOFFSETTO:-0600
RDATE:20261101T020000
END:STANDARD
BEGIN:DAYLIGHT
TZNAME:CDT
DTSTART:20260308T020000
TZOFFSETFROM:-0600
TZOFFSETTO:-0500
RDATE:20270314T020000
END:DAYLIGHT
END:VTIMEZONE
BEGIN:VEVENT
UID:20250904T140000UTC-1802H2mt30@https://taneycountyrepublicans.org/
DTSTAMP:20260420T125910Z
CATEGORIES:This Day in Missouri
DESCRIPTION:<p><span style='font-family: arial\, helvetica\, sans-serif\; f
 ont-size: 12pt\; color: #000000\;'>On September 5\, the following notable 
 historical events related to Missouri have been recorded:</span></p>\n<ul>
 \n<li><span style='font-family: arial\, helvetica\, sans-serif\; font-size
 : 12pt\; color: #000000\;'>1819: On or around September 5\, the Missouri T
 erritory was preparing for statehood\, with settlers in St. Charles organi
 zing petitions to Congress to support Missouri’s admission as a state\, a 
 process that culminated in the Missouri Compromise of 1820.</span></li>\n<
 li><span style='font-family: arial\, helvetica\, sans-serif\; font-size: 1
 2pt\; color: #000000\;'>1856: During the “Bleeding Kansas” conflict\, pro-
 slavery “Border Ruffians” from Missouri were active on or around September
  5\, crossing into Kansas to influence territorial politics\, escalating v
 iolence in the region and highlighting Missouri’s role in the national sla
 very debate.</span></li>\n<li><span style='font-family: arial\, helvetica\
 , sans-serif\; font-size: 12pt\; color: #000000\;'>1882: The St. Louis Agr
 icultural and Mechanical Fair opened its annual event around September 5\,
  showcasing Missouri’s agricultural innovations\, livestock\, and machiner
 y\, drawing thousands to St. Louis and reinforcing the state’s agricultura
 l prominence.</span></li>\n<li><span style='font-family: arial\, helvetica
 \, sans-serif\; font-size: 12pt\; color: #000000\;'>1917: During World War
  I\, Missouri’s Camp Funston\, near Kansas City\, was training soldiers ar
 ound September 5 for deployment to Europe. This marked Missouri’s signific
 ant contribution to the U.S. war effort\, with thousands of troops passing
  through the state.</span></li>\n<li><span style='font-family: arial\, hel
 vetica\, sans-serif\; font-size: 12pt\; color: #000000\;'>1935: The Great 
 Depression impacted Missouri heavily\, and on or around September 5\, the 
 Works Progress Administration (WPA) began funding infrastructure projects 
 in St. Louis\, including road improvements\, providing jobs and boosting t
 he local economy.</span></li>\n<li><span style='font-family: arial\, helve
 tica\, sans-serif\; font-size: 12pt\; color: #000000\;'>2004: The St. Loui
 s Cardinals played a notable game against the Los Angeles Dodgers at Busch
  Stadium on September 5\, with Albert Pujols hitting a walk-off home run\,
  contributing to their strong season and reinforcing Missouri’s baseball l
 egacy.</span></li>\n</ul>
DTSTART;TZID=America/Chicago:20250905T000000
DTEND;TZID=America/Chicago:20250905T235959
RRULE:FREQ=YEARLY;COUNT=3;INTERVAL=1
SUMMARY:September 5th This Day in Missouri
URL:https://mail.taneycountyrepublicans.org/odds-n-ends/this-week-in-missou
 ri/24-this-day-in-missouri/2001-september-5th-this-day-in-missouri.html
X-ALT-DESC;FMTTYPE=TEXT/HTML:<p><span style='font-family: arial\, helvetica
 \, sans-serif\; font-size: 12pt\; color: #000000\;'>On September 5\, the f
 ollowing notable historical events related to Missouri have been recorded:
 </span></p>\n<ul>\n<li><span style='font-family: arial\, helvetica\, sans-
 serif\; font-size: 12pt\; color: #000000\;'>1819: On or around September 5
 \, the Missouri Territory was preparing for statehood\, with settlers in S
 t. Charles organizing petitions to Congress to support Missouri’s admissio
 n as a state\, a process that culminated in the Missouri Compromise of 182
 0.</span></li>\n<li><span style='font-family: arial\, helvetica\, sans-ser
 if\; font-size: 12pt\; color: #000000\;'>1856: During the “Bleeding Kansas
 ” conflict\, pro-slavery “Border Ruffians” from Missouri were active on or
  around September 5\, crossing into Kansas to influence territorial politi
 cs\, escalating violence in the region and highlighting Missouri’s role in
  the national slavery debate.</span></li>\n<li><span style='font-family: a
 rial\, helvetica\, sans-serif\; font-size: 12pt\; color: #000000\;'>1882: 
 The St. Louis Agricultural and Mechanical Fair opened its annual event aro
 und September 5\, showcasing Missouri’s agricultural innovations\, livesto
 ck\, and machinery\, drawing thousands to St. Louis and reinforcing the st
 ate’s agricultural prominence.</span></li>\n<li><span style='font-family: 
 arial\, helvetica\, sans-serif\; font-size: 12pt\; color: #000000\;'>1917:
  During World War I\, Missouri’s Camp Funston\, near Kansas City\, was tra
 ining soldiers around September 5 for deployment to Europe. This marked Mi
 ssouri’s significant contribution to the U.S. war effort\, with thousands 
 of troops passing through the state.</span></li>\n<li><span style='font-fa
 mily: arial\, helvetica\, sans-serif\; font-size: 12pt\; color: #000000\;'
 >1935: The Great Depression impacted Missouri heavily\, and on or around S
 eptember 5\, the Works Progress Administration (WPA) began funding infrast
 ructure projects in St. Louis\, including road improvements\, providing jo
 bs and boosting the local economy.</span></li>\n<li><span style='font-fami
 ly: arial\, helvetica\, sans-serif\; font-size: 12pt\; color: #000000\;'>2
 004: The St. Louis Cardinals played a notable game against the Los Angeles
  Dodgers at Busch Stadium on September 5\, with Albert Pujols hitting a wa
 lk-off home run\, contributing to their strong season and reinforcing Miss
 ouri’s baseball legacy.</span></li>\n</ul>
END:VEVENT
END:VCALENDAR
