BEGIN:VCALENDAR
VERSION:2.0
PRODID:-//https://mail.taneycountyrepublicans.org//NONSGML kigkonsult.se iCalcreator 2.41.71//
CALSCALE:GREGORIAN
METHOD:PUBLISH
UID:32313063-6532-4037-b563-623335356331
X-WR-CALNAME:JCal Pro Calendar
X-WR-CALDESC:Your online events calendar
X-WR-TIMEZONE:America/Chicago
BEGIN:VTIMEZONE
TZID:America/Chicago
TZUNTIL:20271107T070000Z
BEGIN:STANDARD
TZNAME:CST
DTSTART:20251102T020000
TZOFFSETFROM:-0500
TZOFFSETTO:-0600
RDATE:20261101T020000
END:STANDARD
BEGIN:DAYLIGHT
TZNAME:CDT
DTSTART:20260308T020000
TZOFFSETFROM:-0600
TZOFFSETTO:-0500
RDATE:20270314T020000
END:DAYLIGHT
END:VTIMEZONE
BEGIN:VEVENT
UID:20250808T130000UTC-2008tU9wGb@https://taneycountyrepublicans.org/
DTSTAMP:20260420T130014Z
CATEGORIES:This Day in Missouri
DESCRIPTION:<p><span style='font-family: arial\, helvetica\, sans-serif\; f
 ont-size: 12pt\; color: #000000\;'>On August 8\, the following notable his
 torical events related to Missouri have been recorded:</span></p>\n<ul>\n<
 li><span style='font-family: arial\, helvetica\, sans-serif\; font-size: 1
 2pt\; color: #000000\;'>1804: The Lewis and Clark Expedition was near pres
 ent-day Council Bluffs\, Iowa\, across from Missouri’s Atchison County\, o
 n or around August 8. They continued documenting the region’s resources an
 d interactions with Native American tribes\, advancing their exploration o
 f the Louisiana Purchase.</span></li>\n<li><span style='font-family: arial
 \, helvetica\, sans-serif\; font-size: 12pt\; color: #000000\;'>1838: Duri
 ng the Mormon War in Missouri\, tensions escalated further. On or around A
 ugust 8\, the aftermath of the Gallatin Election Day Battle saw non-Mormon
  vigilantes in Daviess and Carroll Counties intensifying attacks on Mormon
  settlers\, contributing to the conflict that led to the Mormon expulsion 
 order later in 1838.</span></li>\n<li><span style='font-family: arial\, he
 lvetica\, sans-serif\; font-size: 12pt\; color: #000000\;'>1861: During th
 e Civil War\, Missouri remained a battleground. On August 8\, Union forces
  under General Nathaniel Lyon were in final preparations near Springfield\
 , Missouri\, for the Battle of Wilson’s Creek\, which occurred two days la
 ter\, marking a significant clash in the state.</span></li>\n<li><span sty
 le='font-family: arial\, helvetica\, sans-serif\; font-size: 12pt\; color:
  #000000\;'>1876: The St. Louis-based Missouri Botanical Garden\, founded 
 by Henry Shaw\, hosted a significant public exhibition around August 8\, s
 howcasing rare plant species and reinforcing its status as a leading botan
 ical research center.</span></li>\n<li><span style='font-family: arial\, h
 elvetica\, sans-serif\; font-size: 12pt\; color: #000000\;'>1904: The St. 
 Louis World’s Fair\, or Louisiana Purchase Exposition\, was ongoing\, with
  August 8 featuring international scientific exhibits and early Olympic ev
 ents\, highlighting Missouri’s global cultural and economic prominence.</s
 pan></li>\n<li><span style='font-family: arial\, helvetica\, sans-serif\; 
 font-size: 12pt\; color: #000000\;'>1967: The St. Louis Cardinals played a
  notable game against the Chicago Cubs at Busch Stadium on August 8\, with
  Bob Gibson pitching a complete game and Orlando Cepeda hitting a key home
  run\, contributing to their World Series-winning season and reinforcing M
 issouri’s baseball legacy.</span></li>\n</ul>
DTSTART;TZID=America/Chicago:20250808T000000
DTEND;TZID=America/Chicago:20250808T235959
RRULE:FREQ=YEARLY;COUNT=3;INTERVAL=1
SUMMARY:August 8th This Day in Missouri
URL:https://mail.taneycountyrepublicans.org/odds-n-ends/this-week-in-missou
 ri/24-this-day-in-missouri/1865-august-8th-this-day-in-missouri.html
X-ALT-DESC;FMTTYPE=TEXT/HTML:<p><span style='font-family: arial\, helvetica
 \, sans-serif\; font-size: 12pt\; color: #000000\;'>On August 8\, the foll
 owing notable historical events related to Missouri have been recorded:</s
 pan></p>\n<ul>\n<li><span style='font-family: arial\, helvetica\, sans-ser
 if\; font-size: 12pt\; color: #000000\;'>1804: The Lewis and Clark Expedit
 ion was near present-day Council Bluffs\, Iowa\, across from Missouri’s At
 chison County\, on or around August 8. They continued documenting the regi
 on’s resources and interactions with Native American tribes\, advancing th
 eir exploration of the Louisiana Purchase.</span></li>\n<li><span style='f
 ont-family: arial\, helvetica\, sans-serif\; font-size: 12pt\; color: #000
 000\;'>1838: During the Mormon War in Missouri\, tensions escalated furthe
 r. On or around August 8\, the aftermath of the Gallatin Election Day Batt
 le saw non-Mormon vigilantes in Daviess and Carroll Counties intensifying 
 attacks on Mormon settlers\, contributing to the conflict that led to the 
 Mormon expulsion order later in 1838.</span></li>\n<li><span style='font-f
 amily: arial\, helvetica\, sans-serif\; font-size: 12pt\; color: #000000\;
 '>1861: During the Civil War\, Missouri remained a battleground. On August
  8\, Union forces under General Nathaniel Lyon were in final preparations 
 near Springfield\, Missouri\, for the Battle of Wilson’s Creek\, which occ
 urred two days later\, marking a significant clash in the state.</span></l
 i>\n<li><span style='font-family: arial\, helvetica\, sans-serif\; font-si
 ze: 12pt\; color: #000000\;'>1876: The St. Louis-based Missouri Botanical 
 Garden\, founded by Henry Shaw\, hosted a significant public exhibition ar
 ound August 8\, showcasing rare plant species and reinforcing its status a
 s a leading botanical research center.</span></li>\n<li><span style='font-
 family: arial\, helvetica\, sans-serif\; font-size: 12pt\; color: #000000\
 ;'>1904: The St. Louis World’s Fair\, or Louisiana Purchase Exposition\, w
 as ongoing\, with August 8 featuring international scientific exhibits and
  early Olympic events\, highlighting Missouri’s global cultural and econom
 ic prominence.</span></li>\n<li><span style='font-family: arial\, helvetic
 a\, sans-serif\; font-size: 12pt\; color: #000000\;'>1967: The St. Louis C
 ardinals played a notable game against the Chicago Cubs at Busch Stadium o
 n August 8\, with Bob Gibson pitching a complete game and Orlando Cepeda h
 itting a key home run\, contributing to their World Series-winning season 
 and reinforcing Missouri’s baseball legacy.</span></li>\n</ul>
END:VEVENT
END:VCALENDAR
