BEGIN:VCALENDAR
VERSION:2.0
PRODID:-//https://mail.taneycountyrepublicans.org//NONSGML kigkonsult.se iCalcreator 2.41.71//
CALSCALE:GREGORIAN
METHOD:PUBLISH
UID:38656162-6530-4330-b330-666635643964
X-WR-CALNAME:JCal Pro Calendar
X-WR-CALDESC:Your online events calendar
X-WR-TIMEZONE:America/Chicago
BEGIN:VTIMEZONE
TZID:America/Chicago
TZUNTIL:20271107T070000Z
BEGIN:STANDARD
TZNAME:CST
DTSTART:20251102T020000
TZOFFSETFROM:-0500
TZOFFSETTO:-0600
RDATE:20261101T020000
END:STANDARD
BEGIN:DAYLIGHT
TZNAME:CDT
DTSTART:20260308T020000
TZOFFSETFROM:-0600
TZOFFSETTO:-0500
RDATE:20270314T020000
END:DAYLIGHT
END:VTIMEZONE
BEGIN:VEVENT
UID:20250807T000000UTC-1940CJv7LU@https://taneycountyrepublicans.org/
DTSTAMP:20260420T130029Z
CATEGORIES:This Day in Missouri
DESCRIPTION:<p><span style='font-family: arial\, helvetica\, sans-serif\; f
 ont-size: 12pt\; color: #000000\;'>On August 7\, the following notable his
 torical events related to Missouri have been recorded:</span></p>\n<ul>\n<
 li><span style='font-family: arial\, helvetica\, sans-serif\; font-size: 1
 2pt\; color: #000000\;'>1804: The Lewis and Clark Expedition was near pres
 ent-day Council Bluffs\, Iowa\, across from Missouri’s Atchison County\, o
 n or around August 7. They continued documenting the region’s geography an
 d interactions with Native American tribes\, advancing their exploration o
 f the Louisiana Purchase.</span></li>\n<li><span style='font-family: arial
 \, helvetica\, sans-serif\; font-size: 12pt\; color: #000000\;'>1838: Duri
 ng the Mormon War in Missouri\, tensions remained high. On or around Augus
 t 7\, the aftermath of the Gallatin Election Day Battle saw non-Mormon vig
 ilantes in Daviess County intensifying their campaign against Mormon settl
 ers\, escalating the conflict that led to the Mormon expulsion order later
  in 1838.</span></li>\n<li><span style='font-family: arial\, helvetica\, s
 ans-serif\; font-size: 12pt\; color: #000000\;'>1861: During the Civil War
 \, Missouri was a hotbed of conflict. On August 7\, Union forces under Gen
 eral Nathaniel Lyon were finalizing preparations near Springfield\, Missou
 ri\, for the Battle of Wilson’s Creek\, which occurred three days later\, 
 marking a significant engagement in the state.</span></li>\n<li><span styl
 e='font-family: arial\, helvetica\, sans-serif\; font-size: 12pt\; color: 
 #000000\;'>1873: The Missouri\, Kansas\, and Texas Railway (Katy Railroad)
  expanded its network through southwest Missouri around August 7\, connect
 ing Springfield to other regions and fostering economic growth in the stat
 e.</span></li>\n<li><span style='font-family: arial\, helvetica\, sans-ser
 if\; font-size: 12pt\; color: #000000\;'>1904: The St. Louis World’s Fair\
 , or Louisiana Purchase Exposition\, was ongoing\, with August 7 featuring
  international trade exhibits and cultural performances\, reinforcing Miss
 ouri’s prominence as a global hub.</span></li>\n<li><span style='font-fami
 ly: arial\, helvetica\, sans-serif\; font-size: 12pt\; color: #000000\;'>1
 964: The St. Louis Cardinals played a notable game against the New York Me
 ts at Busch Stadium on August 7\, with Ken Boyer hitting a game-winning ho
 me run\, contributing to the team’s World Series-winning season and highli
 ghting Missouri’s baseball legacy.</span></li>\n</ul>
DTSTART;TZID=America/Chicago:20250807T000000
DTEND;TZID=America/Chicago:20250807T235959
RRULE:FREQ=YEARLY;COUNT=3;INTERVAL=1
SUMMARY:August 7th This Day in Missouri
URL:https://mail.taneycountyrepublicans.org/odds-n-ends/this-week-in-missou
 ri/24-this-day-in-missouri/1862-august-7th-this-day-in-missouri.html
X-ALT-DESC;FMTTYPE=TEXT/HTML:<p><span style='font-family: arial\, helvetica
 \, sans-serif\; font-size: 12pt\; color: #000000\;'>On August 7\, the foll
 owing notable historical events related to Missouri have been recorded:</s
 pan></p>\n<ul>\n<li><span style='font-family: arial\, helvetica\, sans-ser
 if\; font-size: 12pt\; color: #000000\;'>1804: The Lewis and Clark Expedit
 ion was near present-day Council Bluffs\, Iowa\, across from Missouri’s At
 chison County\, on or around August 7. They continued documenting the regi
 on’s geography and interactions with Native American tribes\, advancing th
 eir exploration of the Louisiana Purchase.</span></li>\n<li><span style='f
 ont-family: arial\, helvetica\, sans-serif\; font-size: 12pt\; color: #000
 000\;'>1838: During the Mormon War in Missouri\, tensions remained high. O
 n or around August 7\, the aftermath of the Gallatin Election Day Battle s
 aw non-Mormon vigilantes in Daviess County intensifying their campaign aga
 inst Mormon settlers\, escalating the conflict that led to the Mormon expu
 lsion order later in 1838.</span></li>\n<li><span style='font-family: aria
 l\, helvetica\, sans-serif\; font-size: 12pt\; color: #000000\;'>1861: Dur
 ing the Civil War\, Missouri was a hotbed of conflict. On August 7\, Union
  forces under General Nathaniel Lyon were finalizing preparations near Spr
 ingfield\, Missouri\, for the Battle of Wilson’s Creek\, which occurred th
 ree days later\, marking a significant engagement in the state.</span></li
 >\n<li><span style='font-family: arial\, helvetica\, sans-serif\; font-siz
 e: 12pt\; color: #000000\;'>1873: The Missouri\, Kansas\, and Texas Railwa
 y (Katy Railroad) expanded its network through southwest Missouri around A
 ugust 7\, connecting Springfield to other regions and fostering economic g
 rowth in the state.</span></li>\n<li><span style='font-family: arial\, hel
 vetica\, sans-serif\; font-size: 12pt\; color: #000000\;'>1904: The St. Lo
 uis World’s Fair\, or Louisiana Purchase Exposition\, was ongoing\, with A
 ugust 7 featuring international trade exhibits and cultural performances\,
  reinforcing Missouri’s prominence as a global hub.</span></li>\n<li><span
  style='font-family: arial\, helvetica\, sans-serif\; font-size: 12pt\; co
 lor: #000000\;'>1964: The St. Louis Cardinals played a notable game agains
 t the New York Mets at Busch Stadium on August 7\, with Ken Boyer hitting 
 a game-winning home run\, contributing to the team’s World Series-winning 
 season and highlighting Missouri’s baseball legacy.</span></li>\n</ul>
END:VEVENT
END:VCALENDAR
