BEGIN:VCALENDAR
VERSION:2.0
PRODID:-//https://mail.taneycountyrepublicans.org//NONSGML kigkonsult.se iCalcreator 2.41.71//
CALSCALE:GREGORIAN
METHOD:PUBLISH
UID:30353533-3965-4264-b638-643031623439
X-WR-CALNAME:JCal Pro Calendar
X-WR-CALDESC:Your online events calendar
X-WR-TIMEZONE:America/Chicago
BEGIN:VTIMEZONE
TZID:America/Chicago
TZUNTIL:20271107T070000Z
BEGIN:STANDARD
TZNAME:CST
DTSTART:20251102T020000
TZOFFSETFROM:-0500
TZOFFSETTO:-0600
RDATE:20261101T020000
END:STANDARD
BEGIN:DAYLIGHT
TZNAME:CDT
DTSTART:20260308T020000
TZOFFSETFROM:-0600
TZOFFSETTO:-0500
RDATE:20270314T020000
END:DAYLIGHT
END:VTIMEZONE
BEGIN:VEVENT
UID:20250806T120000UTC-9802rGPm44@https://taneycountyrepublicans.org/
DTSTAMP:20260420T130024Z
CATEGORIES:This Day in Missouri
DESCRIPTION:<p><span style='font-family: arial\, helvetica\, sans-serif\; f
 ont-size: 12pt\; color: #000000\;'>On August 6\, the following notable his
 torical events related to Missouri have been recorded:</span></p>\n<ul>\n<
 li><span style='font-family: arial\, helvetica\, sans-serif\; font-size: 1
 2pt\; color: #000000\;'>1804: The Lewis and Clark Expedition was near pres
 ent-day Council Bluffs\, Iowa\, across from Missouri’s Atchison County\, o
 n or around August 6. They continued documenting the region’s resources an
 d interactions with Otoe and Missouri tribes\, advancing their exploration
  of the Louisiana Purchase.</span></li>\n<li><span style='font-family: ari
 al\, helvetica\, sans-serif\; font-size: 12pt\; color: #000000\;'>1838: Du
 ring the Mormon War in Missouri\, conflicts escalated. On August 6\, the G
 allatin Election Day Battle occurred in Daviess County\, where non-Mormon 
 residents attacked Mormon settlers attempting to vote\, marking a signific
 ant escalation in the conflict that led to the Mormon expulsion order late
 r in 1838.</span></li>\n<li><span style='font-family: arial\, helvetica\, 
 sans-serif\; font-size: 12pt\; color: #000000\;'>1861: During the Civil Wa
 r\, Missouri remained a battleground. On August 6\, Union forces under Gen
 eral Nathaniel Lyon were finalizing preparations near Springfield\, Missou
 ri\, for the Battle of Wilson’s Creek\, which took place four days later\,
  a major engagement in the state.</span></li>\n<li><span style='font-famil
 y: arial\, helvetica\, sans-serif\; font-size: 12pt\; color: #000000\;'>18
 70: The Kansas City Stockyards expanded operations around August 6\, solid
 ifying Kansas City’s role as a major livestock trading hub and boosting Mi
 ssouri’s agricultural economy.</span></li>\n<li><span style='font-family: 
 arial\, helvetica\, sans-serif\; font-size: 12pt\; color: #000000\;'>1904:
  The St. Louis World’s Fair\, or Louisiana Purchase Exposition\, was ongoi
 ng\, with August 6 featuring international agricultural exhibits and early
  Olympic events\, highlighting Missouri’s global cultural and economic pro
 minence.</span></li>\n<li><span style='font-family: arial\, helvetica\, sa
 ns-serif\; font-size: 12pt\; color: #000000\;'>1945: On August 6\, the ato
 mic bomb was dropped on Hiroshima\, and Missouri played a role in the war 
 effort. The Monsanto Chemical Company in St. Louis was involved in produci
 ng components for the Manhattan Project\, underscoring Missouri’s contribu
 tion to World War II.</span></li>\n</ul>
DTSTART;TZID=America/Chicago:20250806T000000
DTEND;TZID=America/Chicago:20250806T235959
RRULE:FREQ=YEARLY;COUNT=2;INTERVAL=1
SUMMARY:August 6th This Day in Missouri
URL:https://mail.taneycountyrepublicans.org/odds-n-ends/this-week-in-missou
 ri/24-this-day-in-missouri/1860-august-6th-this-day-in-missouri.html
X-ALT-DESC;FMTTYPE=TEXT/HTML:<p><span style='font-family: arial\, helvetica
 \, sans-serif\; font-size: 12pt\; color: #000000\;'>On August 6\, the foll
 owing notable historical events related to Missouri have been recorded:</s
 pan></p>\n<ul>\n<li><span style='font-family: arial\, helvetica\, sans-ser
 if\; font-size: 12pt\; color: #000000\;'>1804: The Lewis and Clark Expedit
 ion was near present-day Council Bluffs\, Iowa\, across from Missouri’s At
 chison County\, on or around August 6. They continued documenting the regi
 on’s resources and interactions with Otoe and Missouri tribes\, advancing 
 their exploration of the Louisiana Purchase.</span></li>\n<li><span style=
 'font-family: arial\, helvetica\, sans-serif\; font-size: 12pt\; color: #0
 00000\;'>1838: During the Mormon War in Missouri\, conflicts escalated. On
  August 6\, the Gallatin Election Day Battle occurred in Daviess County\, 
 where non-Mormon residents attacked Mormon settlers attempting to vote\, m
 arking a significant escalation in the conflict that led to the Mormon exp
 ulsion order later in 1838.</span></li>\n<li><span style='font-family: ari
 al\, helvetica\, sans-serif\; font-size: 12pt\; color: #000000\;'>1861: Du
 ring the Civil War\, Missouri remained a battleground. On August 6\, Union
  forces under General Nathaniel Lyon were finalizing preparations near Spr
 ingfield\, Missouri\, for the Battle of Wilson’s Creek\, which took place 
 four days later\, a major engagement in the state.</span></li>\n<li><span 
 style='font-family: arial\, helvetica\, sans-serif\; font-size: 12pt\; col
 or: #000000\;'>1870: The Kansas City Stockyards expanded operations around
  August 6\, solidifying Kansas City’s role as a major livestock trading hu
 b and boosting Missouri’s agricultural economy.</span></li>\n<li><span sty
 le='font-family: arial\, helvetica\, sans-serif\; font-size: 12pt\; color:
  #000000\;'>1904: The St. Louis World’s Fair\, or Louisiana Purchase Expos
 ition\, was ongoing\, with August 6 featuring international agricultural e
 xhibits and early Olympic events\, highlighting Missouri’s global cultural
  and economic prominence.</span></li>\n<li><span style='font-family: arial
 \, helvetica\, sans-serif\; font-size: 12pt\; color: #000000\;'>1945: On A
 ugust 6\, the atomic bomb was dropped on Hiroshima\, and Missouri played a
  role in the war effort. The Monsanto Chemical Company in St. Louis was in
 volved in producing components for the Manhattan Project\, underscoring Mi
 ssouri’s contribution to World War II.</span></li>\n</ul>
END:VEVENT
END:VCALENDAR
