BEGIN:VCALENDAR
VERSION:2.0
PRODID:-//https://mail.taneycountyrepublicans.org//NONSGML kigkonsult.se iCalcreator 2.41.71//
CALSCALE:GREGORIAN
METHOD:PUBLISH
UID:31343661-6461-4935-b633-623032306436
X-WR-CALNAME:JCal Pro Calendar
X-WR-CALDESC:Your online events calendar
X-WR-TIMEZONE:America/Chicago
BEGIN:VTIMEZONE
TZID:America/Chicago
TZUNTIL:20271107T070000Z
BEGIN:STANDARD
TZNAME:CST
DTSTART:20251102T020000
TZOFFSETFROM:-0500
TZOFFSETTO:-0600
RDATE:20261101T020000
END:STANDARD
BEGIN:DAYLIGHT
TZNAME:CDT
DTSTART:20260308T020000
TZOFFSETFROM:-0600
TZOFFSETTO:-0500
RDATE:20270314T020000
END:DAYLIGHT
END:VTIMEZONE
BEGIN:VEVENT
UID:20250805T120000UTC-1024XOv0cv@https://taneycountyrepublicans.org/
DTSTAMP:20260420T130019Z
CATEGORIES:This Day in Missouri
DESCRIPTION:<p><span style='font-family: arial\, helvetica\, sans-serif\; f
 ont-size: 12pt\; color: #000000\;'>On August 5\, the following notable his
 torical events related to Missouri have been recorded:</span></p>\n<ul>\n<
 li><span style='font-family: arial\, helvetica\, sans-serif\; font-size: 1
 2pt\; color: #000000\;'>1804: The Lewis and Clark Expedition was near pres
 ent-day Council Bluffs\, Iowa\, across from Missouri’s Atchison County\, o
 n or around August 5. They continued documenting the region’s geography an
 d interactions with Otoe and Missouri tribes\, advancing their exploration
  of the Louisiana Purchase.</span></li>\n<li><span style='font-family: ari
 al\, helvetica\, sans-serif\; font-size: 12pt\; color: #000000\;'>1838: Du
 ring the Mormon War in Missouri\, tensions remained high. On or around Aug
 ust 5\, non-Mormon vigilantes in Daviess and Carroll Counties continued or
 ganizing against Mormon settlers\, with skirmishes escalating the conflict
  that led to the Mormon expulsion order later in 1838.</span></li>\n<li><s
 pan style='font-family: arial\, helvetica\, sans-serif\; font-size: 12pt\;
  color: #000000\;'>1861: During the Civil War\, Missouri saw ongoing milit
 ary activity. On August 5\, Union forces under General Nathaniel Lyon were
  engaged in final preparations near Springfield\, Missouri\, for the Battl
 e of Wilson’s Creek\, which occurred five days later\, marking a significa
 nt clash in the state.</span></li>\n<li><span style='font-family: arial\, 
 helvetica\, sans-serif\; font-size: 12pt\; color: #000000\;'>1876: The St.
  Louis-based Anheuser-Busch brewery began expanding its refrigerated railc
 ar system around August 5\, enabling broader distribution of Budweiser and
  reinforcing Missouri’s role as a leader in the national brewing industry.
 </span></li>\n<li><span style='font-family: arial\, helvetica\, sans-serif
 \; font-size: 12pt\; color: #000000\;'>1904: The St. Louis World’s Fair\, 
 or Louisiana Purchase Exposition\, was ongoing\, with August 5 featuring i
 nternational scientific exhibits and early Olympic events\, showcasing Mis
 souri’s global cultural and economic prominence.</span></li>\n<li><span st
 yle='font-family: arial\, helvetica\, sans-serif\; font-size: 12pt\; color
 : #000000\;'>1967: The St. Louis Cardinals played a notable game against t
 he Chicago Cubs at Busch Stadium on August 5\, with Bob Gibson pitching a 
 complete game and Orlando Cepeda hitting a key home run\, contributing to 
 their World Series-winning season and reinforcing Missouri’s baseball lega
 cy.</span></li>\n</ul>
DTSTART;TZID=America/Chicago:20250805T000000
DTEND;TZID=America/Chicago:20250805T235959
RRULE:FREQ=YEARLY;COUNT=3;INTERVAL=1
SUMMARY:August 5th This Day in Missouri
URL:https://mail.taneycountyrepublicans.org/odds-n-ends/this-week-in-missou
 ri/24-this-day-in-missouri/1857-august-5th-this-day-in-missouri.html
X-ALT-DESC;FMTTYPE=TEXT/HTML:<p><span style='font-family: arial\, helvetica
 \, sans-serif\; font-size: 12pt\; color: #000000\;'>On August 5\, the foll
 owing notable historical events related to Missouri have been recorded:</s
 pan></p>\n<ul>\n<li><span style='font-family: arial\, helvetica\, sans-ser
 if\; font-size: 12pt\; color: #000000\;'>1804: The Lewis and Clark Expedit
 ion was near present-day Council Bluffs\, Iowa\, across from Missouri’s At
 chison County\, on or around August 5. They continued documenting the regi
 on’s geography and interactions with Otoe and Missouri tribes\, advancing 
 their exploration of the Louisiana Purchase.</span></li>\n<li><span style=
 'font-family: arial\, helvetica\, sans-serif\; font-size: 12pt\; color: #0
 00000\;'>1838: During the Mormon War in Missouri\, tensions remained high.
  On or around August 5\, non-Mormon vigilantes in Daviess and Carroll Coun
 ties continued organizing against Mormon settlers\, with skirmishes escala
 ting the conflict that led to the Mormon expulsion order later in 1838.</s
 pan></li>\n<li><span style='font-family: arial\, helvetica\, sans-serif\; 
 font-size: 12pt\; color: #000000\;'>1861: During the Civil War\, Missouri 
 saw ongoing military activity. On August 5\, Union forces under General Na
 thaniel Lyon were engaged in final preparations near Springfield\, Missour
 i\, for the Battle of Wilson’s Creek\, which occurred five days later\, ma
 rking a significant clash in the state.</span></li>\n<li><span style='font
 -family: arial\, helvetica\, sans-serif\; font-size: 12pt\; color: #000000
 \;'>1876: The St. Louis-based Anheuser-Busch brewery began expanding its r
 efrigerated railcar system around August 5\, enabling broader distribution
  of Budweiser and reinforcing Missouri’s role as a leader in the national 
 brewing industry.</span></li>\n<li><span style='font-family: arial\, helve
 tica\, sans-serif\; font-size: 12pt\; color: #000000\;'>1904: The St. Loui
 s World’s Fair\, or Louisiana Purchase Exposition\, was ongoing\, with Aug
 ust 5 featuring international scientific exhibits and early Olympic events
 \, showcasing Missouri’s global cultural and economic prominence.</span></
 li>\n<li><span style='font-family: arial\, helvetica\, sans-serif\; font-s
 ize: 12pt\; color: #000000\;'>1967: The St. Louis Cardinals played a notab
 le game against the Chicago Cubs at Busch Stadium on August 5\, with Bob G
 ibson pitching a complete game and Orlando Cepeda hitting a key home run\,
  contributing to their World Series-winning season and reinforcing Missour
 i’s baseball legacy.</span></li>\n</ul>
END:VEVENT
END:VCALENDAR
