BEGIN:VCALENDAR
VERSION:2.0
PRODID:-//https://mail.taneycountyrepublicans.org//NONSGML kigkonsult.se iCalcreator 2.41.71//
CALSCALE:GREGORIAN
METHOD:PUBLISH
UID:36343539-6231-4361-a637-393034306361
X-WR-CALNAME:JCal Pro Calendar
X-WR-CALDESC:Your online events calendar
X-WR-TIMEZONE:America/Chicago
BEGIN:VTIMEZONE
TZID:America/Chicago
TZUNTIL:20271107T070000Z
BEGIN:STANDARD
TZNAME:CST
DTSTART:20251102T020000
TZOFFSETFROM:-0500
TZOFFSETTO:-0600
RDATE:20261101T020000
END:STANDARD
BEGIN:DAYLIGHT
TZNAME:CDT
DTSTART:20260308T020000
TZOFFSETFROM:-0600
TZOFFSETTO:-0500
RDATE:20270314T020000
END:DAYLIGHT
END:VTIMEZONE
BEGIN:VEVENT
UID:20250603T110000UTC-05769aH8IU@https://taneycountyrepublicans.org/
DTSTAMP:20260420T125913Z
CATEGORIES:This Day in Missouri
DESCRIPTION:<p><span style='font-family: arial\, helvetica\, sans-serif\; f
 ont-size: 12pt\; color: #000000\;'>On June 3\, the following notable histo
 rical events related to Missouri have been recorded:</span></p>\n<ul>\n<li
 ><span style='font-family: arial\, helvetica\, sans-serif\; font-size: 12p
 t\; color: #000000\;'>1804: The Lewis and Clark Expedition was in the St. 
 Louis area on or around June 3\, completing final preparations and gatheri
 ng supplies for their journey up the Missouri River to explore the Louisia
 na Purchase\, reinforcing Missouri’s role as a starting point for western 
 exploration.</span></li>\n<li><span style='font-family: arial\, helvetica\
 , sans-serif\; font-size: 12pt\; color: #000000\;'>1820: Missouri’s consti
 tutional convention\, convened in St. Louis\, continued drafting the state
 ’s first constitution around June 3. This was a critical step toward Misso
 uri’s admission as a state in 1821\, amidst debates over slavery as part o
 f the Missouri Compromise.</span></li>\n<li><span style='font-family: aria
 l\, helvetica\, sans-serif\; font-size: 12pt\; color: #000000\;'>1861: Dur
 ing the Civil War\, Missouri was marked by rising tensions. On or around J
 une 3\, Union forces under General Nathaniel Lyon were securing St. Louis\
 , conducting operations to prevent Confederate sympathizers from gaining c
 ontrol of key infrastructure like the St. Louis Arsenal.</span></li>\n<li>
 <span style='font-family: arial\, helvetica\, sans-serif\; font-size: 12pt
 \; color: #000000\;'>1874: The Missouri Pacific Railroad expanded its netw
 ork through central Missouri around June 3\, completing a key line connect
 ing Jefferson City to St. Louis\, enhancing the state’s transportation and
  economic growth.</span></li>\n<li><span style='font-family: arial\, helve
 tica\, sans-serif\; font-size: 12pt\; color: #000000\;'>1904: The St. Loui
 s World’s Fair\, or Louisiana Purchase Exposition\, was in its early stage
 s\, with June 3 featuring international trade exhibits and cultural perfor
 mances\, showcasing Missouri’s global prominence.</span></li>\n<li><span s
 tyle='font-family: arial\, helvetica\, sans-serif\; font-size: 12pt\; colo
 r: #000000\;'>1964: The St. Louis Cardinals played a significant game agai
 nst the Pittsburgh Pirates at Busch Stadium on June 3\, with Bob Gibson pi
 tching a complete game and contributing to a Cardinals victory\, reinforci
 ng Missouri’s baseball legacy.</span></li>\n</ul>
DTSTART;TZID=America/Chicago:20250603T000000
DTEND;TZID=America/Chicago:20250603T235959
RRULE:FREQ=YEARLY;COUNT=3;INTERVAL=1
SUMMARY:June 3rd This Day in Missouri
URL:https://mail.taneycountyrepublicans.org/odds-n-ends/this-week-in-missou
 ri/24-this-day-in-missouri/1765-june-3rd-this-day-in-missouri.html
X-ALT-DESC;FMTTYPE=TEXT/HTML:<p><span style='font-family: arial\, helvetica
 \, sans-serif\; font-size: 12pt\; color: #000000\;'>On June 3\, the follow
 ing notable historical events related to Missouri have been recorded:</spa
 n></p>\n<ul>\n<li><span style='font-family: arial\, helvetica\, sans-serif
 \; font-size: 12pt\; color: #000000\;'>1804: The Lewis and Clark Expeditio
 n was in the St. Louis area on or around June 3\, completing final prepara
 tions and gathering supplies for their journey up the Missouri River to ex
 plore the Louisiana Purchase\, reinforcing Missouri’s role as a starting p
 oint for western exploration.</span></li>\n<li><span style='font-family: a
 rial\, helvetica\, sans-serif\; font-size: 12pt\; color: #000000\;'>1820: 
 Missouri’s constitutional convention\, convened in St. Louis\, continued d
 rafting the state’s first constitution around June 3. This was a critical 
 step toward Missouri’s admission as a state in 1821\, amidst debates over 
 slavery as part of the Missouri Compromise.</span></li>\n<li><span style='
 font-family: arial\, helvetica\, sans-serif\; font-size: 12pt\; color: #00
 0000\;'>1861: During the Civil War\, Missouri was marked by rising tension
 s. On or around June 3\, Union forces under General Nathaniel Lyon were se
 curing St. Louis\, conducting operations to prevent Confederate sympathize
 rs from gaining control of key infrastructure like the St. Louis Arsenal.<
 /span></li>\n<li><span style='font-family: arial\, helvetica\, sans-serif\
 ; font-size: 12pt\; color: #000000\;'>1874: The Missouri Pacific Railroad 
 expanded its network through central Missouri around June 3\, completing a
  key line connecting Jefferson City to St. Louis\, enhancing the state’s t
 ransportation and economic growth.</span></li>\n<li><span style='font-fami
 ly: arial\, helvetica\, sans-serif\; font-size: 12pt\; color: #000000\;'>1
 904: The St. Louis World’s Fair\, or Louisiana Purchase Exposition\, was i
 n its early stages\, with June 3 featuring international trade exhibits an
 d cultural performances\, showcasing Missouri’s global prominence.</span><
 /li>\n<li><span style='font-family: arial\, helvetica\, sans-serif\; font-
 size: 12pt\; color: #000000\;'>1964: The St. Louis Cardinals played a sign
 ificant game against the Pittsburgh Pirates at Busch Stadium on June 3\, w
 ith Bob Gibson pitching a complete game and contributing to a Cardinals vi
 ctory\, reinforcing Missouri’s baseball legacy.</span></li>\n</ul>
END:VEVENT
END:VCALENDAR
