BEGIN:VCALENDAR
VERSION:2.0
PRODID:-//https://mail.taneycountyrepublicans.org//NONSGML kigkonsult.se iCalcreator 2.41.71//
CALSCALE:GREGORIAN
METHOD:PUBLISH
UID:37636262-6436-4561-a239-363235383232
X-WR-CALNAME:JCal Pro Calendar
X-WR-CALDESC:Your online events calendar
X-WR-TIMEZONE:America/Chicago
BEGIN:VTIMEZONE
TZID:America/Chicago
TZUNTIL:20271107T070000Z
BEGIN:STANDARD
TZNAME:CST
DTSTART:20251102T020000
TZOFFSETFROM:-0500
TZOFFSETTO:-0600
RDATE:20261101T020000
END:STANDARD
BEGIN:DAYLIGHT
TZNAME:CDT
DTSTART:20260308T020000
TZOFFSETFROM:-0600
TZOFFSETTO:-0500
RDATE:20270314T020000
END:DAYLIGHT
END:VTIMEZONE
BEGIN:VEVENT
UID:20250723T110000UTC-4692uuxwD1@https://taneycountyrepublicans.org/
DTSTAMP:20260420T181621Z
CATEGORIES:This Day in Missouri
DESCRIPTION:<p><span style='font-family: arial\, helvetica\, sans-serif\; f
 ont-size: 12pt\; color: #000000\;'>On July 23\, the following notable hist
 orical events related to Missouri have been recorded:</span></p>\n<ul>\n<l
 i><span style='font-family: arial\, helvetica\, sans-serif\; font-size: 12
 pt\; color: #000000\;'>1804: The Lewis and Clark Expedition\, traveling al
 ong the Missouri River\, was near present-day Otoe County\, Nebraska\, acr
 oss from Missouri’s Atchison County\, on or around July 23. They continued
  their council with Otoe and Missouri tribes\, documenting cultural exchan
 ges and the region’s resources\, advancing their exploration of the Louisi
 ana Purchase.</span></li>\n<li><span style='font-family: arial\, helvetica
 \, sans-serif\; font-size: 12pt\; color: #000000\;'>1838: During the Mormo
 n War in Missouri\, tensions escalated further. On or around July 23\, non
 -Mormon residents in Daviess County organized militias to confront Mormon 
 settlers\, intensifying conflicts that contributed to the eventual expulsi
 on of Mormons from Missouri later in 1838.</span></li>\n<li><span style='f
 ont-family: arial\, helvetica\, sans-serif\; font-size: 12pt\; color: #000
 000\;'>1861: During the Civil War\, Missouri remained a hotbed of conflict
 . On July 23\, Union forces under General Nathaniel Lyon engaged in minor 
 skirmishes in southwest Missouri near Springfield\, part of ongoing prepar
 ations for the Battle of Wilson’s Creek.</span></li>\n<li><span style='fon
 t-family: arial\, helvetica\, sans-serif\; font-size: 12pt\; color: #00000
 0\;'>1876: The St. Louis Agricultural and Mechanical Fair was in its plann
 ing stages around July 23\, preparing for its annual event in the fall. Th
 is fair showcased Missouri’s agricultural innovations and economic growth.
 </span></li>\n<li><span style='font-family: arial\, helvetica\, sans-serif
 \; font-size: 12pt\; color: #000000\;'>1904: The St. Louis World’s Fair\, 
 or Louisiana Purchase Exposition\, was ongoing\, with July 23 featuring in
 ternational industrial exhibits and cultural demonstrations\, reinforcing 
 Missouri’s prominence as a global hub.</span></li>\n<li><span style='font-
 family: arial\, helvetica\, sans-serif\; font-size: 12pt\; color: #000000\
 ;'>1962: The St. Louis Cardinals played a notable game against the Pittsbu
 rgh Pirates at Busch Stadium\, with Bob Gibson pitching a shutout\, contri
 buting to the team’s strong season and Missouri’s baseball legacy.</span><
 /li>\n</ul>
DTSTART;TZID=America/Chicago:20250723T000000
DTEND;TZID=America/Chicago:20250723T235959
RRULE:FREQ=YEARLY;COUNT=3;INTERVAL=1
SUMMARY:July 23rd This Day in Missouri
URL:https://mail.taneycountyrepublicans.org/odds-n-ends/this-week-in-missou
 ri/24-this-day-in-missouri/1726-july-23rd-this-day-in-missouri.html
X-ALT-DESC;FMTTYPE=TEXT/HTML:<p><span style='font-family: arial\, helvetica
 \, sans-serif\; font-size: 12pt\; color: #000000\;'>On July 23\, the follo
 wing notable historical events related to Missouri have been recorded:</sp
 an></p>\n<ul>\n<li><span style='font-family: arial\, helvetica\, sans-seri
 f\; font-size: 12pt\; color: #000000\;'>1804: The Lewis and Clark Expediti
 on\, traveling along the Missouri River\, was near present-day Otoe County
 \, Nebraska\, across from Missouri’s Atchison County\, on or around July 2
 3. They continued their council with Otoe and Missouri tribes\, documentin
 g cultural exchanges and the region’s resources\, advancing their explorat
 ion of the Louisiana Purchase.</span></li>\n<li><span style='font-family: 
 arial\, helvetica\, sans-serif\; font-size: 12pt\; color: #000000\;'>1838:
  During the Mormon War in Missouri\, tensions escalated further. On or aro
 und July 23\, non-Mormon residents in Daviess County organized militias to
  confront Mormon settlers\, intensifying conflicts that contributed to the
  eventual expulsion of Mormons from Missouri later in 1838.</span></li>\n<
 li><span style='font-family: arial\, helvetica\, sans-serif\; font-size: 1
 2pt\; color: #000000\;'>1861: During the Civil War\, Missouri remained a h
 otbed of conflict. On July 23\, Union forces under General Nathaniel Lyon 
 engaged in minor skirmishes in southwest Missouri near Springfield\, part 
 of ongoing preparations for the Battle of Wilson’s Creek.</span></li>\n<li
 ><span style='font-family: arial\, helvetica\, sans-serif\; font-size: 12p
 t\; color: #000000\;'>1876: The St. Louis Agricultural and Mechanical Fair
  was in its planning stages around July 23\, preparing for its annual even
 t in the fall. This fair showcased Missouri’s agricultural innovations and
  economic growth.</span></li>\n<li><span style='font-family: arial\, helve
 tica\, sans-serif\; font-size: 12pt\; color: #000000\;'>1904: The St. Loui
 s World’s Fair\, or Louisiana Purchase Exposition\, was ongoing\, with Jul
 y 23 featuring international industrial exhibits and cultural demonstratio
 ns\, reinforcing Missouri’s prominence as a global hub.</span></li>\n<li><
 span style='font-family: arial\, helvetica\, sans-serif\; font-size: 12pt\
 ; color: #000000\;'>1962: The St. Louis Cardinals played a notable game ag
 ainst the Pittsburgh Pirates at Busch Stadium\, with Bob Gibson pitching a
  shutout\, contributing to the team’s strong season and Missouri’s basebal
 l legacy.</span></li>\n</ul>
END:VEVENT
END:VCALENDAR
