BEGIN:VCALENDAR
VERSION:2.0
PRODID:-//https://mail.taneycountyrepublicans.org//NONSGML kigkonsult.se iCalcreator 2.41.71//
CALSCALE:GREGORIAN
METHOD:PUBLISH
UID:36316632-3934-4865-a464-383731666163
X-WR-CALNAME:JCal Pro Calendar
X-WR-CALDESC:Your online events calendar
X-WR-TIMEZONE:America/Chicago
BEGIN:VTIMEZONE
TZID:America/Chicago
TZUNTIL:20271107T070000Z
BEGIN:STANDARD
TZNAME:CST
DTSTART:20251102T020000
TZOFFSETFROM:-0500
TZOFFSETTO:-0600
RDATE:20261101T020000
END:STANDARD
BEGIN:DAYLIGHT
TZNAME:CDT
DTSTART:20260308T020000
TZOFFSETFROM:-0600
TZOFFSETTO:-0500
RDATE:20270314T020000
END:DAYLIGHT
END:VTIMEZONE
BEGIN:VEVENT
UID:20250712T100000UTC-8217hWwzJA@https://taneycountyrepublicans.org/
DTSTAMP:20260424T143443Z
CATEGORIES:This Day in Missouri
DESCRIPTION:<p><span style='font-family: arial\, helvetica\, sans-serif\; f
 ont-size: 12pt\; color: #000000\;'>On July 12\, the following notable hist
 orical events related to Missouri have been recorded:</span></p>\n<ul>\n<l
 i><span style='font-family: arial\, helvetica\, sans-serif\; font-size: 12
 pt\; color: #000000\;'>1804: The Lewis and Clark Expedition was navigating
  the Missouri River\, camping near present-day Nemaha County\, Nebraska\, 
 just across from Missouri’s Holt County\, on or around July 12. They docum
 ented the region’s wildlife and river conditions\, advancing their explora
 tion of the Louisiana Purchase.</span></li>\n<li><span style='font-family:
  arial\, helvetica\, sans-serif\; font-size: 12pt\; color: #000000\;'>1838
 : During the Mormon War in Missouri\, tensions continued to rise. On or ar
 ound July 12\, non-Mormon vigilantes in Daviess County began harassing Mor
 mon settlers\, escalating conflicts that would lead to the state’s expulsi
 on of Mormons later in 1838.</span></li>\n<li><span style='font-family: ar
 ial\, helvetica\, sans-serif\; font-size: 12pt\; color: #000000\;'>1861: D
 uring the Civil War\, Missouri remained a hotbed of conflict. On July 12\,
  Union forces under General Nathaniel Lyon were engaged in minor skirmishe
 s in southwest Missouri\, particularly near Springfield\, as they prepared
  for the larger Battle of Wilson’s Creek.</span></li>\n<li><span style='fo
 nt-family: arial\, helvetica\, sans-serif\; font-size: 12pt\; color: #0000
 00\;'>1873: The Kansas City Stockyards\, a major economic hub for Missouri
 \, officially opened around July 12\, establishing Kansas City as a key ce
 nter for the livestock trade and boosting the state’s agricultural economy
 .</span></li>\n<li><span style='font-family: arial\, helvetica\, sans-seri
 f\; font-size: 12pt\; color: #000000\;'>1904: The St. Louis World’s Fair\,
  or Louisiana Purchase Exposition\, was ongoing\, with July 12 featuring p
 rominent displays of Native American cultures and technological innovation
 s\, further highlighting Missouri’s global cultural significance.</span></
 li>\n</ul>
DTSTART;TZID=America/Chicago:20250712T000000
DTEND;TZID=America/Chicago:20250712T235959
RRULE:FREQ=YEARLY;COUNT=3;INTERVAL=1
SUMMARY:July 12th This Day in Missouri
URL:https://mail.taneycountyrepublicans.org/odds-n-ends/this-week-in-missou
 ri/24-this-day-in-missouri/1688-july-12th-this-day-in-missouri.html
X-ALT-DESC;FMTTYPE=TEXT/HTML:<p><span style='font-family: arial\, helvetica
 \, sans-serif\; font-size: 12pt\; color: #000000\;'>On July 12\, the follo
 wing notable historical events related to Missouri have been recorded:</sp
 an></p>\n<ul>\n<li><span style='font-family: arial\, helvetica\, sans-seri
 f\; font-size: 12pt\; color: #000000\;'>1804: The Lewis and Clark Expediti
 on was navigating the Missouri River\, camping near present-day Nemaha Cou
 nty\, Nebraska\, just across from Missouri’s Holt County\, on or around Ju
 ly 12. They documented the region’s wildlife and river conditions\, advanc
 ing their exploration of the Louisiana Purchase.</span></li>\n<li><span st
 yle='font-family: arial\, helvetica\, sans-serif\; font-size: 12pt\; color
 : #000000\;'>1838: During the Mormon War in Missouri\, tensions continued 
 to rise. On or around July 12\, non-Mormon vigilantes in Daviess County be
 gan harassing Mormon settlers\, escalating conflicts that would lead to th
 e state’s expulsion of Mormons later in 1838.</span></li>\n<li><span style
 ='font-family: arial\, helvetica\, sans-serif\; font-size: 12pt\; color: #
 000000\;'>1861: During the Civil War\, Missouri remained a hotbed of confl
 ict. On July 12\, Union forces under General Nathaniel Lyon were engaged i
 n minor skirmishes in southwest Missouri\, particularly near Springfield\,
  as they prepared for the larger Battle of Wilson’s Creek.</span></li>\n<l
 i><span style='font-family: arial\, helvetica\, sans-serif\; font-size: 12
 pt\; color: #000000\;'>1873: The Kansas City Stockyards\, a major economic
  hub for Missouri\, officially opened around July 12\, establishing Kansas
  City as a key center for the livestock trade and boosting the state’s agr
 icultural economy.</span></li>\n<li><span style='font-family: arial\, helv
 etica\, sans-serif\; font-size: 12pt\; color: #000000\;'>1904: The St. Lou
 is World’s Fair\, or Louisiana Purchase Exposition\, was ongoing\, with Ju
 ly 12 featuring prominent displays of Native American cultures and technol
 ogical innovations\, further highlighting Missouri’s global cultural signi
 ficance.</span></li>\n</ul>
END:VEVENT
END:VCALENDAR
