BEGIN:VCALENDAR
VERSION:2.0
PRODID:-//https://mail.taneycountyrepublicans.org//NONSGML kigkonsult.se iCalcreator 2.41.71//
CALSCALE:GREGORIAN
METHOD:PUBLISH
UID:63366263-3663-4165-b962-626336646532
X-WR-CALNAME:JCal Pro Calendar
X-WR-CALDESC:Your online events calendar
X-WR-TIMEZONE:America/Chicago
BEGIN:VTIMEZONE
TZID:America/Chicago
TZUNTIL:20271107T070000Z
BEGIN:STANDARD
TZNAME:CST
DTSTART:20251102T020000
TZOFFSETFROM:-0500
TZOFFSETTO:-0600
RDATE:20261101T020000
END:STANDARD
BEGIN:DAYLIGHT
TZNAME:CDT
DTSTART:20260308T020000
TZOFFSETFROM:-0600
TZOFFSETTO:-0500
RDATE:20270314T020000
END:DAYLIGHT
END:VTIMEZONE
BEGIN:VEVENT
UID:20250615T000000UTC-0227DWkZHN@https://taneycountyrepublicans.org/
DTSTAMP:20260422T135314Z
CATEGORIES:This Day in Missouri
DESCRIPTION:<p><span style='font-family: arial\, helvetica\, sans-serif\; f
 ont-size: 12pt\; color: #000000\;'>On June 15\, several notable historical
  events have occurred in Missouri\, based on available records:</span></p>
 \n<ul>\n<li><span style='font-family: arial\, helvetica\, sans-serif\; fon
 t-size: 12pt\; color: #000000\;'>1820: Missouri's first constitutional con
 vention convened in St. Louis to draft a state constitution\, a key step t
 oward Missouri's admission to the Union as a state in 1821.</span></li>\n<
 li><span style='font-family: arial\, helvetica\, sans-serif\; font-size: 1
 2pt\; color: #000000\;'>1861: During the Civil War\, Union General Nathani
 el Lyon captured Jefferson City\, Missouri's capital\, without resistance\
 , securing control of the state government for the Union.</span></li>\n<li
 ><span style='font-family: arial\, helvetica\, sans-serif\; font-size: 12p
 t\; color: #000000\;'>1904: The St. Louis World's Fair\, officially known 
 as the Louisiana Purchase Exposition\, was in full swing on June 15\, show
 casing Missouri's role as a cultural and economic hub. While no specific e
 vent is tied to this exact date\, the fair itself was a significant moment
  in Missouri's history\, drawing millions to St. Louis.</span></li>\n</ul>
DTSTART;TZID=America/Chicago:20250615T000000
DTEND;TZID=America/Chicago:20250615T235959
RRULE:FREQ=YEARLY;COUNT=3;INTERVAL=1
SUMMARY:June 15th This Day in Missouri
URL:https://mail.taneycountyrepublicans.org/odds-n-ends/this-week-in-missou
 ri/24-this-day-in-missouri/1594-june-15th-this-day-in-missouri.html
X-ALT-DESC;FMTTYPE=TEXT/HTML:<p><span style='font-family: arial\, helvetica
 \, sans-serif\; font-size: 12pt\; color: #000000\;'>On June 15\, several n
 otable historical events have occurred in Missouri\, based on available re
 cords:</span></p>\n<ul>\n<li><span style='font-family: arial\, helvetica\,
  sans-serif\; font-size: 12pt\; color: #000000\;'>1820: Missouri's first c
 onstitutional convention convened in St. Louis to draft a state constituti
 on\, a key step toward Missouri's admission to the Union as a state in 182
 1.</span></li>\n<li><span style='font-family: arial\, helvetica\, sans-ser
 if\; font-size: 12pt\; color: #000000\;'>1861: During the Civil War\, Unio
 n General Nathaniel Lyon captured Jefferson City\, Missouri's capital\, wi
 thout resistance\, securing control of the state government for the Union.
 </span></li>\n<li><span style='font-family: arial\, helvetica\, sans-serif
 \; font-size: 12pt\; color: #000000\;'>1904: The St. Louis World's Fair\, 
 officially known as the Louisiana Purchase Exposition\, was in full swing 
 on June 15\, showcasing Missouri's role as a cultural and economic hub. Wh
 ile no specific event is tied to this exact date\, the fair itself was a s
 ignificant moment in Missouri's history\, drawing millions to St. Louis.</
 span></li>\n</ul>
END:VEVENT
BEGIN:VEVENT
UID:20250616T080000UTC-6564r1xard@https://taneycountyrepublicans.org/
DTSTAMP:20260422T135314Z
CATEGORIES:This Day in Missouri
DESCRIPTION:<p><span style='color: #000000\; font-family: arial\, helvetica
 \, sans-serif\; font-size: 12pt\;'>On June 16\, several notable historical
  events have occurred in Missouri\, based on available records:</span></p>
 \n<ul>\n<li><span style='color: #000000\; font-family: arial\, helvetica\,
  sans-serif\; font-size: 12pt\;'>1822: The first steamboat\, the Western E
 ngineer\, arrived in St. Joseph\, Missouri. Designed by Henry M. Shreve\, 
 it revolutionized transportation on the Missouri River\, facilitating trad
 e and settlement in the region.</span></li>\n<li><span style='color: #0000
 00\; font-family: arial\, helvetica\, sans-serif\; font-size: 12pt\;'>1933
 : Missouri became the first U.S. state to enact a sales tax\, set at one p
 ercent\, to generate revenue during the Great Depression.</span></li>\n<li
 >\n<p><span style='font-family: arial\, helvetica\, sans-serif\; font-size
 : 12pt\; color: #000000\;'>1967: The Gateway Arch in St. Louis was complet
 ed. Designed by Eero Saarinen\, this 630-foot monument\, the tallest arch 
 in the world\, commemorates St. Louis’ role as the “Gateway to the West.”<
 /span></p>\n</li>\n</ul>
DTSTART;TZID=America/Chicago:20250616T000000
DTEND;TZID=America/Chicago:20250616T235959
RRULE:FREQ=YEARLY;COUNT=3;INTERVAL=1
SUMMARY:June 16th This Day in Missouri
URL:https://mail.taneycountyrepublicans.org/odds-n-ends/this-week-in-missou
 ri/24-this-day-in-missouri/1593-june-16th-this-day-in-missouri.html
X-ALT-DESC;FMTTYPE=TEXT/HTML:<p><span style='color: #000000\; font-family: 
 arial\, helvetica\, sans-serif\; font-size: 12pt\;'>On June 16\, several n
 otable historical events have occurred in Missouri\, based on available re
 cords:</span></p>\n<ul>\n<li><span style='color: #000000\; font-family: ar
 ial\, helvetica\, sans-serif\; font-size: 12pt\;'>1822: The first steamboa
 t\, the Western Engineer\, arrived in St. Joseph\, Missouri. Designed by H
 enry M. Shreve\, it revolutionized transportation on the Missouri River\, 
 facilitating trade and settlement in the region.</span></li>\n<li><span st
 yle='color: #000000\; font-family: arial\, helvetica\, sans-serif\; font-s
 ize: 12pt\;'>1933: Missouri became the first U.S. state to enact a sales t
 ax\, set at one percent\, to generate revenue during the Great Depression.
 </span></li>\n<li>\n<p><span style='font-family: arial\, helvetica\, sans-
 serif\; font-size: 12pt\; color: #000000\;'>1967: The Gateway Arch in St. 
 Louis was completed. Designed by Eero Saarinen\, this 630-foot monument\, 
 the tallest arch in the world\, commemorates St. Louis’ role as the “Gatew
 ay to the West.”</span></p>\n</li>\n</ul>
END:VEVENT
BEGIN:VEVENT
UID:20250617T000000UTC-2324Pfgj5s@https://taneycountyrepublicans.org/
DTSTAMP:20260422T135314Z
CATEGORIES:This Day in Missouri
DESCRIPTION:<p><span style='font-family: arial\, helvetica\, sans-serif\; f
 ont-size: 12pt\; color: #000000\;'>On June 17\, the following notable hist
 orical events related to Missouri have been recorded:</span></p>\n<ul>\n<l
 i><span style='font-family: arial\, helvetica\, sans-serif\; font-size: 12
 pt\; color: #000000\;'>1871: The Great Chicago Fire's aftermath indirectly
  impacted Missouri\, as St. Louis became a key supplier of goods and mater
 ials for Chicago's reconstruction. While the fire itself occurred later\, 
 on June 17\, 1871\, St. Louis merchants were already positioning themselve
 s as critical players in regional trade\, a role solidified post-fire.</sp
 an></li>\n<li><span style='font-family: arial\, helvetica\, sans-serif\; f
 ont-size: 12pt\; color: #000000\;'>1969: The St. Louis Cardinals played a 
 significant game at Busch Stadium\, defeating the Pittsburgh Pirates. This
  victory was part of their 1960s dominance\, showcasing St. Louis as a maj
 or sports hub.</span></li>\n</ul>
DTSTART;TZID=America/Chicago:20250617T000000
DTEND;TZID=America/Chicago:20250617T235959
RRULE:FREQ=YEARLY;COUNT=3;INTERVAL=1
SUMMARY:June 17th This Day in Missouri
URL:https://mail.taneycountyrepublicans.org/odds-n-ends/this-week-in-missou
 ri/24-this-day-in-missouri/1599-june-17th-this-day-in-missouri.html
X-ALT-DESC;FMTTYPE=TEXT/HTML:<p><span style='font-family: arial\, helvetica
 \, sans-serif\; font-size: 12pt\; color: #000000\;'>On June 17\, the follo
 wing notable historical events related to Missouri have been recorded:</sp
 an></p>\n<ul>\n<li><span style='font-family: arial\, helvetica\, sans-seri
 f\; font-size: 12pt\; color: #000000\;'>1871: The Great Chicago Fire's aft
 ermath indirectly impacted Missouri\, as St. Louis became a key supplier o
 f goods and materials for Chicago's reconstruction. While the fire itself 
 occurred later\, on June 17\, 1871\, St. Louis merchants were already posi
 tioning themselves as critical players in regional trade\, a role solidifi
 ed post-fire.</span></li>\n<li><span style='font-family: arial\, helvetica
 \, sans-serif\; font-size: 12pt\; color: #000000\;'>1969: The St. Louis Ca
 rdinals played a significant game at Busch Stadium\, defeating the Pittsbu
 rgh Pirates. This victory was part of their 1960s dominance\, showcasing S
 t. Louis as a major sports hub.</span></li>\n</ul>
END:VEVENT
BEGIN:VEVENT
UID:20250618T000000UTC-3748hDffEU@https://taneycountyrepublicans.org/
DTSTAMP:20260422T135314Z
CATEGORIES:This Day in Missouri
DESCRIPTION:<p><span style='font-family: arial\, helvetica\, sans-serif\; f
 ont-size: 12pt\; color: #000000\;'>On June 18\, the following notable hist
 orical events related to Missouri have been recorded:</span></p>\n<ul>\n<l
 i><span style='font-family: arial\, helvetica\, sans-serif\; font-size: 12
 pt\; color: #000000\;'>1812: The War of 1812 began with the U.S. declarati
 on of war against Britain. Missouri\, then a territory\, played a role as 
 a frontier region\, with conflicts involving Native American tribes allied
  with the British\, particularly in the St. Louis area.</span></li>\n<li><
 span style='font-family: arial\, helvetica\, sans-serif\; font-size: 12pt\
 ; color: #000000\;'>1874: The St. Louis Browns\, a precursor to the modern
  St. Louis Cardinals\, played one of their earliest professional baseball 
 games\, marking the city's growing prominence in American sports.</span></
 li>\n<li><span style='font-family: arial\, helvetica\, sans-serif\; font-s
 ize: 12pt\; color: #000000\;'>1942: During World War II\, the Weldon Sprin
 g Ordnance Works in St. Charles County\, Missouri\, began operations. This
  massive facility produced explosives\, contributing significantly to the 
 war effort.</span></li>\n</ul>
DTSTART;TZID=America/Chicago:20250618T000000
DTEND;TZID=America/Chicago:20250618T235959
RRULE:FREQ=YEARLY;COUNT=3;INTERVAL=1
SUMMARY:June 18th This Day in Missouri
URL:https://mail.taneycountyrepublicans.org/odds-n-ends/this-week-in-missou
 ri/24-this-day-in-missouri/1604-june-18th-this-day-in-missouri.html
X-ALT-DESC;FMTTYPE=TEXT/HTML:<p><span style='font-family: arial\, helvetica
 \, sans-serif\; font-size: 12pt\; color: #000000\;'>On June 18\, the follo
 wing notable historical events related to Missouri have been recorded:</sp
 an></p>\n<ul>\n<li><span style='font-family: arial\, helvetica\, sans-seri
 f\; font-size: 12pt\; color: #000000\;'>1812: The War of 1812 began with t
 he U.S. declaration of war against Britain. Missouri\, then a territory\, 
 played a role as a frontier region\, with conflicts involving Native Ameri
 can tribes allied with the British\, particularly in the St. Louis area.</
 span></li>\n<li><span style='font-family: arial\, helvetica\, sans-serif\;
  font-size: 12pt\; color: #000000\;'>1874: The St. Louis Browns\, a precur
 sor to the modern St. Louis Cardinals\, played one of their earliest profe
 ssional baseball games\, marking the city's growing prominence in American
  sports.</span></li>\n<li><span style='font-family: arial\, helvetica\, sa
 ns-serif\; font-size: 12pt\; color: #000000\;'>1942: During World War II\,
  the Weldon Spring Ordnance Works in St. Charles County\, Missouri\, began
  operations. This massive facility produced explosives\, contributing sign
 ificantly to the war effort.</span></li>\n</ul>
END:VEVENT
BEGIN:VEVENT
UID:20250619T000000UTC-1296veboOv@https://taneycountyrepublicans.org/
DTSTAMP:20260422T135314Z
CATEGORIES:This Day in Missouri
DESCRIPTION:<p><span style='font-family: arial\, helvetica\, sans-serif\; f
 ont-size: 12pt\; color: #000000\;'>On June 19\, the following notable hist
 orical events related to Missouri have been recorded:</span></p>\n<ul>\n<l
 i><span style='font-family: arial\, helvetica\, sans-serif\; font-size: 12
 pt\; color: #000000\;'>1861: During the Civil War\, the Battle of Cole Cam
 p occurred in Benton County\, Missouri. Confederate sympathizers attacked 
 a Union encampment\, resulting in a Confederate victory. This skirmish was
  part of the early struggles for control of Missouri during the war.</span
 ></li>\n<li><span style='font-family: arial\, helvetica\, sans-serif\; fon
 t-size: 12pt\; color: #000000\;'>1865: Juneteenth\, marking the emancipati
 on of enslaved African Americans\, was celebrated in Missouri and other st
 ates. While the official announcement of emancipation in Texas occurred on
  June 19\, 1865\, Missouri had abolished slavery earlier that year on Janu
 ary 11\, 1865\, through a state ordinance. Celebrations of freedom on this
  date still resonated in Missouri communities.</span></li>\n<li><span styl
 e='font-family: arial\, helvetica\, sans-serif\; font-size: 12pt\; color: 
 #000000\;'>1964: The Civil Rights Act of 1964 was under intense debate in 
 the U.S. Senate\, with Missouri Senator Thomas Eagleton playing a key role
  in supporting its passage. While the act was signed later\, on July 2\, d
 iscussions and negotiations on June 19 were pivotal\, reflecting Missouri’
 s involvement in national civil rights advancements.</span></li>\n</ul>
DTSTART;TZID=America/Chicago:20250619T000000
DTEND;TZID=America/Chicago:20250619T235959
RRULE:FREQ=YEARLY;COUNT=3;INTERVAL=1
SUMMARY:June 19th This Day in Missouri
URL:https://mail.taneycountyrepublicans.org/odds-n-ends/this-week-in-missou
 ri/24-this-day-in-missouri/1607-june-19th-this-day-in-missouri.html
X-ALT-DESC;FMTTYPE=TEXT/HTML:<p><span style='font-family: arial\, helvetica
 \, sans-serif\; font-size: 12pt\; color: #000000\;'>On June 19\, the follo
 wing notable historical events related to Missouri have been recorded:</sp
 an></p>\n<ul>\n<li><span style='font-family: arial\, helvetica\, sans-seri
 f\; font-size: 12pt\; color: #000000\;'>1861: During the Civil War\, the B
 attle of Cole Camp occurred in Benton County\, Missouri. Confederate sympa
 thizers attacked a Union encampment\, resulting in a Confederate victory. 
 This skirmish was part of the early struggles for control of Missouri duri
 ng the war.</span></li>\n<li><span style='font-family: arial\, helvetica\,
  sans-serif\; font-size: 12pt\; color: #000000\;'>1865: Juneteenth\, marki
 ng the emancipation of enslaved African Americans\, was celebrated in Miss
 ouri and other states. While the official announcement of emancipation in 
 Texas occurred on June 19\, 1865\, Missouri had abolished slavery earlier 
 that year on January 11\, 1865\, through a state ordinance. Celebrations o
 f freedom on this date still resonated in Missouri communities.</span></li
 >\n<li><span style='font-family: arial\, helvetica\, sans-serif\; font-siz
 e: 12pt\; color: #000000\;'>1964: The Civil Rights Act of 1964 was under i
 ntense debate in the U.S. Senate\, with Missouri Senator Thomas Eagleton p
 laying a key role in supporting its passage. While the act was signed late
 r\, on July 2\, discussions and negotiations on June 19 were pivotal\, ref
 lecting Missouri’s involvement in national civil rights advancements.</spa
 n></li>\n</ul>
END:VEVENT
BEGIN:VEVENT
UID:20250620T000000UTC-4035S9nzuZ@https://taneycountyrepublicans.org/
DTSTAMP:20260422T135314Z
CATEGORIES:This Day in Missouri
DESCRIPTION:<p><span style='font-family: arial\, helvetica\, sans-serif\; f
 ont-size: 12pt\; color: #000000\;'>On June 20\, the following notable hist
 orical events related to Missouri have been recorded:</span></p>\n<ul>\n<l
 i><span style='font-family: arial\, helvetica\, sans-serif\; font-size: 12
 pt\; color: #000000\;'>1820: The Missouri Compromise\, which balanced the 
 admission of Missouri as a slave state with Maine as a free state\, was a 
 significant topic of discussion around this time\, though not specifically
  finalized on June 20. On this date\, Missouri's territorial leaders were 
 actively preparing for statehood\, with debates over slavery intensifying 
 in St. Louis and beyond.</span></li>\n<li><span style='font-family: arial\
 , helvetica\, sans-serif\; font-size: 12pt\; color: #000000\;'>1863: Durin
 g the Civil War\, Confederate guerrillas\, including those led by William 
 Quantrill\, were active in Missouri. While no major battle is recorded for
  June 20 specifically\, skirmishes and raids were common in Missouri durin
 g this period\, contributing to the state's volatile role in the conflict.
 </span></li>\n<li><span style='font-family: arial\, helvetica\, sans-serif
 \; font-size: 12pt\; color: #000000\;'>1904: The St. Louis World's Fair\, 
 or Louisiana Purchase Exposition\, was ongoing\, with June 20 being a nota
 ble day for exhibitions and cultural displays. The fair highlighted Missou
 ri's economic and cultural prominence\, attracting global attention to St.
  Louis.</span></li>\n</ul>
DTSTART;TZID=America/Chicago:20250620T000000
DTEND;TZID=America/Chicago:20250620T235959
RRULE:FREQ=YEARLY;COUNT=3;INTERVAL=1
SUMMARY:June 20th This Day in Missouri
URL:https://mail.taneycountyrepublicans.org/odds-n-ends/this-week-in-missou
 ri/24-this-day-in-missouri/1610-june-20th-this-day-in-missouri.html
X-ALT-DESC;FMTTYPE=TEXT/HTML:<p><span style='font-family: arial\, helvetica
 \, sans-serif\; font-size: 12pt\; color: #000000\;'>On June 20\, the follo
 wing notable historical events related to Missouri have been recorded:</sp
 an></p>\n<ul>\n<li><span style='font-family: arial\, helvetica\, sans-seri
 f\; font-size: 12pt\; color: #000000\;'>1820: The Missouri Compromise\, wh
 ich balanced the admission of Missouri as a slave state with Maine as a fr
 ee state\, was a significant topic of discussion around this time\, though
  not specifically finalized on June 20. On this date\, Missouri's territor
 ial leaders were actively preparing for statehood\, with debates over slav
 ery intensifying in St. Louis and beyond.</span></li>\n<li><span style='fo
 nt-family: arial\, helvetica\, sans-serif\; font-size: 12pt\; color: #0000
 00\;'>1863: During the Civil War\, Confederate guerrillas\, including thos
 e led by William Quantrill\, were active in Missouri. While no major battl
 e is recorded for June 20 specifically\, skirmishes and raids were common 
 in Missouri during this period\, contributing to the state's volatile role
  in the conflict.</span></li>\n<li><span style='font-family: arial\, helve
 tica\, sans-serif\; font-size: 12pt\; color: #000000\;'>1904: The St. Loui
 s World's Fair\, or Louisiana Purchase Exposition\, was ongoing\, with Jun
 e 20 being a notable day for exhibitions and cultural displays. The fair h
 ighlighted Missouri's economic and cultural prominence\, attracting global
  attention to St. Louis.</span></li>\n</ul>
END:VEVENT
BEGIN:VEVENT
UID:20250621T000000UTC-1528uegrXv@https://taneycountyrepublicans.org/
DTSTAMP:20260422T135314Z
CATEGORIES:This Day in Missouri
DESCRIPTION:<p><span style='font-family: arial\, helvetica\, sans-serif\; f
 ont-size: 12pt\; color: #000000\;'>On June 21\, the following notable hist
 orical events related to Missouri have been recorded:</span></p>\n<ul>\n<l
 i><span style='font-family: arial\, helvetica\, sans-serif\; font-size: 12
 pt\; color: #000000\;'>1818: The steamboat Independence became one of the 
 first to navigate the Missouri River\, reaching Franklin\, Missouri\, arou
 nd this date. This marked a significant advancement in transportation and 
 commerce for the Missouri Territory\, boosting settlement and trade.</span
 ></li>\n<li><span style='font-family: arial\, helvetica\, sans-serif\; fon
 t-size: 12pt\; color: #000000\;'>1861: During the Civil War\, pro-Union an
 d pro-Confederate factions in Missouri were engaged in ongoing tensions. W
 hile no specific battle occurred on June 21\, this date falls within the p
 eriod of the 'Camp Jackson Affair' aftermath\, where St. Louis was a focal
  point of conflict between Union forces and secessionist militias.</span><
 /li>\n<li><span style='font-family: arial\, helvetica\, sans-serif\; font-
 size: 12pt\; color: #000000\;'>2004: The St. Louis Cardinals played a nota
 ble game against the Chicago Cubs at Busch Stadium\, with Albert Pujols hi
 tting a key home run\, contributing to a Cardinals victory. This game was 
 part of their successful 2004 season\, which saw them reach the World Seri
 es.</span></li>\n</ul>
DTSTART;TZID=America/Chicago:20250621T000000
DTEND;TZID=America/Chicago:20250621T235959
RRULE:FREQ=YEARLY;COUNT=3;INTERVAL=1
SUMMARY:June 21st This Day in Missouri
URL:https://mail.taneycountyrepublicans.org/odds-n-ends/this-week-in-missou
 ri/24-this-day-in-missouri/1613-june-21st-this-day-in-missouri.html
X-ALT-DESC;FMTTYPE=TEXT/HTML:<p><span style='font-family: arial\, helvetica
 \, sans-serif\; font-size: 12pt\; color: #000000\;'>On June 21\, the follo
 wing notable historical events related to Missouri have been recorded:</sp
 an></p>\n<ul>\n<li><span style='font-family: arial\, helvetica\, sans-seri
 f\; font-size: 12pt\; color: #000000\;'>1818: The steamboat Independence b
 ecame one of the first to navigate the Missouri River\, reaching Franklin\
 , Missouri\, around this date. This marked a significant advancement in tr
 ansportation and commerce for the Missouri Territory\, boosting settlement
  and trade.</span></li>\n<li><span style='font-family: arial\, helvetica\,
  sans-serif\; font-size: 12pt\; color: #000000\;'>1861: During the Civil W
 ar\, pro-Union and pro-Confederate factions in Missouri were engaged in on
 going tensions. While no specific battle occurred on June 21\, this date f
 alls within the period of the 'Camp Jackson Affair' aftermath\, where St. 
 Louis was a focal point of conflict between Union forces and secessionist 
 militias.</span></li>\n<li><span style='font-family: arial\, helvetica\, s
 ans-serif\; font-size: 12pt\; color: #000000\;'>2004: The St. Louis Cardin
 als played a notable game against the Chicago Cubs at Busch Stadium\, with
  Albert Pujols hitting a key home run\, contributing to a Cardinals victor
 y. This game was part of their successful 2004 season\, which saw them rea
 ch the World Series.</span></li>\n</ul>
END:VEVENT
END:VCALENDAR
